BEGIN:VCALENDAR
VERSION:2.0
PRODID:-// - ECPv6.15.20//NONSGML v1.0//EN
CALSCALE:GREGORIAN
METHOD:PUBLISH
X-ORIGINAL-URL:https://laseva.org
X-WR-CALDESC:Events for 
REFRESH-INTERVAL;VALUE=DURATION:PT1H
X-Robots-Tag:noindex
X-PUBLISHED-TTL:PT1H
BEGIN:VTIMEZONE
TZID:America/New_York
BEGIN:DAYLIGHT
TZOFFSETFROM:-0500
TZOFFSETTO:-0400
TZNAME:EDT
DTSTART:20250309T070000
END:DAYLIGHT
BEGIN:STANDARD
TZOFFSETFROM:-0400
TZOFFSETTO:-0500
TZNAME:EST
DTSTART:20251102T060000
END:STANDARD
BEGIN:DAYLIGHT
TZOFFSETFROM:-0500
TZOFFSETTO:-0400
TZNAME:EDT
DTSTART:20260308T070000
END:DAYLIGHT
BEGIN:STANDARD
TZOFFSETFROM:-0400
TZOFFSETTO:-0500
TZNAME:EST
DTSTART:20261101T060000
END:STANDARD
BEGIN:DAYLIGHT
TZOFFSETFROM:-0500
TZOFFSETTO:-0400
TZNAME:EDT
DTSTART:20270314T070000
END:DAYLIGHT
BEGIN:STANDARD
TZOFFSETFROM:-0400
TZOFFSETTO:-0500
TZNAME:EST
DTSTART:20271107T060000
END:STANDARD
BEGIN:DAYLIGHT
TZOFFSETFROM:-0500
TZOFFSETTO:-0400
TZNAME:EDT
DTSTART:20280312T070000
END:DAYLIGHT
BEGIN:STANDARD
TZOFFSETFROM:-0400
TZOFFSETTO:-0500
TZNAME:EST
DTSTART:20281105T060000
END:STANDARD
END:VTIMEZONE
BEGIN:VEVENT
DTSTART;TZID=America/New_York:20260423T133000
DTEND;TZID=America/New_York:20260423T153000
DTSTAMP:20260420T050730
CREATED:20250630T142635Z
LAST-MODIFIED:20250801T191259Z
UID:10001988-1776951000-1776958200@laseva.org
SUMMARY:Young Terrace Community Center
DESCRIPTION:A member of the LASEV Community Support Team will be available to take applications for service and share information about upcoming events. \n\n\n	Related
URL:https://laseva.org/event/young-terrace-community-center/2026-04-23/
LOCATION:Young Terrace Community Center\, 804 Whitaker Ln\, Norfolk\, VA\, 23510
CATEGORIES:Outreach
END:VEVENT
BEGIN:VEVENT
DTSTART;TZID=America/New_York:20260521T133000
DTEND;TZID=America/New_York:20260521T153000
DTSTAMP:20260420T050730
CREATED:20250801T191406Z
LAST-MODIFIED:20250801T191406Z
UID:10002111-1779370200-1779377400@laseva.org
SUMMARY:Young Terrace Community Center
DESCRIPTION:A member of the LASEV Community Support Team will be available to take applications for service and share information about upcoming events. \n\n\n	Related
URL:https://laseva.org/event/young-terrace-community-center-2/2026-05-21/
LOCATION:Young Terrace Community Center\, 804 Whitaker Ln\, Norfolk\, VA\, 23510
CATEGORIES:Outreach
END:VEVENT
BEGIN:VEVENT
DTSTART;TZID=America/New_York:20260528T133000
DTEND;TZID=America/New_York:20260528T153000
DTSTAMP:20260420T050730
CREATED:20250630T142635Z
LAST-MODIFIED:20250801T191259Z
UID:10001989-1779975000-1779982200@laseva.org
SUMMARY:Young Terrace Community Center
DESCRIPTION:A member of the LASEV Community Support Team will be available to take applications for service and share information about upcoming events. \n\n\n	Related
URL:https://laseva.org/event/young-terrace-community-center/2026-05-28/
LOCATION:Young Terrace Community Center\, 804 Whitaker Ln\, Norfolk\, VA\, 23510
CATEGORIES:Outreach
END:VEVENT
BEGIN:VEVENT
DTSTART;TZID=America/New_York:20260618T133000
DTEND;TZID=America/New_York:20260618T153000
DTSTAMP:20260420T050730
CREATED:20250801T191406Z
LAST-MODIFIED:20250801T191406Z
UID:10002112-1781789400-1781796600@laseva.org
SUMMARY:Young Terrace Community Center
DESCRIPTION:A member of the LASEV Community Support Team will be available to take applications for service and share information about upcoming events. \n\n\n	Related
URL:https://laseva.org/event/young-terrace-community-center-2/2026-06-18/
LOCATION:Young Terrace Community Center\, 804 Whitaker Ln\, Norfolk\, VA\, 23510
CATEGORIES:Outreach
END:VEVENT
BEGIN:VEVENT
DTSTART;TZID=America/New_York:20260625T133000
DTEND;TZID=America/New_York:20260625T153000
DTSTAMP:20260420T050730
CREATED:20250630T142635Z
LAST-MODIFIED:20250801T191259Z
UID:10001990-1782394200-1782401400@laseva.org
SUMMARY:Young Terrace Community Center
DESCRIPTION:A member of the LASEV Community Support Team will be available to take applications for service and share information about upcoming events. \n\n\n	Related
URL:https://laseva.org/event/young-terrace-community-center/2026-06-25/
LOCATION:Young Terrace Community Center\, 804 Whitaker Ln\, Norfolk\, VA\, 23510
CATEGORIES:Outreach
END:VEVENT
BEGIN:VEVENT
DTSTART;TZID=America/New_York:20260716T133000
DTEND;TZID=America/New_York:20260716T153000
DTSTAMP:20260420T050730
CREATED:20250801T191406Z
LAST-MODIFIED:20250801T191406Z
UID:10002113-1784208600-1784215800@laseva.org
SUMMARY:Young Terrace Community Center
DESCRIPTION:A member of the LASEV Community Support Team will be available to take applications for service and share information about upcoming events. \n\n\n	Related
URL:https://laseva.org/event/young-terrace-community-center-2/2026-07-16/
LOCATION:Young Terrace Community Center\, 804 Whitaker Ln\, Norfolk\, VA\, 23510
CATEGORIES:Outreach
END:VEVENT
BEGIN:VEVENT
DTSTART;TZID=America/New_York:20260723T133000
DTEND;TZID=America/New_York:20260723T153000
DTSTAMP:20260420T050730
CREATED:20250630T142635Z
LAST-MODIFIED:20250801T191259Z
UID:10001991-1784813400-1784820600@laseva.org
SUMMARY:Young Terrace Community Center
DESCRIPTION:A member of the LASEV Community Support Team will be available to take applications for service and share information about upcoming events. \n\n\n	Related
URL:https://laseva.org/event/young-terrace-community-center/2026-07-23/
LOCATION:Young Terrace Community Center\, 804 Whitaker Ln\, Norfolk\, VA\, 23510
CATEGORIES:Outreach
END:VEVENT
BEGIN:VEVENT
DTSTART;TZID=America/New_York:20260820T133000
DTEND;TZID=America/New_York:20260820T153000
DTSTAMP:20260420T050730
CREATED:20250801T191406Z
LAST-MODIFIED:20250801T191406Z
UID:10002114-1787232600-1787239800@laseva.org
SUMMARY:Young Terrace Community Center
DESCRIPTION:A member of the LASEV Community Support Team will be available to take applications for service and share information about upcoming events. \n\n\n	Related
URL:https://laseva.org/event/young-terrace-community-center-2/2026-08-20/
LOCATION:Young Terrace Community Center\, 804 Whitaker Ln\, Norfolk\, VA\, 23510
CATEGORIES:Outreach
END:VEVENT
BEGIN:VEVENT
DTSTART;TZID=America/New_York:20260827T133000
DTEND;TZID=America/New_York:20260827T153000
DTSTAMP:20260420T050730
CREATED:20250630T142635Z
LAST-MODIFIED:20250801T191259Z
UID:10001992-1787837400-1787844600@laseva.org
SUMMARY:Young Terrace Community Center
DESCRIPTION:A member of the LASEV Community Support Team will be available to take applications for service and share information about upcoming events. \n\n\n	Related
URL:https://laseva.org/event/young-terrace-community-center/2026-08-27/
LOCATION:Young Terrace Community Center\, 804 Whitaker Ln\, Norfolk\, VA\, 23510
CATEGORIES:Outreach
END:VEVENT
BEGIN:VEVENT
DTSTART;TZID=America/New_York:20260917T133000
DTEND;TZID=America/New_York:20260917T153000
DTSTAMP:20260420T050730
CREATED:20250801T191406Z
LAST-MODIFIED:20250801T191406Z
UID:10002115-1789651800-1789659000@laseva.org
SUMMARY:Young Terrace Community Center
DESCRIPTION:A member of the LASEV Community Support Team will be available to take applications for service and share information about upcoming events. \n\n\n	Related
URL:https://laseva.org/event/young-terrace-community-center-2/2026-09-17/
LOCATION:Young Terrace Community Center\, 804 Whitaker Ln\, Norfolk\, VA\, 23510
CATEGORIES:Outreach
END:VEVENT
BEGIN:VEVENT
DTSTART;TZID=America/New_York:20260924T133000
DTEND;TZID=America/New_York:20260924T153000
DTSTAMP:20260420T050730
CREATED:20250630T142635Z
LAST-MODIFIED:20250801T191259Z
UID:10001993-1790256600-1790263800@laseva.org
SUMMARY:Young Terrace Community Center
DESCRIPTION:A member of the LASEV Community Support Team will be available to take applications for service and share information about upcoming events. \n\n\n	Related
URL:https://laseva.org/event/young-terrace-community-center/2026-09-24/
LOCATION:Young Terrace Community Center\, 804 Whitaker Ln\, Norfolk\, VA\, 23510
CATEGORIES:Outreach
END:VEVENT
BEGIN:VEVENT
DTSTART;TZID=America/New_York:20261015T133000
DTEND;TZID=America/New_York:20261015T153000
DTSTAMP:20260420T050730
CREATED:20250801T191406Z
LAST-MODIFIED:20250801T191406Z
UID:10002116-1792071000-1792078200@laseva.org
SUMMARY:Young Terrace Community Center
DESCRIPTION:A member of the LASEV Community Support Team will be available to take applications for service and share information about upcoming events. \n\n\n	Related
URL:https://laseva.org/event/young-terrace-community-center-2/2026-10-15/
LOCATION:Young Terrace Community Center\, 804 Whitaker Ln\, Norfolk\, VA\, 23510
CATEGORIES:Outreach
END:VEVENT
BEGIN:VEVENT
DTSTART;TZID=America/New_York:20261022T133000
DTEND;TZID=America/New_York:20261022T153000
DTSTAMP:20260420T050730
CREATED:20250630T142635Z
LAST-MODIFIED:20250801T191259Z
UID:10001994-1792675800-1792683000@laseva.org
SUMMARY:Young Terrace Community Center
DESCRIPTION:A member of the LASEV Community Support Team will be available to take applications for service and share information about upcoming events. \n\n\n	Related
URL:https://laseva.org/event/young-terrace-community-center/2026-10-22/
LOCATION:Young Terrace Community Center\, 804 Whitaker Ln\, Norfolk\, VA\, 23510
CATEGORIES:Outreach
END:VEVENT
BEGIN:VEVENT
DTSTART;TZID=America/New_York:20261119T133000
DTEND;TZID=America/New_York:20261119T153000
DTSTAMP:20260420T050730
CREATED:20250801T191406Z
LAST-MODIFIED:20250801T191406Z
UID:10002117-1795095000-1795102200@laseva.org
SUMMARY:Young Terrace Community Center
DESCRIPTION:A member of the LASEV Community Support Team will be available to take applications for service and share information about upcoming events. \n\n\n	Related
URL:https://laseva.org/event/young-terrace-community-center-2/2026-11-19/
LOCATION:Young Terrace Community Center\, 804 Whitaker Ln\, Norfolk\, VA\, 23510
CATEGORIES:Outreach
END:VEVENT
BEGIN:VEVENT
DTSTART;TZID=America/New_York:20261126T133000
DTEND;TZID=America/New_York:20261126T153000
DTSTAMP:20260420T050730
CREATED:20250630T142635Z
LAST-MODIFIED:20250801T191259Z
UID:10001995-1795699800-1795707000@laseva.org
SUMMARY:Young Terrace Community Center
DESCRIPTION:A member of the LASEV Community Support Team will be available to take applications for service and share information about upcoming events. \n\n\n	Related
URL:https://laseva.org/event/young-terrace-community-center/2026-11-26/
LOCATION:Young Terrace Community Center\, 804 Whitaker Ln\, Norfolk\, VA\, 23510
CATEGORIES:Outreach
END:VEVENT
BEGIN:VEVENT
DTSTART;TZID=America/New_York:20261217T133000
DTEND;TZID=America/New_York:20261217T153000
DTSTAMP:20260420T050730
CREATED:20250801T191406Z
LAST-MODIFIED:20250801T191406Z
UID:10002118-1797514200-1797521400@laseva.org
SUMMARY:Young Terrace Community Center
DESCRIPTION:A member of the LASEV Community Support Team will be available to take applications for service and share information about upcoming events. \n\n\n	Related
URL:https://laseva.org/event/young-terrace-community-center-2/2026-12-17/
LOCATION:Young Terrace Community Center\, 804 Whitaker Ln\, Norfolk\, VA\, 23510
CATEGORIES:Outreach
END:VEVENT
BEGIN:VEVENT
DTSTART;TZID=America/New_York:20261224T133000
DTEND;TZID=America/New_York:20261224T153000
DTSTAMP:20260420T050730
CREATED:20250630T142635Z
LAST-MODIFIED:20250801T191259Z
UID:10001996-1798119000-1798126200@laseva.org
SUMMARY:Young Terrace Community Center
DESCRIPTION:A member of the LASEV Community Support Team will be available to take applications for service and share information about upcoming events. \n\n\n	Related
URL:https://laseva.org/event/young-terrace-community-center/2026-12-24/
LOCATION:Young Terrace Community Center\, 804 Whitaker Ln\, Norfolk\, VA\, 23510
CATEGORIES:Outreach
END:VEVENT
BEGIN:VEVENT
DTSTART;TZID=America/New_York:20270121T133000
DTEND;TZID=America/New_York:20270121T153000
DTSTAMP:20260420T050730
CREATED:20250801T191406Z
LAST-MODIFIED:20250801T191406Z
UID:10002119-1800538200-1800545400@laseva.org
SUMMARY:Young Terrace Community Center
DESCRIPTION:A member of the LASEV Community Support Team will be available to take applications for service and share information about upcoming events. \n\n\n	Related
URL:https://laseva.org/event/young-terrace-community-center-2/2027-01-21/
LOCATION:Young Terrace Community Center\, 804 Whitaker Ln\, Norfolk\, VA\, 23510
CATEGORIES:Outreach
END:VEVENT
BEGIN:VEVENT
DTSTART;TZID=America/New_York:20270128T133000
DTEND;TZID=America/New_York:20270128T153000
DTSTAMP:20260420T050730
CREATED:20250630T142635Z
LAST-MODIFIED:20250801T191259Z
UID:10001997-1801143000-1801150200@laseva.org
SUMMARY:Young Terrace Community Center
DESCRIPTION:A member of the LASEV Community Support Team will be available to take applications for service and share information about upcoming events. \n\n\n	Related
URL:https://laseva.org/event/young-terrace-community-center/2027-01-28/
LOCATION:Young Terrace Community Center\, 804 Whitaker Ln\, Norfolk\, VA\, 23510
CATEGORIES:Outreach
END:VEVENT
BEGIN:VEVENT
DTSTART;TZID=America/New_York:20270218T133000
DTEND;TZID=America/New_York:20270218T153000
DTSTAMP:20260420T050730
CREATED:20250801T191406Z
LAST-MODIFIED:20250801T191406Z
UID:10002120-1802957400-1802964600@laseva.org
SUMMARY:Young Terrace Community Center
DESCRIPTION:A member of the LASEV Community Support Team will be available to take applications for service and share information about upcoming events. \n\n\n	Related
URL:https://laseva.org/event/young-terrace-community-center-2/2027-02-18/
LOCATION:Young Terrace Community Center\, 804 Whitaker Ln\, Norfolk\, VA\, 23510
CATEGORIES:Outreach
END:VEVENT
BEGIN:VEVENT
DTSTART;TZID=America/New_York:20270225T133000
DTEND;TZID=America/New_York:20270225T153000
DTSTAMP:20260420T050730
CREATED:20250630T142635Z
LAST-MODIFIED:20250801T191259Z
UID:10001998-1803562200-1803569400@laseva.org
SUMMARY:Young Terrace Community Center
DESCRIPTION:A member of the LASEV Community Support Team will be available to take applications for service and share information about upcoming events. \n\n\n	Related
URL:https://laseva.org/event/young-terrace-community-center/2027-02-25/
LOCATION:Young Terrace Community Center\, 804 Whitaker Ln\, Norfolk\, VA\, 23510
CATEGORIES:Outreach
END:VEVENT
BEGIN:VEVENT
DTSTART;TZID=America/New_York:20270318T133000
DTEND;TZID=America/New_York:20270318T153000
DTSTAMP:20260420T050730
CREATED:20250801T191406Z
LAST-MODIFIED:20250801T191406Z
UID:10002121-1805376600-1805383800@laseva.org
SUMMARY:Young Terrace Community Center
DESCRIPTION:A member of the LASEV Community Support Team will be available to take applications for service and share information about upcoming events. \n\n\n	Related
URL:https://laseva.org/event/young-terrace-community-center-2/2027-03-18/
LOCATION:Young Terrace Community Center\, 804 Whitaker Ln\, Norfolk\, VA\, 23510
CATEGORIES:Outreach
END:VEVENT
BEGIN:VEVENT
DTSTART;TZID=America/New_York:20270325T133000
DTEND;TZID=America/New_York:20270325T153000
DTSTAMP:20260420T050730
CREATED:20250630T142635Z
LAST-MODIFIED:20250801T191259Z
UID:10001999-1805981400-1805988600@laseva.org
SUMMARY:Young Terrace Community Center
DESCRIPTION:A member of the LASEV Community Support Team will be available to take applications for service and share information about upcoming events. \n\n\n	Related
URL:https://laseva.org/event/young-terrace-community-center/2027-03-25/
LOCATION:Young Terrace Community Center\, 804 Whitaker Ln\, Norfolk\, VA\, 23510
CATEGORIES:Outreach
END:VEVENT
BEGIN:VEVENT
DTSTART;TZID=America/New_York:20270415T133000
DTEND;TZID=America/New_York:20270415T153000
DTSTAMP:20260420T050730
CREATED:20250801T191406Z
LAST-MODIFIED:20250801T191406Z
UID:10002122-1807795800-1807803000@laseva.org
SUMMARY:Young Terrace Community Center
DESCRIPTION:A member of the LASEV Community Support Team will be available to take applications for service and share information about upcoming events. \n\n\n	Related
URL:https://laseva.org/event/young-terrace-community-center-2/2027-04-15/
LOCATION:Young Terrace Community Center\, 804 Whitaker Ln\, Norfolk\, VA\, 23510
CATEGORIES:Outreach
END:VEVENT
BEGIN:VEVENT
DTSTART;TZID=America/New_York:20270422T133000
DTEND;TZID=America/New_York:20270422T153000
DTSTAMP:20260420T050730
CREATED:20250630T142635Z
LAST-MODIFIED:20250801T191259Z
UID:10002000-1808400600-1808407800@laseva.org
SUMMARY:Young Terrace Community Center
DESCRIPTION:A member of the LASEV Community Support Team will be available to take applications for service and share information about upcoming events. \n\n\n	Related
URL:https://laseva.org/event/young-terrace-community-center/2027-04-22/
LOCATION:Young Terrace Community Center\, 804 Whitaker Ln\, Norfolk\, VA\, 23510
CATEGORIES:Outreach
END:VEVENT
BEGIN:VEVENT
DTSTART;TZID=America/New_York:20270520T133000
DTEND;TZID=America/New_York:20270520T153000
DTSTAMP:20260420T050730
CREATED:20250801T191406Z
LAST-MODIFIED:20250801T191406Z
UID:10002123-1810819800-1810827000@laseva.org
SUMMARY:Young Terrace Community Center
DESCRIPTION:A member of the LASEV Community Support Team will be available to take applications for service and share information about upcoming events. \n\n\n	Related
URL:https://laseva.org/event/young-terrace-community-center-2/2027-05-20/
LOCATION:Young Terrace Community Center\, 804 Whitaker Ln\, Norfolk\, VA\, 23510
CATEGORIES:Outreach
END:VEVENT
BEGIN:VEVENT
DTSTART;TZID=America/New_York:20270527T133000
DTEND;TZID=America/New_York:20270527T153000
DTSTAMP:20260420T050730
CREATED:20250630T142635Z
LAST-MODIFIED:20250801T191259Z
UID:10002001-1811424600-1811431800@laseva.org
SUMMARY:Young Terrace Community Center
DESCRIPTION:A member of the LASEV Community Support Team will be available to take applications for service and share information about upcoming events. \n\n\n	Related
URL:https://laseva.org/event/young-terrace-community-center/2027-05-27/
LOCATION:Young Terrace Community Center\, 804 Whitaker Ln\, Norfolk\, VA\, 23510
CATEGORIES:Outreach
END:VEVENT
BEGIN:VEVENT
DTSTART;TZID=America/New_York:20270617T133000
DTEND;TZID=America/New_York:20270617T153000
DTSTAMP:20260420T050730
CREATED:20250801T191406Z
LAST-MODIFIED:20250801T191406Z
UID:10002124-1813239000-1813246200@laseva.org
SUMMARY:Young Terrace Community Center
DESCRIPTION:A member of the LASEV Community Support Team will be available to take applications for service and share information about upcoming events. \n\n\n	Related
URL:https://laseva.org/event/young-terrace-community-center-2/2027-06-17/
LOCATION:Young Terrace Community Center\, 804 Whitaker Ln\, Norfolk\, VA\, 23510
CATEGORIES:Outreach
END:VEVENT
BEGIN:VEVENT
DTSTART;TZID=America/New_York:20270624T133000
DTEND;TZID=America/New_York:20270624T153000
DTSTAMP:20260420T050730
CREATED:20250630T142635Z
LAST-MODIFIED:20250801T191259Z
UID:10002002-1813843800-1813851000@laseva.org
SUMMARY:Young Terrace Community Center
DESCRIPTION:A member of the LASEV Community Support Team will be available to take applications for service and share information about upcoming events. \n\n\n	Related
URL:https://laseva.org/event/young-terrace-community-center/2027-06-24/
LOCATION:Young Terrace Community Center\, 804 Whitaker Ln\, Norfolk\, VA\, 23510
CATEGORIES:Outreach
END:VEVENT
BEGIN:VEVENT
DTSTART;TZID=America/New_York:20270715T133000
DTEND;TZID=America/New_York:20270715T153000
DTSTAMP:20260420T050730
CREATED:20250801T191406Z
LAST-MODIFIED:20250801T191406Z
UID:10002125-1815658200-1815665400@laseva.org
SUMMARY:Young Terrace Community Center
DESCRIPTION:A member of the LASEV Community Support Team will be available to take applications for service and share information about upcoming events. \n\n\n	Related
URL:https://laseva.org/event/young-terrace-community-center-2/2027-07-15/
LOCATION:Young Terrace Community Center\, 804 Whitaker Ln\, Norfolk\, VA\, 23510
CATEGORIES:Outreach
END:VEVENT
END:VCALENDAR