BEGIN:VCALENDAR
VERSION:2.0
PRODID:-// - ECPv6.15.20//NONSGML v1.0//EN
CALSCALE:GREGORIAN
METHOD:PUBLISH
X-ORIGINAL-URL:https://laseva.org
X-WR-CALDESC:Events for 
REFRESH-INTERVAL;VALUE=DURATION:PT1H
X-Robots-Tag:noindex
X-PUBLISHED-TTL:PT1H
BEGIN:VTIMEZONE
TZID:America/New_York
BEGIN:DAYLIGHT
TZOFFSETFROM:-0500
TZOFFSETTO:-0400
TZNAME:EDT
DTSTART:20290311T070000
END:DAYLIGHT
BEGIN:STANDARD
TZOFFSETFROM:-0400
TZOFFSETTO:-0500
TZNAME:EST
DTSTART:20291104T060000
END:STANDARD
BEGIN:DAYLIGHT
TZOFFSETFROM:-0500
TZOFFSETTO:-0400
TZNAME:EDT
DTSTART:20300310T070000
END:DAYLIGHT
BEGIN:STANDARD
TZOFFSETFROM:-0400
TZOFFSETTO:-0500
TZNAME:EST
DTSTART:20301103T060000
END:STANDARD
BEGIN:DAYLIGHT
TZOFFSETFROM:-0500
TZOFFSETTO:-0400
TZNAME:EDT
DTSTART:20310309T070000
END:DAYLIGHT
BEGIN:STANDARD
TZOFFSETFROM:-0400
TZOFFSETTO:-0500
TZNAME:EST
DTSTART:20311102T060000
END:STANDARD
END:VTIMEZONE
BEGIN:VEVENT
DTSTART;TZID=America/New_York:20300425T090000
DTEND;TZID=America/New_York:20300425T110000
DTSTAMP:20260422T125430
CREATED:20250630T135925Z
LAST-MODIFIED:20250630T135925Z
UID:10001480-1903338000-1903345200@laseva.org
SUMMARY:Union Mission
DESCRIPTION:A Disability Rights Unit/ Homeless Outreach Project office social worker will be available for services. \n\n\n	Related
URL:https://laseva.org/event/union-mission/2030-04-25/
LOCATION:Union Mission\, 5100 E Virginia Beach Blvd\, Norfolk\, VA\, 23502
CATEGORIES:Outreach
END:VEVENT
BEGIN:VEVENT
DTSTART;TZID=America/New_York:20300523T090000
DTEND;TZID=America/New_York:20300523T110000
DTSTAMP:20260422T125430
CREATED:20250630T135925Z
LAST-MODIFIED:20250630T135925Z
UID:10001481-1905757200-1905764400@laseva.org
SUMMARY:Union Mission
DESCRIPTION:A Disability Rights Unit/ Homeless Outreach Project office social worker will be available for services. \n\n\n	Related
URL:https://laseva.org/event/union-mission/2030-05-23/
LOCATION:Union Mission\, 5100 E Virginia Beach Blvd\, Norfolk\, VA\, 23502
CATEGORIES:Outreach
END:VEVENT
BEGIN:VEVENT
DTSTART;TZID=America/New_York:20300627T090000
DTEND;TZID=America/New_York:20300627T110000
DTSTAMP:20260422T125430
CREATED:20250630T135925Z
LAST-MODIFIED:20250630T135925Z
UID:10001482-1908781200-1908788400@laseva.org
SUMMARY:Union Mission
DESCRIPTION:A Disability Rights Unit/ Homeless Outreach Project office social worker will be available for services. \n\n\n	Related
URL:https://laseva.org/event/union-mission/2030-06-27/
LOCATION:Union Mission\, 5100 E Virginia Beach Blvd\, Norfolk\, VA\, 23502
CATEGORIES:Outreach
END:VEVENT
BEGIN:VEVENT
DTSTART;TZID=America/New_York:20300725T090000
DTEND;TZID=America/New_York:20300725T110000
DTSTAMP:20260422T125430
CREATED:20250630T135925Z
LAST-MODIFIED:20250630T135925Z
UID:10002910-1911200400-1911207600@laseva.org
SUMMARY:Union Mission
DESCRIPTION:A Disability Rights Unit/ Homeless Outreach Project office social worker will be available for services. \n\n\n	Related
URL:https://laseva.org/event/union-mission/2030-07-25/
LOCATION:Union Mission\, 5100 E Virginia Beach Blvd\, Norfolk\, VA\, 23502
CATEGORIES:Outreach
END:VEVENT
BEGIN:VEVENT
DTSTART;TZID=America/New_York:20300822T090000
DTEND;TZID=America/New_York:20300822T110000
DTSTAMP:20260422T125430
CREATED:20250630T135925Z
LAST-MODIFIED:20250630T135925Z
UID:10002911-1913619600-1913626800@laseva.org
SUMMARY:Union Mission
DESCRIPTION:A Disability Rights Unit/ Homeless Outreach Project office social worker will be available for services. \n\n\n	Related
URL:https://laseva.org/event/union-mission/2030-08-22/
LOCATION:Union Mission\, 5100 E Virginia Beach Blvd\, Norfolk\, VA\, 23502
CATEGORIES:Outreach
END:VEVENT
BEGIN:VEVENT
DTSTART;TZID=America/New_York:20300926T090000
DTEND;TZID=America/New_York:20300926T110000
DTSTAMP:20260422T125430
CREATED:20250630T135925Z
LAST-MODIFIED:20250630T135925Z
UID:10002912-1916643600-1916650800@laseva.org
SUMMARY:Union Mission
DESCRIPTION:A Disability Rights Unit/ Homeless Outreach Project office social worker will be available for services. \n\n\n	Related
URL:https://laseva.org/event/union-mission/2030-09-26/
LOCATION:Union Mission\, 5100 E Virginia Beach Blvd\, Norfolk\, VA\, 23502
CATEGORIES:Outreach
END:VEVENT
BEGIN:VEVENT
DTSTART;TZID=America/New_York:20301024T090000
DTEND;TZID=America/New_York:20301024T110000
DTSTAMP:20260422T125430
CREATED:20250630T135925Z
LAST-MODIFIED:20250630T135925Z
UID:10002913-1919062800-1919070000@laseva.org
SUMMARY:Union Mission
DESCRIPTION:A Disability Rights Unit/ Homeless Outreach Project office social worker will be available for services. \n\n\n	Related
URL:https://laseva.org/event/union-mission/2030-10-24/
LOCATION:Union Mission\, 5100 E Virginia Beach Blvd\, Norfolk\, VA\, 23502
CATEGORIES:Outreach
END:VEVENT
BEGIN:VEVENT
DTSTART;TZID=America/New_York:20301128T090000
DTEND;TZID=America/New_York:20301128T110000
DTSTAMP:20260422T125430
CREATED:20250630T135925Z
LAST-MODIFIED:20250630T135925Z
UID:10002933-1922086800-1922094000@laseva.org
SUMMARY:Union Mission
DESCRIPTION:A Disability Rights Unit/ Homeless Outreach Project office social worker will be available for services. \n\n\n	Related
URL:https://laseva.org/event/union-mission/2030-11-28/
LOCATION:Union Mission\, 5100 E Virginia Beach Blvd\, Norfolk\, VA\, 23502
CATEGORIES:Outreach
END:VEVENT
END:VCALENDAR