BEGIN:VCALENDAR
VERSION:2.0
PRODID:-// - ECPv6.15.20//NONSGML v1.0//EN
CALSCALE:GREGORIAN
METHOD:PUBLISH
X-ORIGINAL-URL:https://laseva.org
X-WR-CALDESC:Events for 
REFRESH-INTERVAL;VALUE=DURATION:PT1H
X-Robots-Tag:noindex
X-PUBLISHED-TTL:PT1H
BEGIN:VTIMEZONE
TZID:America/New_York
BEGIN:DAYLIGHT
TZOFFSETFROM:-0500
TZOFFSETTO:-0400
TZNAME:EDT
DTSTART:20270314T070000
END:DAYLIGHT
BEGIN:STANDARD
TZOFFSETFROM:-0400
TZOFFSETTO:-0500
TZNAME:EST
DTSTART:20271107T060000
END:STANDARD
BEGIN:DAYLIGHT
TZOFFSETFROM:-0500
TZOFFSETTO:-0400
TZNAME:EDT
DTSTART:20280312T070000
END:DAYLIGHT
BEGIN:STANDARD
TZOFFSETFROM:-0400
TZOFFSETTO:-0500
TZNAME:EST
DTSTART:20281105T060000
END:STANDARD
BEGIN:DAYLIGHT
TZOFFSETFROM:-0500
TZOFFSETTO:-0400
TZNAME:EDT
DTSTART:20290311T070000
END:DAYLIGHT
BEGIN:STANDARD
TZOFFSETFROM:-0400
TZOFFSETTO:-0500
TZNAME:EST
DTSTART:20291104T060000
END:STANDARD
BEGIN:DAYLIGHT
TZOFFSETFROM:-0500
TZOFFSETTO:-0400
TZNAME:EDT
DTSTART:20300310T070000
END:DAYLIGHT
BEGIN:STANDARD
TZOFFSETFROM:-0400
TZOFFSETTO:-0500
TZNAME:EST
DTSTART:20301103T060000
END:STANDARD
BEGIN:DAYLIGHT
TZOFFSETFROM:-0500
TZOFFSETTO:-0400
TZNAME:EDT
DTSTART:20310309T070000
END:DAYLIGHT
BEGIN:STANDARD
TZOFFSETFROM:-0400
TZOFFSETTO:-0500
TZNAME:EST
DTSTART:20311102T060000
END:STANDARD
END:VTIMEZONE
BEGIN:VEVENT
DTSTART;TZID=America/New_York:20280427T090000
DTEND;TZID=America/New_York:20280427T110000
DTSTAMP:20260422T052303
CREATED:20250630T135925Z
LAST-MODIFIED:20250630T135925Z
UID:10001456-1840438800-1840446000@laseva.org
SUMMARY:Union Mission
DESCRIPTION:A Disability Rights Unit/ Homeless Outreach Project office social worker will be available for services. \n\n\n	Related
URL:https://laseva.org/event/union-mission/2028-04-27/
LOCATION:Union Mission\, 5100 E Virginia Beach Blvd\, Norfolk\, VA\, 23502
CATEGORIES:Outreach
END:VEVENT
BEGIN:VEVENT
DTSTART;TZID=America/New_York:20280525T090000
DTEND;TZID=America/New_York:20280525T110000
DTSTAMP:20260422T052303
CREATED:20250630T135925Z
LAST-MODIFIED:20250630T135925Z
UID:10001457-1842858000-1842865200@laseva.org
SUMMARY:Union Mission
DESCRIPTION:A Disability Rights Unit/ Homeless Outreach Project office social worker will be available for services. \n\n\n	Related
URL:https://laseva.org/event/union-mission/2028-05-25/
LOCATION:Union Mission\, 5100 E Virginia Beach Blvd\, Norfolk\, VA\, 23502
CATEGORIES:Outreach
END:VEVENT
BEGIN:VEVENT
DTSTART;TZID=America/New_York:20280622T090000
DTEND;TZID=America/New_York:20280622T110000
DTSTAMP:20260422T052303
CREATED:20250630T135925Z
LAST-MODIFIED:20250630T135925Z
UID:10001458-1845277200-1845284400@laseva.org
SUMMARY:Union Mission
DESCRIPTION:A Disability Rights Unit/ Homeless Outreach Project office social worker will be available for services. \n\n\n	Related
URL:https://laseva.org/event/union-mission/2028-06-22/
LOCATION:Union Mission\, 5100 E Virginia Beach Blvd\, Norfolk\, VA\, 23502
CATEGORIES:Outreach
END:VEVENT
BEGIN:VEVENT
DTSTART;TZID=America/New_York:20280727T090000
DTEND;TZID=America/New_York:20280727T110000
DTSTAMP:20260422T052303
CREATED:20250630T135925Z
LAST-MODIFIED:20250630T135925Z
UID:10001459-1848301200-1848308400@laseva.org
SUMMARY:Union Mission
DESCRIPTION:A Disability Rights Unit/ Homeless Outreach Project office social worker will be available for services. \n\n\n	Related
URL:https://laseva.org/event/union-mission/2028-07-27/
LOCATION:Union Mission\, 5100 E Virginia Beach Blvd\, Norfolk\, VA\, 23502
CATEGORIES:Outreach
END:VEVENT
BEGIN:VEVENT
DTSTART;TZID=America/New_York:20280824T090000
DTEND;TZID=America/New_York:20280824T110000
DTSTAMP:20260422T052303
CREATED:20250630T135925Z
LAST-MODIFIED:20250630T135925Z
UID:10001460-1850720400-1850727600@laseva.org
SUMMARY:Union Mission
DESCRIPTION:A Disability Rights Unit/ Homeless Outreach Project office social worker will be available for services. \n\n\n	Related
URL:https://laseva.org/event/union-mission/2028-08-24/
LOCATION:Union Mission\, 5100 E Virginia Beach Blvd\, Norfolk\, VA\, 23502
CATEGORIES:Outreach
END:VEVENT
BEGIN:VEVENT
DTSTART;TZID=America/New_York:20280928T090000
DTEND;TZID=America/New_York:20280928T110000
DTSTAMP:20260422T052303
CREATED:20250630T135925Z
LAST-MODIFIED:20250630T135925Z
UID:10001461-1853744400-1853751600@laseva.org
SUMMARY:Union Mission
DESCRIPTION:A Disability Rights Unit/ Homeless Outreach Project office social worker will be available for services. \n\n\n	Related
URL:https://laseva.org/event/union-mission/2028-09-28/
LOCATION:Union Mission\, 5100 E Virginia Beach Blvd\, Norfolk\, VA\, 23502
CATEGORIES:Outreach
END:VEVENT
BEGIN:VEVENT
DTSTART;TZID=America/New_York:20281026T090000
DTEND;TZID=America/New_York:20281026T110000
DTSTAMP:20260422T052303
CREATED:20250630T135925Z
LAST-MODIFIED:20250630T135925Z
UID:10001462-1856163600-1856170800@laseva.org
SUMMARY:Union Mission
DESCRIPTION:A Disability Rights Unit/ Homeless Outreach Project office social worker will be available for services. \n\n\n	Related
URL:https://laseva.org/event/union-mission/2028-10-26/
LOCATION:Union Mission\, 5100 E Virginia Beach Blvd\, Norfolk\, VA\, 23502
CATEGORIES:Outreach
END:VEVENT
BEGIN:VEVENT
DTSTART;TZID=America/New_York:20281123T090000
DTEND;TZID=America/New_York:20281123T110000
DTSTAMP:20260422T052303
CREATED:20250630T135925Z
LAST-MODIFIED:20250630T135925Z
UID:10001463-1858582800-1858590000@laseva.org
SUMMARY:Union Mission
DESCRIPTION:A Disability Rights Unit/ Homeless Outreach Project office social worker will be available for services. \n\n\n	Related
URL:https://laseva.org/event/union-mission/2028-11-23/
LOCATION:Union Mission\, 5100 E Virginia Beach Blvd\, Norfolk\, VA\, 23502
CATEGORIES:Outreach
END:VEVENT
BEGIN:VEVENT
DTSTART;TZID=America/New_York:20281228T090000
DTEND;TZID=America/New_York:20281228T110000
DTSTAMP:20260422T052303
CREATED:20250630T135925Z
LAST-MODIFIED:20250630T135925Z
UID:10001464-1861606800-1861614000@laseva.org
SUMMARY:Union Mission
DESCRIPTION:A Disability Rights Unit/ Homeless Outreach Project office social worker will be available for services. \n\n\n	Related
URL:https://laseva.org/event/union-mission/2028-12-28/
LOCATION:Union Mission\, 5100 E Virginia Beach Blvd\, Norfolk\, VA\, 23502
CATEGORIES:Outreach
END:VEVENT
BEGIN:VEVENT
DTSTART;TZID=America/New_York:20290125T090000
DTEND;TZID=America/New_York:20290125T110000
DTSTAMP:20260422T052303
CREATED:20250630T135925Z
LAST-MODIFIED:20250630T135925Z
UID:10001465-1864026000-1864033200@laseva.org
SUMMARY:Union Mission
DESCRIPTION:A Disability Rights Unit/ Homeless Outreach Project office social worker will be available for services. \n\n\n	Related
URL:https://laseva.org/event/union-mission/2029-01-25/
LOCATION:Union Mission\, 5100 E Virginia Beach Blvd\, Norfolk\, VA\, 23502
CATEGORIES:Outreach
END:VEVENT
BEGIN:VEVENT
DTSTART;TZID=America/New_York:20290222T090000
DTEND;TZID=America/New_York:20290222T110000
DTSTAMP:20260422T052303
CREATED:20250630T135925Z
LAST-MODIFIED:20250630T135925Z
UID:10001466-1866445200-1866452400@laseva.org
SUMMARY:Union Mission
DESCRIPTION:A Disability Rights Unit/ Homeless Outreach Project office social worker will be available for services. \n\n\n	Related
URL:https://laseva.org/event/union-mission/2029-02-22/
LOCATION:Union Mission\, 5100 E Virginia Beach Blvd\, Norfolk\, VA\, 23502
CATEGORIES:Outreach
END:VEVENT
BEGIN:VEVENT
DTSTART;TZID=America/New_York:20290322T090000
DTEND;TZID=America/New_York:20290322T110000
DTSTAMP:20260422T052303
CREATED:20250630T135925Z
LAST-MODIFIED:20250630T135925Z
UID:10001467-1868864400-1868871600@laseva.org
SUMMARY:Union Mission
DESCRIPTION:A Disability Rights Unit/ Homeless Outreach Project office social worker will be available for services. \n\n\n	Related
URL:https://laseva.org/event/union-mission/2029-03-22/
LOCATION:Union Mission\, 5100 E Virginia Beach Blvd\, Norfolk\, VA\, 23502
CATEGORIES:Outreach
END:VEVENT
BEGIN:VEVENT
DTSTART;TZID=America/New_York:20290426T090000
DTEND;TZID=America/New_York:20290426T110000
DTSTAMP:20260422T052303
CREATED:20250630T135925Z
LAST-MODIFIED:20250630T135925Z
UID:10001468-1871888400-1871895600@laseva.org
SUMMARY:Union Mission
DESCRIPTION:A Disability Rights Unit/ Homeless Outreach Project office social worker will be available for services. \n\n\n	Related
URL:https://laseva.org/event/union-mission/2029-04-26/
LOCATION:Union Mission\, 5100 E Virginia Beach Blvd\, Norfolk\, VA\, 23502
CATEGORIES:Outreach
END:VEVENT
BEGIN:VEVENT
DTSTART;TZID=America/New_York:20290524T090000
DTEND;TZID=America/New_York:20290524T110000
DTSTAMP:20260422T052303
CREATED:20250630T135925Z
LAST-MODIFIED:20250630T135925Z
UID:10001469-1874307600-1874314800@laseva.org
SUMMARY:Union Mission
DESCRIPTION:A Disability Rights Unit/ Homeless Outreach Project office social worker will be available for services. \n\n\n	Related
URL:https://laseva.org/event/union-mission/2029-05-24/
LOCATION:Union Mission\, 5100 E Virginia Beach Blvd\, Norfolk\, VA\, 23502
CATEGORIES:Outreach
END:VEVENT
BEGIN:VEVENT
DTSTART;TZID=America/New_York:20290628T090000
DTEND;TZID=America/New_York:20290628T110000
DTSTAMP:20260422T052303
CREATED:20250630T135925Z
LAST-MODIFIED:20250630T135925Z
UID:10001470-1877331600-1877338800@laseva.org
SUMMARY:Union Mission
DESCRIPTION:A Disability Rights Unit/ Homeless Outreach Project office social worker will be available for services. \n\n\n	Related
URL:https://laseva.org/event/union-mission/2029-06-28/
LOCATION:Union Mission\, 5100 E Virginia Beach Blvd\, Norfolk\, VA\, 23502
CATEGORIES:Outreach
END:VEVENT
BEGIN:VEVENT
DTSTART;TZID=America/New_York:20290726T090000
DTEND;TZID=America/New_York:20290726T110000
DTSTAMP:20260422T052303
CREATED:20250630T135925Z
LAST-MODIFIED:20250630T135925Z
UID:10001471-1879750800-1879758000@laseva.org
SUMMARY:Union Mission
DESCRIPTION:A Disability Rights Unit/ Homeless Outreach Project office social worker will be available for services. \n\n\n	Related
URL:https://laseva.org/event/union-mission/2029-07-26/
LOCATION:Union Mission\, 5100 E Virginia Beach Blvd\, Norfolk\, VA\, 23502
CATEGORIES:Outreach
END:VEVENT
BEGIN:VEVENT
DTSTART;TZID=America/New_York:20290823T090000
DTEND;TZID=America/New_York:20290823T110000
DTSTAMP:20260422T052303
CREATED:20250630T135925Z
LAST-MODIFIED:20250630T135925Z
UID:10001472-1882170000-1882177200@laseva.org
SUMMARY:Union Mission
DESCRIPTION:A Disability Rights Unit/ Homeless Outreach Project office social worker will be available for services. \n\n\n	Related
URL:https://laseva.org/event/union-mission/2029-08-23/
LOCATION:Union Mission\, 5100 E Virginia Beach Blvd\, Norfolk\, VA\, 23502
CATEGORIES:Outreach
END:VEVENT
BEGIN:VEVENT
DTSTART;TZID=America/New_York:20290927T090000
DTEND;TZID=America/New_York:20290927T110000
DTSTAMP:20260422T052303
CREATED:20250630T135925Z
LAST-MODIFIED:20250630T135925Z
UID:10001473-1885194000-1885201200@laseva.org
SUMMARY:Union Mission
DESCRIPTION:A Disability Rights Unit/ Homeless Outreach Project office social worker will be available for services. \n\n\n	Related
URL:https://laseva.org/event/union-mission/2029-09-27/
LOCATION:Union Mission\, 5100 E Virginia Beach Blvd\, Norfolk\, VA\, 23502
CATEGORIES:Outreach
END:VEVENT
BEGIN:VEVENT
DTSTART;TZID=America/New_York:20291025T090000
DTEND;TZID=America/New_York:20291025T110000
DTSTAMP:20260422T052303
CREATED:20250630T135925Z
LAST-MODIFIED:20250630T135925Z
UID:10001474-1887613200-1887620400@laseva.org
SUMMARY:Union Mission
DESCRIPTION:A Disability Rights Unit/ Homeless Outreach Project office social worker will be available for services. \n\n\n	Related
URL:https://laseva.org/event/union-mission/2029-10-25/
LOCATION:Union Mission\, 5100 E Virginia Beach Blvd\, Norfolk\, VA\, 23502
CATEGORIES:Outreach
END:VEVENT
BEGIN:VEVENT
DTSTART;TZID=America/New_York:20291122T090000
DTEND;TZID=America/New_York:20291122T110000
DTSTAMP:20260422T052303
CREATED:20250630T135925Z
LAST-MODIFIED:20250630T135925Z
UID:10001475-1890032400-1890039600@laseva.org
SUMMARY:Union Mission
DESCRIPTION:A Disability Rights Unit/ Homeless Outreach Project office social worker will be available for services. \n\n\n	Related
URL:https://laseva.org/event/union-mission/2029-11-22/
LOCATION:Union Mission\, 5100 E Virginia Beach Blvd\, Norfolk\, VA\, 23502
CATEGORIES:Outreach
END:VEVENT
BEGIN:VEVENT
DTSTART;TZID=America/New_York:20291227T090000
DTEND;TZID=America/New_York:20291227T110000
DTSTAMP:20260422T052303
CREATED:20250630T135925Z
LAST-MODIFIED:20250630T135925Z
UID:10001476-1893056400-1893063600@laseva.org
SUMMARY:Union Mission
DESCRIPTION:A Disability Rights Unit/ Homeless Outreach Project office social worker will be available for services. \n\n\n	Related
URL:https://laseva.org/event/union-mission/2029-12-27/
LOCATION:Union Mission\, 5100 E Virginia Beach Blvd\, Norfolk\, VA\, 23502
CATEGORIES:Outreach
END:VEVENT
BEGIN:VEVENT
DTSTART;TZID=America/New_York:20300124T090000
DTEND;TZID=America/New_York:20300124T110000
DTSTAMP:20260422T052303
CREATED:20250630T135925Z
LAST-MODIFIED:20250630T135925Z
UID:10001477-1895475600-1895482800@laseva.org
SUMMARY:Union Mission
DESCRIPTION:A Disability Rights Unit/ Homeless Outreach Project office social worker will be available for services. \n\n\n	Related
URL:https://laseva.org/event/union-mission/2030-01-24/
LOCATION:Union Mission\, 5100 E Virginia Beach Blvd\, Norfolk\, VA\, 23502
CATEGORIES:Outreach
END:VEVENT
BEGIN:VEVENT
DTSTART;TZID=America/New_York:20300228T090000
DTEND;TZID=America/New_York:20300228T110000
DTSTAMP:20260422T052303
CREATED:20250630T135925Z
LAST-MODIFIED:20250630T135925Z
UID:10001478-1898499600-1898506800@laseva.org
SUMMARY:Union Mission
DESCRIPTION:A Disability Rights Unit/ Homeless Outreach Project office social worker will be available for services. \n\n\n	Related
URL:https://laseva.org/event/union-mission/2030-02-28/
LOCATION:Union Mission\, 5100 E Virginia Beach Blvd\, Norfolk\, VA\, 23502
CATEGORIES:Outreach
END:VEVENT
BEGIN:VEVENT
DTSTART;TZID=America/New_York:20300328T090000
DTEND;TZID=America/New_York:20300328T110000
DTSTAMP:20260422T052303
CREATED:20250630T135925Z
LAST-MODIFIED:20250630T135925Z
UID:10001479-1900918800-1900926000@laseva.org
SUMMARY:Union Mission
DESCRIPTION:A Disability Rights Unit/ Homeless Outreach Project office social worker will be available for services. \n\n\n	Related
URL:https://laseva.org/event/union-mission/2030-03-28/
LOCATION:Union Mission\, 5100 E Virginia Beach Blvd\, Norfolk\, VA\, 23502
CATEGORIES:Outreach
END:VEVENT
BEGIN:VEVENT
DTSTART;TZID=America/New_York:20300425T090000
DTEND;TZID=America/New_York:20300425T110000
DTSTAMP:20260422T052303
CREATED:20250630T135925Z
LAST-MODIFIED:20250630T135925Z
UID:10001480-1903338000-1903345200@laseva.org
SUMMARY:Union Mission
DESCRIPTION:A Disability Rights Unit/ Homeless Outreach Project office social worker will be available for services. \n\n\n	Related
URL:https://laseva.org/event/union-mission/2030-04-25/
LOCATION:Union Mission\, 5100 E Virginia Beach Blvd\, Norfolk\, VA\, 23502
CATEGORIES:Outreach
END:VEVENT
BEGIN:VEVENT
DTSTART;TZID=America/New_York:20300523T090000
DTEND;TZID=America/New_York:20300523T110000
DTSTAMP:20260422T052303
CREATED:20250630T135925Z
LAST-MODIFIED:20250630T135925Z
UID:10001481-1905757200-1905764400@laseva.org
SUMMARY:Union Mission
DESCRIPTION:A Disability Rights Unit/ Homeless Outreach Project office social worker will be available for services. \n\n\n	Related
URL:https://laseva.org/event/union-mission/2030-05-23/
LOCATION:Union Mission\, 5100 E Virginia Beach Blvd\, Norfolk\, VA\, 23502
CATEGORIES:Outreach
END:VEVENT
BEGIN:VEVENT
DTSTART;TZID=America/New_York:20300627T090000
DTEND;TZID=America/New_York:20300627T110000
DTSTAMP:20260422T052303
CREATED:20250630T135925Z
LAST-MODIFIED:20250630T135925Z
UID:10001482-1908781200-1908788400@laseva.org
SUMMARY:Union Mission
DESCRIPTION:A Disability Rights Unit/ Homeless Outreach Project office social worker will be available for services. \n\n\n	Related
URL:https://laseva.org/event/union-mission/2030-06-27/
LOCATION:Union Mission\, 5100 E Virginia Beach Blvd\, Norfolk\, VA\, 23502
CATEGORIES:Outreach
END:VEVENT
BEGIN:VEVENT
DTSTART;TZID=America/New_York:20300725T090000
DTEND;TZID=America/New_York:20300725T110000
DTSTAMP:20260422T052303
CREATED:20250630T135925Z
LAST-MODIFIED:20250630T135925Z
UID:10002910-1911200400-1911207600@laseva.org
SUMMARY:Union Mission
DESCRIPTION:A Disability Rights Unit/ Homeless Outreach Project office social worker will be available for services. \n\n\n	Related
URL:https://laseva.org/event/union-mission/2030-07-25/
LOCATION:Union Mission\, 5100 E Virginia Beach Blvd\, Norfolk\, VA\, 23502
CATEGORIES:Outreach
END:VEVENT
BEGIN:VEVENT
DTSTART;TZID=America/New_York:20300822T090000
DTEND;TZID=America/New_York:20300822T110000
DTSTAMP:20260422T052303
CREATED:20250630T135925Z
LAST-MODIFIED:20250630T135925Z
UID:10002911-1913619600-1913626800@laseva.org
SUMMARY:Union Mission
DESCRIPTION:A Disability Rights Unit/ Homeless Outreach Project office social worker will be available for services. \n\n\n	Related
URL:https://laseva.org/event/union-mission/2030-08-22/
LOCATION:Union Mission\, 5100 E Virginia Beach Blvd\, Norfolk\, VA\, 23502
CATEGORIES:Outreach
END:VEVENT
BEGIN:VEVENT
DTSTART;TZID=America/New_York:20300926T090000
DTEND;TZID=America/New_York:20300926T110000
DTSTAMP:20260422T052303
CREATED:20250630T135925Z
LAST-MODIFIED:20250630T135925Z
UID:10002912-1916643600-1916650800@laseva.org
SUMMARY:Union Mission
DESCRIPTION:A Disability Rights Unit/ Homeless Outreach Project office social worker will be available for services. \n\n\n	Related
URL:https://laseva.org/event/union-mission/2030-09-26/
LOCATION:Union Mission\, 5100 E Virginia Beach Blvd\, Norfolk\, VA\, 23502
CATEGORIES:Outreach
END:VEVENT
END:VCALENDAR