BEGIN:VCALENDAR
VERSION:2.0
PRODID:-// - ECPv6.15.20//NONSGML v1.0//EN
CALSCALE:GREGORIAN
METHOD:PUBLISH
X-ORIGINAL-URL:https://laseva.org
X-WR-CALDESC:Events for 
REFRESH-INTERVAL;VALUE=DURATION:PT1H
X-Robots-Tag:noindex
X-PUBLISHED-TTL:PT1H
BEGIN:VTIMEZONE
TZID:America/New_York
BEGIN:DAYLIGHT
TZOFFSETFROM:-0500
TZOFFSETTO:-0400
TZNAME:EDT
DTSTART:20250309T070000
END:DAYLIGHT
BEGIN:STANDARD
TZOFFSETFROM:-0400
TZOFFSETTO:-0500
TZNAME:EST
DTSTART:20251102T060000
END:STANDARD
BEGIN:DAYLIGHT
TZOFFSETFROM:-0500
TZOFFSETTO:-0400
TZNAME:EDT
DTSTART:20260308T070000
END:DAYLIGHT
BEGIN:STANDARD
TZOFFSETFROM:-0400
TZOFFSETTO:-0500
TZNAME:EST
DTSTART:20261101T060000
END:STANDARD
BEGIN:DAYLIGHT
TZOFFSETFROM:-0500
TZOFFSETTO:-0400
TZNAME:EDT
DTSTART:20270314T070000
END:DAYLIGHT
BEGIN:STANDARD
TZOFFSETFROM:-0400
TZOFFSETTO:-0500
TZNAME:EST
DTSTART:20271107T060000
END:STANDARD
BEGIN:DAYLIGHT
TZOFFSETFROM:-0500
TZOFFSETTO:-0400
TZNAME:EDT
DTSTART:20280312T070000
END:DAYLIGHT
BEGIN:STANDARD
TZOFFSETFROM:-0400
TZOFFSETTO:-0500
TZNAME:EST
DTSTART:20281105T060000
END:STANDARD
BEGIN:DAYLIGHT
TZOFFSETFROM:-0500
TZOFFSETTO:-0400
TZNAME:EDT
DTSTART:20290311T070000
END:DAYLIGHT
BEGIN:STANDARD
TZOFFSETFROM:-0400
TZOFFSETTO:-0500
TZNAME:EST
DTSTART:20291104T060000
END:STANDARD
END:VTIMEZONE
BEGIN:VEVENT
DTSTART;TZID=America/New_York:20260513T090000
DTEND;TZID=America/New_York:20260513T110000
DTSTAMP:20260422T053403
CREATED:20250701T191539Z
LAST-MODIFIED:20250701T191539Z
UID:10001863-1778662800-1778670000@laseva.org
SUMMARY:Portsmouth Volunteers for the Homeless (Current PVH Clients only)
DESCRIPTION:A Disability Rights Unit/ Homeless Outreach Project department staff member will be available to provide information and intake for services. This event is only for current Portsmouth Volunteers for the Homeless (PVH) clients. \n\n\n	Related
URL:https://laseva.org/event/portsmouth-volunteers-for-the-homeless-current-pvh-clients-only/2026-05-13/
LOCATION:Portsmouth Volunteers for the Homeless\, 800 Williamsburg Ave B\, Portsmouth\, VA\, 23704
CATEGORIES:Outreach
END:VEVENT
BEGIN:VEVENT
DTSTART;TZID=America/New_York:20260610T090000
DTEND;TZID=America/New_York:20260610T110000
DTSTAMP:20260422T053403
CREATED:20250701T191539Z
LAST-MODIFIED:20250701T191539Z
UID:10001864-1781082000-1781089200@laseva.org
SUMMARY:Portsmouth Volunteers for the Homeless (Current PVH Clients only)
DESCRIPTION:A Disability Rights Unit/ Homeless Outreach Project department staff member will be available to provide information and intake for services. This event is only for current Portsmouth Volunteers for the Homeless (PVH) clients. \n\n\n	Related
URL:https://laseva.org/event/portsmouth-volunteers-for-the-homeless-current-pvh-clients-only/2026-06-10/
LOCATION:Portsmouth Volunteers for the Homeless\, 800 Williamsburg Ave B\, Portsmouth\, VA\, 23704
CATEGORIES:Outreach
END:VEVENT
BEGIN:VEVENT
DTSTART;TZID=America/New_York:20260708T090000
DTEND;TZID=America/New_York:20260708T110000
DTSTAMP:20260422T053403
CREATED:20250701T191539Z
LAST-MODIFIED:20250701T191539Z
UID:10001865-1783501200-1783508400@laseva.org
SUMMARY:Portsmouth Volunteers for the Homeless (Current PVH Clients only)
DESCRIPTION:A Disability Rights Unit/ Homeless Outreach Project department staff member will be available to provide information and intake for services. This event is only for current Portsmouth Volunteers for the Homeless (PVH) clients. \n\n\n	Related
URL:https://laseva.org/event/portsmouth-volunteers-for-the-homeless-current-pvh-clients-only/2026-07-08/
LOCATION:Portsmouth Volunteers for the Homeless\, 800 Williamsburg Ave B\, Portsmouth\, VA\, 23704
CATEGORIES:Outreach
END:VEVENT
BEGIN:VEVENT
DTSTART;TZID=America/New_York:20260812T090000
DTEND;TZID=America/New_York:20260812T110000
DTSTAMP:20260422T053403
CREATED:20250701T191539Z
LAST-MODIFIED:20250701T191539Z
UID:10001866-1786525200-1786532400@laseva.org
SUMMARY:Portsmouth Volunteers for the Homeless (Current PVH Clients only)
DESCRIPTION:A Disability Rights Unit/ Homeless Outreach Project department staff member will be available to provide information and intake for services. This event is only for current Portsmouth Volunteers for the Homeless (PVH) clients. \n\n\n	Related
URL:https://laseva.org/event/portsmouth-volunteers-for-the-homeless-current-pvh-clients-only/2026-08-12/
LOCATION:Portsmouth Volunteers for the Homeless\, 800 Williamsburg Ave B\, Portsmouth\, VA\, 23704
CATEGORIES:Outreach
END:VEVENT
BEGIN:VEVENT
DTSTART;TZID=America/New_York:20260909T090000
DTEND;TZID=America/New_York:20260909T110000
DTSTAMP:20260422T053403
CREATED:20250701T191539Z
LAST-MODIFIED:20250701T191539Z
UID:10001867-1788944400-1788951600@laseva.org
SUMMARY:Portsmouth Volunteers for the Homeless (Current PVH Clients only)
DESCRIPTION:A Disability Rights Unit/ Homeless Outreach Project department staff member will be available to provide information and intake for services. This event is only for current Portsmouth Volunteers for the Homeless (PVH) clients. \n\n\n	Related
URL:https://laseva.org/event/portsmouth-volunteers-for-the-homeless-current-pvh-clients-only/2026-09-09/
LOCATION:Portsmouth Volunteers for the Homeless\, 800 Williamsburg Ave B\, Portsmouth\, VA\, 23704
CATEGORIES:Outreach
END:VEVENT
BEGIN:VEVENT
DTSTART;TZID=America/New_York:20261014T090000
DTEND;TZID=America/New_York:20261014T110000
DTSTAMP:20260422T053403
CREATED:20250701T191539Z
LAST-MODIFIED:20250701T191539Z
UID:10001868-1791968400-1791975600@laseva.org
SUMMARY:Portsmouth Volunteers for the Homeless (Current PVH Clients only)
DESCRIPTION:A Disability Rights Unit/ Homeless Outreach Project department staff member will be available to provide information and intake for services. This event is only for current Portsmouth Volunteers for the Homeless (PVH) clients. \n\n\n	Related
URL:https://laseva.org/event/portsmouth-volunteers-for-the-homeless-current-pvh-clients-only/2026-10-14/
LOCATION:Portsmouth Volunteers for the Homeless\, 800 Williamsburg Ave B\, Portsmouth\, VA\, 23704
CATEGORIES:Outreach
END:VEVENT
BEGIN:VEVENT
DTSTART;TZID=America/New_York:20261111T090000
DTEND;TZID=America/New_York:20261111T110000
DTSTAMP:20260422T053403
CREATED:20250701T191539Z
LAST-MODIFIED:20250701T191539Z
UID:10001869-1794387600-1794394800@laseva.org
SUMMARY:Portsmouth Volunteers for the Homeless (Current PVH Clients only)
DESCRIPTION:A Disability Rights Unit/ Homeless Outreach Project department staff member will be available to provide information and intake for services. This event is only for current Portsmouth Volunteers for the Homeless (PVH) clients. \n\n\n	Related
URL:https://laseva.org/event/portsmouth-volunteers-for-the-homeless-current-pvh-clients-only/2026-11-11/
LOCATION:Portsmouth Volunteers for the Homeless\, 800 Williamsburg Ave B\, Portsmouth\, VA\, 23704
CATEGORIES:Outreach
END:VEVENT
BEGIN:VEVENT
DTSTART;TZID=America/New_York:20261209T090000
DTEND;TZID=America/New_York:20261209T110000
DTSTAMP:20260422T053403
CREATED:20250701T191539Z
LAST-MODIFIED:20250701T191539Z
UID:10001870-1796806800-1796814000@laseva.org
SUMMARY:Portsmouth Volunteers for the Homeless (Current PVH Clients only)
DESCRIPTION:A Disability Rights Unit/ Homeless Outreach Project department staff member will be available to provide information and intake for services. This event is only for current Portsmouth Volunteers for the Homeless (PVH) clients. \n\n\n	Related
URL:https://laseva.org/event/portsmouth-volunteers-for-the-homeless-current-pvh-clients-only/2026-12-09/
LOCATION:Portsmouth Volunteers for the Homeless\, 800 Williamsburg Ave B\, Portsmouth\, VA\, 23704
CATEGORIES:Outreach
END:VEVENT
BEGIN:VEVENT
DTSTART;TZID=America/New_York:20270113T090000
DTEND;TZID=America/New_York:20270113T110000
DTSTAMP:20260422T053403
CREATED:20250701T191539Z
LAST-MODIFIED:20250701T191539Z
UID:10001871-1799830800-1799838000@laseva.org
SUMMARY:Portsmouth Volunteers for the Homeless (Current PVH Clients only)
DESCRIPTION:A Disability Rights Unit/ Homeless Outreach Project department staff member will be available to provide information and intake for services. This event is only for current Portsmouth Volunteers for the Homeless (PVH) clients. \n\n\n	Related
URL:https://laseva.org/event/portsmouth-volunteers-for-the-homeless-current-pvh-clients-only/2027-01-13/
LOCATION:Portsmouth Volunteers for the Homeless\, 800 Williamsburg Ave B\, Portsmouth\, VA\, 23704
CATEGORIES:Outreach
END:VEVENT
BEGIN:VEVENT
DTSTART;TZID=America/New_York:20270210T090000
DTEND;TZID=America/New_York:20270210T110000
DTSTAMP:20260422T053403
CREATED:20250701T191539Z
LAST-MODIFIED:20250701T191539Z
UID:10001872-1802250000-1802257200@laseva.org
SUMMARY:Portsmouth Volunteers for the Homeless (Current PVH Clients only)
DESCRIPTION:A Disability Rights Unit/ Homeless Outreach Project department staff member will be available to provide information and intake for services. This event is only for current Portsmouth Volunteers for the Homeless (PVH) clients. \n\n\n	Related
URL:https://laseva.org/event/portsmouth-volunteers-for-the-homeless-current-pvh-clients-only/2027-02-10/
LOCATION:Portsmouth Volunteers for the Homeless\, 800 Williamsburg Ave B\, Portsmouth\, VA\, 23704
CATEGORIES:Outreach
END:VEVENT
BEGIN:VEVENT
DTSTART;TZID=America/New_York:20270310T090000
DTEND;TZID=America/New_York:20270310T110000
DTSTAMP:20260422T053403
CREATED:20250701T191539Z
LAST-MODIFIED:20250701T191539Z
UID:10001873-1804669200-1804676400@laseva.org
SUMMARY:Portsmouth Volunteers for the Homeless (Current PVH Clients only)
DESCRIPTION:A Disability Rights Unit/ Homeless Outreach Project department staff member will be available to provide information and intake for services. This event is only for current Portsmouth Volunteers for the Homeless (PVH) clients. \n\n\n	Related
URL:https://laseva.org/event/portsmouth-volunteers-for-the-homeless-current-pvh-clients-only/2027-03-10/
LOCATION:Portsmouth Volunteers for the Homeless\, 800 Williamsburg Ave B\, Portsmouth\, VA\, 23704
CATEGORIES:Outreach
END:VEVENT
BEGIN:VEVENT
DTSTART;TZID=America/New_York:20270414T090000
DTEND;TZID=America/New_York:20270414T110000
DTSTAMP:20260422T053403
CREATED:20250701T191539Z
LAST-MODIFIED:20250701T191539Z
UID:10001874-1807693200-1807700400@laseva.org
SUMMARY:Portsmouth Volunteers for the Homeless (Current PVH Clients only)
DESCRIPTION:A Disability Rights Unit/ Homeless Outreach Project department staff member will be available to provide information and intake for services. This event is only for current Portsmouth Volunteers for the Homeless (PVH) clients. \n\n\n	Related
URL:https://laseva.org/event/portsmouth-volunteers-for-the-homeless-current-pvh-clients-only/2027-04-14/
LOCATION:Portsmouth Volunteers for the Homeless\, 800 Williamsburg Ave B\, Portsmouth\, VA\, 23704
CATEGORIES:Outreach
END:VEVENT
BEGIN:VEVENT
DTSTART;TZID=America/New_York:20270512T090000
DTEND;TZID=America/New_York:20270512T110000
DTSTAMP:20260422T053403
CREATED:20250701T191539Z
LAST-MODIFIED:20250701T191539Z
UID:10001875-1810112400-1810119600@laseva.org
SUMMARY:Portsmouth Volunteers for the Homeless (Current PVH Clients only)
DESCRIPTION:A Disability Rights Unit/ Homeless Outreach Project department staff member will be available to provide information and intake for services. This event is only for current Portsmouth Volunteers for the Homeless (PVH) clients. \n\n\n	Related
URL:https://laseva.org/event/portsmouth-volunteers-for-the-homeless-current-pvh-clients-only/2027-05-12/
LOCATION:Portsmouth Volunteers for the Homeless\, 800 Williamsburg Ave B\, Portsmouth\, VA\, 23704
CATEGORIES:Outreach
END:VEVENT
BEGIN:VEVENT
DTSTART;TZID=America/New_York:20270609T090000
DTEND;TZID=America/New_York:20270609T110000
DTSTAMP:20260422T053403
CREATED:20250701T191539Z
LAST-MODIFIED:20250701T191539Z
UID:10001876-1812531600-1812538800@laseva.org
SUMMARY:Portsmouth Volunteers for the Homeless (Current PVH Clients only)
DESCRIPTION:A Disability Rights Unit/ Homeless Outreach Project department staff member will be available to provide information and intake for services. This event is only for current Portsmouth Volunteers for the Homeless (PVH) clients. \n\n\n	Related
URL:https://laseva.org/event/portsmouth-volunteers-for-the-homeless-current-pvh-clients-only/2027-06-09/
LOCATION:Portsmouth Volunteers for the Homeless\, 800 Williamsburg Ave B\, Portsmouth\, VA\, 23704
CATEGORIES:Outreach
END:VEVENT
BEGIN:VEVENT
DTSTART;TZID=America/New_York:20270714T090000
DTEND;TZID=America/New_York:20270714T110000
DTSTAMP:20260422T053403
CREATED:20250701T191539Z
LAST-MODIFIED:20250701T191539Z
UID:10001877-1815555600-1815562800@laseva.org
SUMMARY:Portsmouth Volunteers for the Homeless (Current PVH Clients only)
DESCRIPTION:A Disability Rights Unit/ Homeless Outreach Project department staff member will be available to provide information and intake for services. This event is only for current Portsmouth Volunteers for the Homeless (PVH) clients. \n\n\n	Related
URL:https://laseva.org/event/portsmouth-volunteers-for-the-homeless-current-pvh-clients-only/2027-07-14/
LOCATION:Portsmouth Volunteers for the Homeless\, 800 Williamsburg Ave B\, Portsmouth\, VA\, 23704
CATEGORIES:Outreach
END:VEVENT
BEGIN:VEVENT
DTSTART;TZID=America/New_York:20270811T090000
DTEND;TZID=America/New_York:20270811T110000
DTSTAMP:20260422T053403
CREATED:20250701T191539Z
LAST-MODIFIED:20250701T191539Z
UID:10001878-1817974800-1817982000@laseva.org
SUMMARY:Portsmouth Volunteers for the Homeless (Current PVH Clients only)
DESCRIPTION:A Disability Rights Unit/ Homeless Outreach Project department staff member will be available to provide information and intake for services. This event is only for current Portsmouth Volunteers for the Homeless (PVH) clients. \n\n\n	Related
URL:https://laseva.org/event/portsmouth-volunteers-for-the-homeless-current-pvh-clients-only/2027-08-11/
LOCATION:Portsmouth Volunteers for the Homeless\, 800 Williamsburg Ave B\, Portsmouth\, VA\, 23704
CATEGORIES:Outreach
END:VEVENT
BEGIN:VEVENT
DTSTART;TZID=America/New_York:20270908T090000
DTEND;TZID=America/New_York:20270908T110000
DTSTAMP:20260422T053403
CREATED:20250701T191539Z
LAST-MODIFIED:20250701T191539Z
UID:10001879-1820394000-1820401200@laseva.org
SUMMARY:Portsmouth Volunteers for the Homeless (Current PVH Clients only)
DESCRIPTION:A Disability Rights Unit/ Homeless Outreach Project department staff member will be available to provide information and intake for services. This event is only for current Portsmouth Volunteers for the Homeless (PVH) clients. \n\n\n	Related
URL:https://laseva.org/event/portsmouth-volunteers-for-the-homeless-current-pvh-clients-only/2027-09-08/
LOCATION:Portsmouth Volunteers for the Homeless\, 800 Williamsburg Ave B\, Portsmouth\, VA\, 23704
CATEGORIES:Outreach
END:VEVENT
BEGIN:VEVENT
DTSTART;TZID=America/New_York:20271013T090000
DTEND;TZID=America/New_York:20271013T110000
DTSTAMP:20260422T053403
CREATED:20250701T191539Z
LAST-MODIFIED:20250701T191539Z
UID:10001880-1823418000-1823425200@laseva.org
SUMMARY:Portsmouth Volunteers for the Homeless (Current PVH Clients only)
DESCRIPTION:A Disability Rights Unit/ Homeless Outreach Project department staff member will be available to provide information and intake for services. This event is only for current Portsmouth Volunteers for the Homeless (PVH) clients. \n\n\n	Related
URL:https://laseva.org/event/portsmouth-volunteers-for-the-homeless-current-pvh-clients-only/2027-10-13/
LOCATION:Portsmouth Volunteers for the Homeless\, 800 Williamsburg Ave B\, Portsmouth\, VA\, 23704
CATEGORIES:Outreach
END:VEVENT
BEGIN:VEVENT
DTSTART;TZID=America/New_York:20271110T090000
DTEND;TZID=America/New_York:20271110T110000
DTSTAMP:20260422T053403
CREATED:20250701T191539Z
LAST-MODIFIED:20250701T191539Z
UID:10001881-1825837200-1825844400@laseva.org
SUMMARY:Portsmouth Volunteers for the Homeless (Current PVH Clients only)
DESCRIPTION:A Disability Rights Unit/ Homeless Outreach Project department staff member will be available to provide information and intake for services. This event is only for current Portsmouth Volunteers for the Homeless (PVH) clients. \n\n\n	Related
URL:https://laseva.org/event/portsmouth-volunteers-for-the-homeless-current-pvh-clients-only/2027-11-10/
LOCATION:Portsmouth Volunteers for the Homeless\, 800 Williamsburg Ave B\, Portsmouth\, VA\, 23704
CATEGORIES:Outreach
END:VEVENT
BEGIN:VEVENT
DTSTART;TZID=America/New_York:20271208T090000
DTEND;TZID=America/New_York:20271208T110000
DTSTAMP:20260422T053403
CREATED:20250701T191539Z
LAST-MODIFIED:20250701T191539Z
UID:10001882-1828256400-1828263600@laseva.org
SUMMARY:Portsmouth Volunteers for the Homeless (Current PVH Clients only)
DESCRIPTION:A Disability Rights Unit/ Homeless Outreach Project department staff member will be available to provide information and intake for services. This event is only for current Portsmouth Volunteers for the Homeless (PVH) clients. \n\n\n	Related
URL:https://laseva.org/event/portsmouth-volunteers-for-the-homeless-current-pvh-clients-only/2027-12-08/
LOCATION:Portsmouth Volunteers for the Homeless\, 800 Williamsburg Ave B\, Portsmouth\, VA\, 23704
CATEGORIES:Outreach
END:VEVENT
BEGIN:VEVENT
DTSTART;TZID=America/New_York:20280112T090000
DTEND;TZID=America/New_York:20280112T110000
DTSTAMP:20260422T053403
CREATED:20250701T191539Z
LAST-MODIFIED:20250701T191539Z
UID:10001883-1831280400-1831287600@laseva.org
SUMMARY:Portsmouth Volunteers for the Homeless (Current PVH Clients only)
DESCRIPTION:A Disability Rights Unit/ Homeless Outreach Project department staff member will be available to provide information and intake for services. This event is only for current Portsmouth Volunteers for the Homeless (PVH) clients. \n\n\n	Related
URL:https://laseva.org/event/portsmouth-volunteers-for-the-homeless-current-pvh-clients-only/2028-01-12/
LOCATION:Portsmouth Volunteers for the Homeless\, 800 Williamsburg Ave B\, Portsmouth\, VA\, 23704
CATEGORIES:Outreach
END:VEVENT
BEGIN:VEVENT
DTSTART;TZID=America/New_York:20280209T090000
DTEND;TZID=America/New_York:20280209T110000
DTSTAMP:20260422T053403
CREATED:20250701T191539Z
LAST-MODIFIED:20250701T191539Z
UID:10001884-1833699600-1833706800@laseva.org
SUMMARY:Portsmouth Volunteers for the Homeless (Current PVH Clients only)
DESCRIPTION:A Disability Rights Unit/ Homeless Outreach Project department staff member will be available to provide information and intake for services. This event is only for current Portsmouth Volunteers for the Homeless (PVH) clients. \n\n\n	Related
URL:https://laseva.org/event/portsmouth-volunteers-for-the-homeless-current-pvh-clients-only/2028-02-09/
LOCATION:Portsmouth Volunteers for the Homeless\, 800 Williamsburg Ave B\, Portsmouth\, VA\, 23704
CATEGORIES:Outreach
END:VEVENT
BEGIN:VEVENT
DTSTART;TZID=America/New_York:20280308T090000
DTEND;TZID=America/New_York:20280308T110000
DTSTAMP:20260422T053403
CREATED:20250701T191539Z
LAST-MODIFIED:20250701T191539Z
UID:10001885-1836118800-1836126000@laseva.org
SUMMARY:Portsmouth Volunteers for the Homeless (Current PVH Clients only)
DESCRIPTION:A Disability Rights Unit/ Homeless Outreach Project department staff member will be available to provide information and intake for services. This event is only for current Portsmouth Volunteers for the Homeless (PVH) clients. \n\n\n	Related
URL:https://laseva.org/event/portsmouth-volunteers-for-the-homeless-current-pvh-clients-only/2028-03-08/
LOCATION:Portsmouth Volunteers for the Homeless\, 800 Williamsburg Ave B\, Portsmouth\, VA\, 23704
CATEGORIES:Outreach
END:VEVENT
BEGIN:VEVENT
DTSTART;TZID=America/New_York:20280412T090000
DTEND;TZID=America/New_York:20280412T110000
DTSTAMP:20260422T053403
CREATED:20250701T191539Z
LAST-MODIFIED:20250701T191539Z
UID:10001886-1839142800-1839150000@laseva.org
SUMMARY:Portsmouth Volunteers for the Homeless (Current PVH Clients only)
DESCRIPTION:A Disability Rights Unit/ Homeless Outreach Project department staff member will be available to provide information and intake for services. This event is only for current Portsmouth Volunteers for the Homeless (PVH) clients. \n\n\n	Related
URL:https://laseva.org/event/portsmouth-volunteers-for-the-homeless-current-pvh-clients-only/2028-04-12/
LOCATION:Portsmouth Volunteers for the Homeless\, 800 Williamsburg Ave B\, Portsmouth\, VA\, 23704
CATEGORIES:Outreach
END:VEVENT
BEGIN:VEVENT
DTSTART;TZID=America/New_York:20280510T090000
DTEND;TZID=America/New_York:20280510T110000
DTSTAMP:20260422T053403
CREATED:20250701T191539Z
LAST-MODIFIED:20250701T191539Z
UID:10001887-1841562000-1841569200@laseva.org
SUMMARY:Portsmouth Volunteers for the Homeless (Current PVH Clients only)
DESCRIPTION:A Disability Rights Unit/ Homeless Outreach Project department staff member will be available to provide information and intake for services. This event is only for current Portsmouth Volunteers for the Homeless (PVH) clients. \n\n\n	Related
URL:https://laseva.org/event/portsmouth-volunteers-for-the-homeless-current-pvh-clients-only/2028-05-10/
LOCATION:Portsmouth Volunteers for the Homeless\, 800 Williamsburg Ave B\, Portsmouth\, VA\, 23704
CATEGORIES:Outreach
END:VEVENT
BEGIN:VEVENT
DTSTART;TZID=America/New_York:20280614T090000
DTEND;TZID=America/New_York:20280614T110000
DTSTAMP:20260422T053403
CREATED:20250701T191539Z
LAST-MODIFIED:20250701T191539Z
UID:10001888-1844586000-1844593200@laseva.org
SUMMARY:Portsmouth Volunteers for the Homeless (Current PVH Clients only)
DESCRIPTION:A Disability Rights Unit/ Homeless Outreach Project department staff member will be available to provide information and intake for services. This event is only for current Portsmouth Volunteers for the Homeless (PVH) clients. \n\n\n	Related
URL:https://laseva.org/event/portsmouth-volunteers-for-the-homeless-current-pvh-clients-only/2028-06-14/
LOCATION:Portsmouth Volunteers for the Homeless\, 800 Williamsburg Ave B\, Portsmouth\, VA\, 23704
CATEGORIES:Outreach
END:VEVENT
BEGIN:VEVENT
DTSTART;TZID=America/New_York:20280712T090000
DTEND;TZID=America/New_York:20280712T110000
DTSTAMP:20260422T053403
CREATED:20250701T191539Z
LAST-MODIFIED:20250701T191539Z
UID:10001889-1847005200-1847012400@laseva.org
SUMMARY:Portsmouth Volunteers for the Homeless (Current PVH Clients only)
DESCRIPTION:A Disability Rights Unit/ Homeless Outreach Project department staff member will be available to provide information and intake for services. This event is only for current Portsmouth Volunteers for the Homeless (PVH) clients. \n\n\n	Related
URL:https://laseva.org/event/portsmouth-volunteers-for-the-homeless-current-pvh-clients-only/2028-07-12/
LOCATION:Portsmouth Volunteers for the Homeless\, 800 Williamsburg Ave B\, Portsmouth\, VA\, 23704
CATEGORIES:Outreach
END:VEVENT
BEGIN:VEVENT
DTSTART;TZID=America/New_York:20280809T090000
DTEND;TZID=America/New_York:20280809T110000
DTSTAMP:20260422T053403
CREATED:20250701T191539Z
LAST-MODIFIED:20250701T191539Z
UID:10001890-1849424400-1849431600@laseva.org
SUMMARY:Portsmouth Volunteers for the Homeless (Current PVH Clients only)
DESCRIPTION:A Disability Rights Unit/ Homeless Outreach Project department staff member will be available to provide information and intake for services. This event is only for current Portsmouth Volunteers for the Homeless (PVH) clients. \n\n\n	Related
URL:https://laseva.org/event/portsmouth-volunteers-for-the-homeless-current-pvh-clients-only/2028-08-09/
LOCATION:Portsmouth Volunteers for the Homeless\, 800 Williamsburg Ave B\, Portsmouth\, VA\, 23704
CATEGORIES:Outreach
END:VEVENT
BEGIN:VEVENT
DTSTART;TZID=America/New_York:20280913T090000
DTEND;TZID=America/New_York:20280913T110000
DTSTAMP:20260422T053403
CREATED:20250701T191539Z
LAST-MODIFIED:20250701T191539Z
UID:10001891-1852448400-1852455600@laseva.org
SUMMARY:Portsmouth Volunteers for the Homeless (Current PVH Clients only)
DESCRIPTION:A Disability Rights Unit/ Homeless Outreach Project department staff member will be available to provide information and intake for services. This event is only for current Portsmouth Volunteers for the Homeless (PVH) clients. \n\n\n	Related
URL:https://laseva.org/event/portsmouth-volunteers-for-the-homeless-current-pvh-clients-only/2028-09-13/
LOCATION:Portsmouth Volunteers for the Homeless\, 800 Williamsburg Ave B\, Portsmouth\, VA\, 23704
CATEGORIES:Outreach
END:VEVENT
BEGIN:VEVENT
DTSTART;TZID=America/New_York:20281011T090000
DTEND;TZID=America/New_York:20281011T110000
DTSTAMP:20260422T053403
CREATED:20250701T191539Z
LAST-MODIFIED:20250701T191539Z
UID:10001892-1854867600-1854874800@laseva.org
SUMMARY:Portsmouth Volunteers for the Homeless (Current PVH Clients only)
DESCRIPTION:A Disability Rights Unit/ Homeless Outreach Project department staff member will be available to provide information and intake for services. This event is only for current Portsmouth Volunteers for the Homeless (PVH) clients. \n\n\n	Related
URL:https://laseva.org/event/portsmouth-volunteers-for-the-homeless-current-pvh-clients-only/2028-10-11/
LOCATION:Portsmouth Volunteers for the Homeless\, 800 Williamsburg Ave B\, Portsmouth\, VA\, 23704
CATEGORIES:Outreach
END:VEVENT
END:VCALENDAR