BEGIN:VCALENDAR
VERSION:2.0
PRODID:-// - ECPv6.15.20//NONSGML v1.0//EN
CALSCALE:GREGORIAN
METHOD:PUBLISH
X-ORIGINAL-URL:https://laseva.org
X-WR-CALDESC:Events for 
REFRESH-INTERVAL;VALUE=DURATION:PT1H
X-Robots-Tag:noindex
X-PUBLISHED-TTL:PT1H
BEGIN:VTIMEZONE
TZID:America/New_York
BEGIN:DAYLIGHT
TZOFFSETFROM:-0500
TZOFFSETTO:-0400
TZNAME:EDT
DTSTART:20240310T070000
END:DAYLIGHT
BEGIN:STANDARD
TZOFFSETFROM:-0400
TZOFFSETTO:-0500
TZNAME:EST
DTSTART:20241103T060000
END:STANDARD
BEGIN:DAYLIGHT
TZOFFSETFROM:-0500
TZOFFSETTO:-0400
TZNAME:EDT
DTSTART:20250309T070000
END:DAYLIGHT
BEGIN:STANDARD
TZOFFSETFROM:-0400
TZOFFSETTO:-0500
TZNAME:EST
DTSTART:20251102T060000
END:STANDARD
BEGIN:DAYLIGHT
TZOFFSETFROM:-0500
TZOFFSETTO:-0400
TZNAME:EDT
DTSTART:20260308T070000
END:DAYLIGHT
BEGIN:STANDARD
TZOFFSETFROM:-0400
TZOFFSETTO:-0500
TZNAME:EST
DTSTART:20261101T060000
END:STANDARD
END:VTIMEZONE
BEGIN:VEVENT
DTSTART;TZID=America/New_York:20250813T093000
DTEND;TZID=America/New_York:20250813T110000
DTSTAMP:20260422T095306
CREATED:20250714T185452Z
LAST-MODIFIED:20250714T185453Z
UID:10000412-1755077400-1755082800@laseva.org
SUMMARY:Basilica of St. Mary of the Immaculate Conception Pantry
DESCRIPTION:LASEV will be available to take applications for service and share information about upcoming events.
URL:https://laseva.org/event/basilica-of-st-mary-of-the-immaculate-conception-pantry-3/2025-08-13/
LOCATION:Basilica of St. Mary of the Immaculate Conception\, 232 Chapel Street\, Norfolk\, VA\, 23504
CATEGORIES:Outreach
ATTACH;FMTTYPE=image/png:https://laseva.org/wp-content/uploads/2025/06/Bascilica-of-St-Marys-Pantry.png
END:VEVENT
BEGIN:VEVENT
DTSTART;TZID=America/New_York:20250813T090000
DTEND;TZID=America/New_York:20250813T110000
DTSTAMP:20260422T095306
CREATED:20250701T191539Z
LAST-MODIFIED:20250701T191539Z
UID:10001854-1755075600-1755082800@laseva.org
SUMMARY:Portsmouth Volunteers for the Homeless (Current PVH Clients only)
DESCRIPTION:A Disability Rights Unit/ Homeless Outreach Project department staff member will be available to provide information and intake for services. This event is only for current Portsmouth Volunteers for the Homeless (PVH) clients.
URL:https://laseva.org/event/portsmouth-volunteers-for-the-homeless-current-pvh-clients-only/2025-08-13/
LOCATION:Portsmouth Volunteers for the Homeless\, 800 Williamsburg Ave B\, Portsmouth\, VA\, 23704
CATEGORIES:Outreach
END:VEVENT
BEGIN:VEVENT
DTSTART;TZID=America/New_York:20250811T143000
DTEND;TZID=America/New_York:20250811T163000
DTSTAMP:20260422T095306
CREATED:20250630T142325Z
LAST-MODIFIED:20250630T170134Z
UID:10001604-1754922600-1754929800@laseva.org
SUMMARY:South Norfolk Memorial Library
DESCRIPTION:LASEV will be available to take applications for service and share information about upcoming events.
URL:https://laseva.org/event/south-norfolk-memorial-library/2025-08-11/
LOCATION:South Norfolk Memorial Library\, 801 Poindexter Street\, Chesapeake\, VA\, 23324
CATEGORIES:Outreach
ATTACH;FMTTYPE=image/png:https://laseva.org/wp-content/uploads/2025/06/South-Norfolk-Memorial-Library.png
END:VEVENT
BEGIN:VEVENT
DTSTART;TZID=America/New_York:20250809T110000
DTEND;TZID=America/New_York:20250809T130000
DTSTAMP:20260422T095306
CREATED:20250728T204738Z
LAST-MODIFIED:20250728T204738Z
UID:10001917-1754737200-1754744400@laseva.org
SUMMARY:Back to School Community Resource Fair
DESCRIPTION:Join us for a day of support\, celebration\, and community! Over 20 local organizations will be on site offering free school supplies\, lunch\, and valuable resources for kids and adults alike.
URL:https://laseva.org/event/back-to-school-community-resource-fair/
LOCATION:Ebenezer AME Church\, 27054 Cheapside Road\, Capeville\, VA\, 23310
CATEGORIES:Outreach
ATTACH;FMTTYPE=image/jpeg:https://laseva.org/wp-content/uploads/2025/07/520830620_1180630227439970_3320998201042865527_n.jpg
END:VEVENT
BEGIN:VEVENT
DTSTART;TZID=America/New_York:20250809T100000
DTEND;TZID=America/New_York:20250809T140000
DTSTAMP:20260422T095306
CREATED:20250801T192323Z
LAST-MODIFIED:20250801T192323Z
UID:10002162-1754733600-1754748000@laseva.org
SUMMARY:Unity in the Community: Back to School Celebration
DESCRIPTION:Come and see us at the Unity in the Community: Back to School Celebration! This event is open to Norfolk pre-school\, elementary\, middle\, and high school students. \nWhat to expect:  \n\nBackpack and school supply distribution.\nImmunizations and health screenings.\nCity of Norfolk and community resources.\nRaffle prizes and more!\n\nTo register\, visit: https://survey.k12insight.com/survey/form?k=SsXQVRPsQTQsPsPsP&lang=0
URL:https://laseva.org/event/unity-in-the-community-back-to-school-celebration/
LOCATION:Norfolk Scope\, 201 E Brambleton Ave\, Norfolk\, VA\, 23510
CATEGORIES:Outreach
ATTACH;FMTTYPE=image/jpeg:https://laseva.org/wp-content/uploads/2025/08/514413559_1180316790795937_5870947478571731980_n.jpg
END:VEVENT
BEGIN:VEVENT
DTSTART;TZID=America/New_York:20250808T100000
DTEND;TZID=America/New_York:20250808T113000
DTSTAMP:20260422T095306
CREATED:20250630T140508Z
LAST-MODIFIED:20250630T140508Z
UID:10001544-1754647200-1754652600@laseva.org
SUMMARY:Four Oaks Day Service Center
DESCRIPTION:LASEV will be available to take applications for service and share information about upcoming events.
URL:https://laseva.org/event/four-oaks-day-service-center/2025-08-08/
LOCATION:Four Oaks Day Center\, 7401 Warwick Blvd\, Newport News\, VA\, 23607
CATEGORIES:Outreach
END:VEVENT
BEGIN:VEVENT
DTSTART;TZID=America/New_York:20250808T090000
DTEND;TZID=America/New_York:20250808T120000
DTSTAMP:20260422T095306
CREATED:20250630T134727Z
LAST-MODIFIED:20250701T191000Z
UID:10001184-1754643600-1754654400@laseva.org
SUMMARY:Hampton VA Medical Center
DESCRIPTION:A Disability Rights Unit/ Homeless Outreach Project office Veterans’ staff attorney will be available to provide free legal consultation\, advice\, and intake for services in the Homeless Veterans Unit Conference Room.
URL:https://laseva.org/event/hampton-va/2025-08-08/
LOCATION:Hampton VA\, 100 Emancipation Drive\, Hampton\, VA\, 23667
CATEGORIES:Attorney Available,Outreach
END:VEVENT
BEGIN:VEVENT
DTSTART;TZID=America/New_York:20250806T160000
DTEND;TZID=America/New_York:20250806T170000
DTSTAMP:20260422T095306
CREATED:20250630T134044Z
LAST-MODIFIED:20250630T134044Z
UID:10000933-1754496000-1754499600@laseva.org
SUMMARY:Pearl Bailey Public Library
DESCRIPTION:A Peninsula office staff attorney will be available to provide free consultation\, advice\, and intake for services.
URL:https://laseva.org/event/pearl-bailey-public-library/2025-08-06/
LOCATION:Pearl Bailey Library\, 2510 Wickham Ave\, Newport News\, VA\, 23607
CATEGORIES:Attorney Available,Outreach
END:VEVENT
BEGIN:VEVENT
DTSTART;TZID=America/New_York:20250806T093000
DTEND;TZID=America/New_York:20250806T113000
DTSTAMP:20260422T095306
CREATED:20250630T133152Z
LAST-MODIFIED:20250630T133152Z
UID:10000153-1754472600-1754479800@laseva.org
SUMMARY:Star of the Sea
DESCRIPTION:A Disability Rights Unit/ Homeless Outreach Project department staff attorney will be available to provide free legal consultation\, advice\, and intake for services.
URL:https://laseva.org/event/star-of-the-sea/2025-08-06/
LOCATION:Star of the Sea\, 1404 Pacific Ave\, Virginia Beach\, VA\, 23451
CATEGORIES:Attorney Available,Outreach
END:VEVENT
BEGIN:VEVENT
DTSTART;TZID=America/New_York:20250806T093000
DTEND;TZID=America/New_York:20250806T110000
DTSTAMP:20260422T095306
CREATED:20250630T133812Z
LAST-MODIFIED:20250630T170833Z
UID:10000804-1754472600-1754478000@laseva.org
SUMMARY:Basilica of St. Mary of the Immaculate Conception Pantry
DESCRIPTION:Deputy Director\, Melissa Bonfiglio\, will be available to provide free consultation\, advice\, and intake for services.
URL:https://laseva.org/event/basilica-of-st-mary-of-the-immaculate-conception-pantry-2/2025-08-06/
LOCATION:Basilica of St. Mary of the Immaculate Conception\, 232 Chapel Street\, Norfolk\, VA\, 23504
CATEGORIES:Attorney Available,Outreach
ATTACH;FMTTYPE=image/png:https://laseva.org/wp-content/uploads/2025/06/Bascilica-of-St-Marys-Pantry.png
END:VEVENT
BEGIN:VEVENT
DTSTART;TZID=America/New_York:20250805T123000
DTEND;TZID=America/New_York:20250805T153000
DTSTAMP:20260422T095306
CREATED:20250630T132829Z
LAST-MODIFIED:20250701T191730Z
UID:10000089-1754397000-1754407800@laseva.org
SUMMARY:The Community Feed at Jordan Newby
DESCRIPTION:The community support team will be available to provide free legal consultation\, advice\, and intake for services.
URL:https://laseva.org/event/the-community-feed-at-jordan-newby/2025-08-05/
LOCATION:The Community Feed at Jordan Newby\, 961 Park Ave\, Norfolk\, VA\, 23504
CATEGORIES:Outreach
ATTACH;FMTTYPE=image/png:https://laseva.org/wp-content/uploads/2025/06/The-community-feed-at-Jordan-newby.png
END:VEVENT
BEGIN:VEVENT
DTSTART;TZID=America/New_York:20250805T093000
DTEND;TZID=America/New_York:20250805T120000
DTSTAMP:20260422T095306
CREATED:20250630T132525Z
LAST-MODIFIED:20250630T132525Z
UID:10000029-1754386200-1754395200@laseva.org
SUMMARY:Potter's House
DESCRIPTION:A DRU/HOP attorney will be available to give free legal consultation\, advice and intake for services
URL:https://laseva.org/event/potters-house/2025-08-05/
LOCATION:Potters House\, 1709 Pacific Ave\, Virginia Beach\, VA\, 23451\, United States
CATEGORIES:Attorney Available,Outreach
END:VEVENT
BEGIN:VEVENT
DTSTART;TZID=America/New_York:20250802T090000
DTEND;TZID=America/New_York:20250802T120000
DTSTAMP:20260422T095306
CREATED:20250723T195537Z
LAST-MODIFIED:20250723T195537Z
UID:10001916-1754125200-1754136000@laseva.org
SUMMARY:Be Well Block Party 2025
DESCRIPTION:Join us for a day of health\, wellness\, and community fun at the Be Well Block Party! This exciting event is designed to bring our community together and provide valuable health services\, education\, and activities for all ages. \n\n Date: Saturday\, August 2\, 2025 Rain or Shine Time: 9:00 AM – 12:00 PM Location: Downtown Parksley\n\nWe are thrilled to invite you to a fun and informative morning dedicated to promoting health and wellness in our community. This free event is open to everyone\, so bring your family and friends!\n\n\n\n\nEvent Highlights \n\nReality TV Chef Tiffany Derry\, best known as a fan-favorite on Bravo’s “Top Chef” and a Novo Nordisk Host\, will present a healthy cooking demonstration and educational workshop. Ingredients for her recipe will be available in the Foodbank of Southeastern VA and Eastern Shore’s mobile market.\nPreventative Health Resources\nAccomack County Public School’s Book Mobile\nChildren’s Activities\nImmunizations needed to enter kindergarten\, 7th and 12th grades\nBlood Pressure\, Glucose\, Breast Health\, Vision and BMI Screenings\nComprehensive Advanced Care Planning Resources \nDARE
URL:https://laseva.org/event/be-well-block-party-2025/
LOCATION:Downtown Parksley\, 18444 Dunne Ave\, Parksley\, VA\, 23421
ATTACH;FMTTYPE=image/webp:https://laseva.org/wp-content/uploads/2025/07/CPES-Parksley-Be-Well-Block-Party-Flyer-8-3-24-1-768x994.png-1.webp
END:VEVENT
BEGIN:VEVENT
DTSTART;TZID=America/New_York:20250801T140000
DTEND;TZID=America/New_York:20250801T160000
DTSTAMP:20260422T095306
CREATED:20250701T153826Z
LAST-MODIFIED:20250701T162348Z
UID:10001731-1754056800-1754064000@laseva.org
SUMMARY:Portsmouth Main Library
DESCRIPTION:LASEV Director\, Raymond Hartz\, Esq. or Deputy Director\, Melissa Bonfiglio\, Esq. will be available to provide free legal consult\, advice\, and intake for services.
URL:https://laseva.org/event/portsmouth-main-library-2/2025-08-01/
LOCATION:Portsmouth Main Library\, 601 Court St\, Portsmouth\, VA\, 23704
CATEGORIES:Attorney Available,Outreach
ATTACH;FMTTYPE=image/png:https://laseva.org/wp-content/uploads/2025/07/Portsmouth-Main-library.png
END:VEVENT
BEGIN:VEVENT
DTSTART;TZID=America/New_York:20250731T190000
DTEND;TZID=America/New_York:20250731T200000
DTSTAMP:20260422T095306
CREATED:20250630T134258Z
LAST-MODIFIED:20250630T134258Z
UID:10000994-1753988400-1753992000@laseva.org
SUMMARY:StandUp for Kids
DESCRIPTION:A DRU/HOP attorney will be available to take applications for service as well as provide consultation and advice to qualifying low-income individuals.
URL:https://laseva.org/event/standup-for-kids/2025-07-31/
LOCATION:StandUp For Kids\, 1709 Pacific Ave\, Virginia Beach\, VA\, 23451
CATEGORIES:Attorney Available,Outreach
END:VEVENT
BEGIN:VEVENT
DTSTART;TZID=America/New_York:20250730T100000
DTEND;TZID=America/New_York:20250730T120000
DTSTAMP:20260422T095306
CREATED:20250701T190603Z
LAST-MODIFIED:20250701T190603Z
UID:10001792-1753869600-1753876800@laseva.org
SUMMARY:THRIVE Peninsula
DESCRIPTION:A Disability Rights Unit/ Homeless Outreach Project department staff attorney will be available to provide free legal consultation\, advice\, and intake for services.
URL:https://laseva.org/event/thrive-peninsula/
LOCATION:THRIVE Peninsula\, 12749 Nettles Dr\, Newport News\, VA\, 23606
CATEGORIES:Attorney Available,Outreach
END:VEVENT
BEGIN:VEVENT
DTSTART;TZID=America/New_York:20250730T093000
DTEND;TZID=America/New_York:20250730T113000
DTSTAMP:20260422T095306
CREATED:20250630T133152Z
LAST-MODIFIED:20250630T133152Z
UID:10000152-1753867800-1753875000@laseva.org
SUMMARY:Star of the Sea
DESCRIPTION:A Disability Rights Unit/ Homeless Outreach Project department staff attorney will be available to provide free legal consultation\, advice\, and intake for services.
URL:https://laseva.org/event/star-of-the-sea/2025-07-30/
LOCATION:Star of the Sea\, 1404 Pacific Ave\, Virginia Beach\, VA\, 23451
CATEGORIES:Attorney Available,Outreach
END:VEVENT
BEGIN:VEVENT
DTSTART;TZID=America/New_York:20250730T093000
DTEND;TZID=America/New_York:20250730T110000
DTSTAMP:20260422T095306
CREATED:20250714T185452Z
LAST-MODIFIED:20250714T185453Z
UID:10000411-1753867800-1753873200@laseva.org
SUMMARY:Basilica of St. Mary of the Immaculate Conception Pantry
DESCRIPTION:LASEV will be available to take applications for service and share information about upcoming events.
URL:https://laseva.org/event/basilica-of-st-mary-of-the-immaculate-conception-pantry-3/2025-07-30/
LOCATION:Basilica of St. Mary of the Immaculate Conception\, 232 Chapel Street\, Norfolk\, VA\, 23504
CATEGORIES:Outreach
ATTACH;FMTTYPE=image/png:https://laseva.org/wp-content/uploads/2025/06/Bascilica-of-St-Marys-Pantry.png
END:VEVENT
BEGIN:VEVENT
DTSTART;TZID=America/New_York:20250727T090000
DTEND;TZID=America/New_York:20250727T120000
DTSTAMP:20260422T095306
CREATED:20250630T144242Z
LAST-MODIFIED:20250701T152643Z
UID:10001667-1753606800-1753617600@laseva.org
SUMMARY:St. Mark Baptist Church
DESCRIPTION:LASEV will be available to take applications for service and share information about upcoming events.
URL:https://laseva.org/event/st-mark-baptist-church/
LOCATION:St. Mark Baptist Church\, 28539 Railroad Ave\, Melfa\, VA\, 23410
CATEGORIES:Outreach
END:VEVENT
BEGIN:VEVENT
DTSTART;TZID=America/New_York:20250726T113000
DTEND;TZID=America/New_York:20250726T150000
DTSTAMP:20260422T095306
CREATED:20250714T190001Z
LAST-MODIFIED:20250714T190001Z
UID:10001915-1753529400-1753542000@laseva.org
SUMMARY:Norfolk Vision Now - Power on the Lot
DESCRIPTION:Power on the Lot is a lively outdoor gathering focused on food\, connection\, and community-building. Hosted by Norfolk Vision Now\, this event offers a welcoming space for neighbors to come together\, enjoy the summer\, and connect with organizations creating change across the city.
URL:https://laseva.org/event/norfolk-vision-now-power-on-the-lot/
LOCATION:512 W 35th Street\, 512 W 35th Street\, Norfolk\, VA\, 23508
ATTACH;FMTTYPE=image/png:https://laseva.org/wp-content/uploads/2025/07/NVN-Power-at-the-Lot-2025.png
END:VEVENT
BEGIN:VEVENT
DTSTART;TZID=America/New_York:20250726T103000
DTEND;TZID=America/New_York:20250726T153000
DTSTAMP:20260422T095306
CREATED:20250701T162322Z
LAST-MODIFIED:20250712T171238Z
UID:10001790-1753525800-1753543800@laseva.org
SUMMARY:Housing Expungement Workshop
DESCRIPTION:Do you need evictions removed from your record?\n\nJoin us Saturday\, July 26 at 10:30AM for our FREE housing workshop! It will be held at the Young Terrace Boys & Girls Club Gym\, (450 E Olney Rd\, Norfolk\, 23510)\n\n\nIf you have evictions on your record\, a landlord might deny your rental application\, even with a Section 8 housing voucher. Not all evictions can be taken off your record\, but some can\, and we want to help you with that!\n\n\nWe will be working with tenants to remove eligible evictions from their public record if they qualify for Legal Aid services! This is a free event\, and registration is encouraged. We look forward to seeing you!\n\n\nTo register\, visit:\nhttps://ow.ly/myt450VTxrh
URL:https://laseva.org/event/housing-expungement-workshop/
LOCATION:Young Terrace Boys and Girls Club Gym\, 450 E Olney Rd\, Norfolk\, VA\, 23510
CATEGORIES:Attorney Available,Outreach,Special Event
ATTACH;FMTTYPE=image/png:https://laseva.org/wp-content/uploads/2025/07/Housing-Expungement-April-5-Facebook-Event-Banner-1.png
END:VEVENT
BEGIN:VEVENT
DTSTART;TZID=America/New_York:20250724T153000
DTEND;TZID=America/New_York:20250724T170000
DTSTAMP:20260422T095306
CREATED:20250630T140223Z
LAST-MODIFIED:20250630T170618Z
UID:10001483-1753371000-1753376400@laseva.org
SUMMARY:The Community Feed at Berkley
DESCRIPTION:LASEV will be available to take applications for service and share information about upcoming events.
URL:https://laseva.org/event/the-community-feed-at-berkley/2025-07-24/
LOCATION:The Community Feed at Berkley\, 701 South Main Street\, Norfolk\, VA\, 23523
CATEGORIES:Outreach
ATTACH;FMTTYPE=image/png:https://laseva.org/wp-content/uploads/2025/06/5.png
END:VEVENT
BEGIN:VEVENT
DTSTART;TZID=America/New_York:20250724T133000
DTEND;TZID=America/New_York:20250724T153000
DTSTAMP:20260422T095306
CREATED:20250630T142635Z
LAST-MODIFIED:20250801T191259Z
UID:10001664-1753363800-1753371000@laseva.org
SUMMARY:Young Terrace Community Center
DESCRIPTION:A member of the LASEV Community Support Team will be available to take applications for service and share information about upcoming events.
URL:https://laseva.org/event/young-terrace-community-center/2025-07-24/
LOCATION:Young Terrace Community Center\, 804 Whitaker Ln\, Norfolk\, VA\, 23510
CATEGORIES:Outreach
END:VEVENT
BEGIN:VEVENT
DTSTART;TZID=America/New_York:20250724T110000
DTEND;TZID=America/New_York:20250724T140000
DTSTAMP:20260422T095306
CREATED:20250630T145012Z
LAST-MODIFIED:20250630T190743Z
UID:10001668-1753354800-1753365600@laseva.org
SUMMARY:Wills/POA/AMD Workshop for Seniors
DESCRIPTION:Are you a senior looking to secure your future? Join us for an estate planning workshop designed to provide you with free legal assistance in preparing essential documents such as wills\, power of attorney (POA)\, and advanced medical directives (AMD). \nWho should attend? \nThis workshop is ideal for seniors who need assistance with legal documents related to estate planning and healthcare decisions. Whether you’re creating these documents for the first time or need to make updates\, this workshop is for you! Income and eligibility restrictions apply. Pre-registration is required so we can complete our intake screening process before the workshop. \nNOTE: Please bring your photo ID to the workshop for notarizing documents! \nWills POA AMD Workshop Flyer
URL:https://laseva.org/event/wills-poa-amd-workshop-for-seniors/
LOCATION:Eastern Shore Area Agency on Aging\, 5432 Bayside Road\, Exmore\, VA\, 23350
CATEGORIES:Attorney Available,Outreach,Special Event
END:VEVENT
BEGIN:VEVENT
DTSTART;TZID=America/New_York:20250724T090000
DTEND;TZID=America/New_York:20250724T110000
DTSTAMP:20260422T095306
CREATED:20250630T135925Z
LAST-MODIFIED:20250630T135925Z
UID:10001423-1753347600-1753354800@laseva.org
SUMMARY:Union Mission
DESCRIPTION:A Disability Rights Unit/ Homeless Outreach Project office social worker will be available for services.
URL:https://laseva.org/event/union-mission/2025-07-24/
LOCATION:Union Mission\, 5100 E Virginia Beach Blvd\, Norfolk\, VA\, 23502
CATEGORIES:Outreach
END:VEVENT
BEGIN:VEVENT
DTSTART;TZID=America/New_York:20250723T093000
DTEND;TZID=America/New_York:20250723T113000
DTSTAMP:20260422T095306
CREATED:20250630T133152Z
LAST-MODIFIED:20250630T133152Z
UID:10000151-1753263000-1753270200@laseva.org
SUMMARY:Star of the Sea
DESCRIPTION:A Disability Rights Unit/ Homeless Outreach Project department staff attorney will be available to provide free legal consultation\, advice\, and intake for services.
URL:https://laseva.org/event/star-of-the-sea/2025-07-23/
LOCATION:Star of the Sea\, 1404 Pacific Ave\, Virginia Beach\, VA\, 23451
CATEGORIES:Attorney Available,Outreach
END:VEVENT
BEGIN:VEVENT
DTSTART;TZID=America/New_York:20250723T093000
DTEND;TZID=America/New_York:20250723T110000
DTSTAMP:20260422T095306
CREATED:20250630T133812Z
LAST-MODIFIED:20250630T170833Z
UID:10000803-1753263000-1753268400@laseva.org
SUMMARY:Basilica of St. Mary of the Immaculate Conception Pantry
DESCRIPTION:Deputy Director\, Melissa Bonfiglio\, will be available to provide free consultation\, advice\, and intake for services.
URL:https://laseva.org/event/basilica-of-st-mary-of-the-immaculate-conception-pantry-2/2025-07-23/
LOCATION:Basilica of St. Mary of the Immaculate Conception\, 232 Chapel Street\, Norfolk\, VA\, 23504
CATEGORIES:Attorney Available,Outreach
ATTACH;FMTTYPE=image/png:https://laseva.org/wp-content/uploads/2025/06/Bascilica-of-St-Marys-Pantry.png
END:VEVENT
BEGIN:VEVENT
DTSTART;TZID=America/New_York:20250718T100000
DTEND;TZID=America/New_York:20250718T140000
DTSTAMP:20260422T095306
CREATED:20250630T143601Z
LAST-MODIFIED:20250630T143601Z
UID:10001665-1752832800-1752847200@laseva.org
SUMMARY:Foodbank of the Eastern Shore (Tasley)
DESCRIPTION:LASEV will be available to take applications for service and share information about upcoming events.
URL:https://laseva.org/event/foodbank-of-the-eastern-shore-tasley/
LOCATION:Tasley Foodbank\, 24530 Coastal Blvd\, Tasley\, VA\, 23441
CATEGORIES:Outreach
END:VEVENT
BEGIN:VEVENT
DTSTART;TZID=America/New_York:20250717T190000
DTEND;TZID=America/New_York:20250717T200000
DTSTAMP:20260422T095306
CREATED:20250630T134258Z
LAST-MODIFIED:20250630T134258Z
UID:10000993-1752778800-1752782400@laseva.org
SUMMARY:StandUp for Kids
DESCRIPTION:A DRU/HOP attorney will be available to take applications for service as well as provide consultation and advice to qualifying low-income individuals.
URL:https://laseva.org/event/standup-for-kids/2025-07-17/
LOCATION:StandUp For Kids\, 1709 Pacific Ave\, Virginia Beach\, VA\, 23451
CATEGORIES:Attorney Available,Outreach
END:VEVENT
BEGIN:VEVENT
DTSTART;TZID=America/New_York:20250717T133000
DTEND;TZID=America/New_York:20250717T153000
DTSTAMP:20260422T095306
CREATED:20250630T145631Z
LAST-MODIFIED:20250630T145631Z
UID:10001669-1752759000-1752766200@laseva.org
SUMMARY:Williamsburg House of Mercy
DESCRIPTION:A Peninsula office staff attorney will be available to provide free consultation\, advice\, and intake for services.
URL:https://laseva.org/event/williamsburg-house-of-mercy/2025-07-17/
LOCATION:Williamsburg House of Mercy\, 10 Harrison Ave\, Williamsburg\, VA\, 23185
CATEGORIES:Attorney Available,Outreach
END:VEVENT
END:VCALENDAR