BEGIN:VCALENDAR
VERSION:2.0
PRODID:-// - ECPv6.15.20//NONSGML v1.0//EN
CALSCALE:GREGORIAN
METHOD:PUBLISH
X-ORIGINAL-URL:https://laseva.org
X-WR-CALDESC:Events for 
REFRESH-INTERVAL;VALUE=DURATION:PT1H
X-Robots-Tag:noindex
X-PUBLISHED-TTL:PT1H
BEGIN:VTIMEZONE
TZID:America/New_York
BEGIN:DAYLIGHT
TZOFFSETFROM:-0500
TZOFFSETTO:-0400
TZNAME:EDT
DTSTART:20240310T070000
END:DAYLIGHT
BEGIN:STANDARD
TZOFFSETFROM:-0400
TZOFFSETTO:-0500
TZNAME:EST
DTSTART:20241103T060000
END:STANDARD
BEGIN:DAYLIGHT
TZOFFSETFROM:-0500
TZOFFSETTO:-0400
TZNAME:EDT
DTSTART:20250309T070000
END:DAYLIGHT
BEGIN:STANDARD
TZOFFSETFROM:-0400
TZOFFSETTO:-0500
TZNAME:EST
DTSTART:20251102T060000
END:STANDARD
BEGIN:DAYLIGHT
TZOFFSETFROM:-0500
TZOFFSETTO:-0400
TZNAME:EDT
DTSTART:20260308T070000
END:DAYLIGHT
BEGIN:STANDARD
TZOFFSETFROM:-0400
TZOFFSETTO:-0500
TZNAME:EST
DTSTART:20261101T060000
END:STANDARD
END:VTIMEZONE
BEGIN:VEVENT
DTSTART;TZID=America/New_York:20250831T110000
DTEND;TZID=America/New_York:20250831T140000
DTSTAMP:20260422T083821
CREATED:20250728T205551Z
LAST-MODIFIED:20250728T205551Z
UID:10001918-1756638000-1756648800@laseva.org
SUMMARY:Back to School Bash
DESCRIPTION:Find LASEV at this FREE back to school event that includes: \n\nLoaded bookbags giveaway\nAccomack Sheriff Department ID Kits\nESRHS dental goodie bags\nRegistration for Northampton County School\nMusic\nFood\nBack to school hair appointments
URL:https://laseva.org/event/back-to-school-bash/
LOCATION:New Mount Zion Baptist Chuch\, 17450 Coal Kiln Rd\, Painter\, VA\, 23420
END:VEVENT
BEGIN:VEVENT
DTSTART;TZID=America/New_York:20250828T190000
DTEND;TZID=America/New_York:20250828T200000
DTSTAMP:20260422T083821
CREATED:20250630T134258Z
LAST-MODIFIED:20250630T134258Z
UID:10000996-1756407600-1756411200@laseva.org
SUMMARY:StandUp for Kids
DESCRIPTION:A DRU/HOP attorney will be available to take applications for service as well as provide consultation and advice to qualifying low-income individuals.
URL:https://laseva.org/event/standup-for-kids/2025-08-28/
LOCATION:StandUp For Kids\, 1709 Pacific Ave\, Virginia Beach\, VA\, 23451
CATEGORIES:Attorney Available,Outreach
END:VEVENT
BEGIN:VEVENT
DTSTART;TZID=America/New_York:20250828T153000
DTEND;TZID=America/New_York:20250828T170000
DTSTAMP:20260422T083821
CREATED:20250630T140223Z
LAST-MODIFIED:20250630T170618Z
UID:10001484-1756395000-1756400400@laseva.org
SUMMARY:The Community Feed at Berkley
DESCRIPTION:LASEV will be available to take applications for service and share information about upcoming events.
URL:https://laseva.org/event/the-community-feed-at-berkley/2025-08-28/
LOCATION:The Community Feed at Berkley\, 701 South Main Street\, Norfolk\, VA\, 23523
CATEGORIES:Outreach
ATTACH;FMTTYPE=image/png:https://laseva.org/wp-content/uploads/2025/06/5.png
END:VEVENT
BEGIN:VEVENT
DTSTART;TZID=America/New_York:20250828T133000
DTEND;TZID=America/New_York:20250828T153000
DTSTAMP:20260422T083821
CREATED:20250630T142635Z
LAST-MODIFIED:20250801T191259Z
UID:10001980-1756387800-1756395000@laseva.org
SUMMARY:Young Terrace Community Center
DESCRIPTION:A member of the LASEV Community Support Team will be available to take applications for service and share information about upcoming events.
URL:https://laseva.org/event/young-terrace-community-center/2025-08-28/
LOCATION:Young Terrace Community Center\, 804 Whitaker Ln\, Norfolk\, VA\, 23510
CATEGORIES:Outreach
END:VEVENT
BEGIN:VEVENT
DTSTART;TZID=America/New_York:20250828T090000
DTEND;TZID=America/New_York:20250828T110000
DTSTAMP:20260422T083821
CREATED:20250630T135925Z
LAST-MODIFIED:20250630T135925Z
UID:10001424-1756371600-1756378800@laseva.org
SUMMARY:Union Mission
DESCRIPTION:A Disability Rights Unit/ Homeless Outreach Project office social worker will be available for services.
URL:https://laseva.org/event/union-mission/2025-08-28/
LOCATION:Union Mission\, 5100 E Virginia Beach Blvd\, Norfolk\, VA\, 23502
CATEGORIES:Outreach
END:VEVENT
BEGIN:VEVENT
DTSTART;TZID=America/New_York:20250828T090000
DTEND;TZID=America/New_York:20250828T103000
DTSTAMP:20260422T083821
CREATED:20250818T142322Z
LAST-MODIFIED:20250818T142322Z
UID:10002551-1756371600-1756377000@laseva.org
SUMMARY:Norfolk General District Court Docket
DESCRIPTION:Welton Rouse\, our Norfolk Community Advocate\, will be present at the Norfolk General District Court docket at 9:00 a.m.\n\n\n\nWelton can complete intake applications for Legal Aid services (you must meet our eligibility guidelines)\, and can assist qualifying individuals with housing searches\, accessing healthcare and mental health resources\, applying for public benefits\, and applying for any available rental or utility assistance.\n\n\n\nStop by and see Welton; he’d love to talk to you!
URL:https://laseva.org/event/norfolk-general-district-court-docket/2025-08-28/
LOCATION:Norfolk Court\, 150 St Pauls Blvd\, Norfolk\, VA\, 23510
CATEGORIES:Outreach
END:VEVENT
BEGIN:VEVENT
DTSTART;TZID=America/New_York:20250827T093000
DTEND;TZID=America/New_York:20250827T113000
DTSTAMP:20260422T083821
CREATED:20250630T133152Z
LAST-MODIFIED:20250630T133152Z
UID:10000156-1756287000-1756294200@laseva.org
SUMMARY:Star of the Sea
DESCRIPTION:A Disability Rights Unit/ Homeless Outreach Project department staff attorney will be available to provide free legal consultation\, advice\, and intake for services.
URL:https://laseva.org/event/star-of-the-sea/2025-08-27/
LOCATION:Star of the Sea\, 1404 Pacific Ave\, Virginia Beach\, VA\, 23451
CATEGORIES:Attorney Available,Outreach
END:VEVENT
BEGIN:VEVENT
DTSTART;TZID=America/New_York:20250827T093000
DTEND;TZID=America/New_York:20250827T110000
DTSTAMP:20260422T083821
CREATED:20250815T184257Z
LAST-MODIFIED:20250815T184257Z
UID:10002289-1756287000-1756292400@laseva.org
SUMMARY:Basilica of St. Mary of the Immaculate Conception Pantry
DESCRIPTION:Deputy Director\, Melissa Bonfiglio\, will be available to provide free consultation\, advice\, and intake for services.
URL:https://laseva.org/event/basilica-of-st-mary-of-the-immaculate-conception-pantry-4/2025-08-27/
LOCATION:Basilica of St. Mary of the Immaculate Conception\, 232 Chapel Street\, Norfolk\, VA\, 23504
CATEGORIES:Attorney Available,Outreach
ATTACH;FMTTYPE=image/png:https://laseva.org/wp-content/uploads/2025/06/Bascilica-of-St-Marys-Pantry.png
END:VEVENT
BEGIN:VEVENT
DTSTART;TZID=America/New_York:20250821T133000
DTEND;TZID=America/New_York:20250821T153000
DTSTAMP:20260422T083821
CREATED:20250801T191406Z
LAST-MODIFIED:20250801T191406Z
UID:10002102-1755783000-1755790200@laseva.org
SUMMARY:Young Terrace Community Center
DESCRIPTION:A member of the LASEV Community Support Team will be available to take applications for service and share information about upcoming events.
URL:https://laseva.org/event/young-terrace-community-center-2/2025-08-21/
LOCATION:Young Terrace Community Center\, 804 Whitaker Ln\, Norfolk\, VA\, 23510
CATEGORIES:Outreach
END:VEVENT
BEGIN:VEVENT
DTSTART;TZID=America/New_York:20250821T133000
DTEND;TZID=America/New_York:20250821T153000
DTSTAMP:20260422T083821
CREATED:20250630T145631Z
LAST-MODIFIED:20250630T145631Z
UID:10001670-1755783000-1755790200@laseva.org
SUMMARY:Williamsburg House of Mercy
DESCRIPTION:A Peninsula office staff attorney will be available to provide free consultation\, advice\, and intake for services.
URL:https://laseva.org/event/williamsburg-house-of-mercy/2025-08-21/
LOCATION:Williamsburg House of Mercy\, 10 Harrison Ave\, Williamsburg\, VA\, 23185
CATEGORIES:Attorney Available,Outreach
END:VEVENT
BEGIN:VEVENT
DTSTART;TZID=America/New_York:20250821T093000
DTEND;TZID=America/New_York:20250821T120000
DTSTAMP:20260422T083821
CREATED:20250701T190915Z
LAST-MODIFIED:20250701T191109Z
UID:10001794-1755768600-1755777600@laseva.org
SUMMARY:LINK of Hampton Roads
DESCRIPTION:A Disability Rights Unit/ Homeless Outreach Project department staff attorney will be available to provide free legal consultation\, advice\, and intake for services.
URL:https://laseva.org/event/link-of-hampton-roads/2025-08-21/
LOCATION:LINK of Hampton Roads\, 10413 Warwick Blvd\, Newport News\, VA\, 23601
CATEGORIES:Attorney Available,Outreach
END:VEVENT
BEGIN:VEVENT
DTSTART;TZID=America/New_York:20250820T093000
DTEND;TZID=America/New_York:20250820T113000
DTSTAMP:20260422T083821
CREATED:20250630T133152Z
LAST-MODIFIED:20250630T133152Z
UID:10000155-1755682200-1755689400@laseva.org
SUMMARY:Star of the Sea
DESCRIPTION:A Disability Rights Unit/ Homeless Outreach Project department staff attorney will be available to provide free legal consultation\, advice\, and intake for services.
URL:https://laseva.org/event/star-of-the-sea/2025-08-20/
LOCATION:Star of the Sea\, 1404 Pacific Ave\, Virginia Beach\, VA\, 23451
CATEGORIES:Attorney Available,Outreach
END:VEVENT
BEGIN:VEVENT
DTSTART;TZID=America/New_York:20250820T093000
DTEND;TZID=America/New_York:20250820T110000
DTSTAMP:20260422T083821
CREATED:20250815T184411Z
LAST-MODIFIED:20250815T184411Z
UID:10002419-1755682200-1755687600@laseva.org
SUMMARY:Basilica of St. Mary of the Immaculate Conception Pantry
DESCRIPTION:LASEV will be available to take applications for service and share information about upcoming events.
URL:https://laseva.org/event/basilica-of-st-mary-of-the-immaculate-conception-pantry-5/2025-08-20/
LOCATION:Basilica of St. Mary of the Immaculate Conception\, 232 Chapel Street\, Norfolk\, VA\, 23504
CATEGORIES:Outreach
ATTACH;FMTTYPE=image/png:https://laseva.org/wp-content/uploads/2025/06/Bascilica-of-St-Marys-Pantry.png
END:VEVENT
BEGIN:VEVENT
DTSTART;TZID=America/New_York:20250819T123000
DTEND;TZID=America/New_York:20250819T153000
DTSTAMP:20260422T083821
CREATED:20250714T162132Z
LAST-MODIFIED:20250801T190958Z
UID:10001920-1755606600-1755617400@laseva.org
SUMMARY:The Community Feed at Jordan-Newby
DESCRIPTION:LASEV will be available to take applications for service and share information about upcoming events.
URL:https://laseva.org/event/the-community-feed-at-jordan-newby-3/2025-08-19/
LOCATION:The Community Feed at Jordan Newby\, 961 Park Ave\, Norfolk\, VA\, 23504
CATEGORIES:Outreach
ATTACH;FMTTYPE=image/png:https://laseva.org/wp-content/uploads/2025/06/The-community-feed-at-Jordan-newby.png
END:VEVENT
BEGIN:VEVENT
DTSTART;TZID=America/New_York:20250819T090000
DTEND;TZID=America/New_York:20250819T110000
DTSTAMP:20260422T083821
CREATED:20250630T135135Z
LAST-MODIFIED:20250630T135135Z
UID:10001304-1755594000-1755601200@laseva.org
SUMMARY:Salvation Army
DESCRIPTION:A Disability Rights Unit/ Homeless Outreach Project office social worker will be available for services.
URL:https://laseva.org/event/salvation-army/2025-08-19/
LOCATION:Salvation Army\, 5525 Raby Rd\, Norfolk\, VA\, 23502
CATEGORIES:Outreach
END:VEVENT
BEGIN:VEVENT
DTSTART;TZID=America/New_York:20250819T090000
DTEND;TZID=America/New_York:20250819T110000
DTSTAMP:20260422T083821
CREATED:20250630T134933Z
LAST-MODIFIED:20250630T134933Z
UID:10001244-1755594000-1755601200@laseva.org
SUMMARY:Virginia Beach Housing Resource Center
DESCRIPTION:A LASEV attorney will be available to take applications for service as well as provide consultation and advice to qualifying low-income individuals.
URL:https://laseva.org/event/virginia-beach-housing-resource-center/2025-08-19/
LOCATION:Virginia Beach Housing Resource Center\, 104 N Witchduck Rd\, Virginia Beach\, VA\, 23462
CATEGORIES:Attorney Available,Outreach
END:VEVENT
BEGIN:VEVENT
DTSTART;TZID=America/New_York:20250819T090000
DTEND;TZID=America/New_York:20250819T103000
DTSTAMP:20260422T083821
CREATED:20250917T132157Z
LAST-MODIFIED:20250917T132157Z
UID:10002620-1755594000-1755599400@laseva.org
SUMMARY:Norfolk General District Court Docket
DESCRIPTION:Welton Rouse\, our Norfolk Community Advocate\, will be present at the Norfolk General District Court docket at 9:00 a.m.\n\n\n\nWelton can complete intake applications for Legal Aid services (you must meet our eligibility guidelines)\, and can assist qualifying individuals with housing searches\, accessing healthcare and mental health resources\, applying for public benefits\, and applying for any available rental or utility assistance.\n\n\n\nStop by and see Welton; he’d love to talk to you!
URL:https://laseva.org/event/norfolk-general-district-court-docket-2/2025-08-19/
LOCATION:Norfolk Court\, 150 St Pauls Blvd\, Norfolk\, VA\, 23510
CATEGORIES:Outreach
END:VEVENT
BEGIN:VEVENT
DTSTART;TZID=America/New_York:20250819T090000
DTEND;TZID=America/New_York:20250819T103000
DTSTAMP:20260422T083821
CREATED:20250818T142322Z
LAST-MODIFIED:20250818T142322Z
UID:10002550-1755594000-1755599400@laseva.org
SUMMARY:Norfolk General District Court Docket
DESCRIPTION:Welton Rouse\, our Norfolk Community Advocate\, will be present at the Norfolk General District Court docket at 9:00 a.m.\n\n\n\nWelton can complete intake applications for Legal Aid services (you must meet our eligibility guidelines)\, and can assist qualifying individuals with housing searches\, accessing healthcare and mental health resources\, applying for public benefits\, and applying for any available rental or utility assistance.\n\n\n\nStop by and see Welton; he’d love to talk to you!
URL:https://laseva.org/event/norfolk-general-district-court-docket/2025-08-19/
LOCATION:Norfolk Court\, 150 St Pauls Blvd\, Norfolk\, VA\, 23510
CATEGORIES:Outreach
END:VEVENT
BEGIN:VEVENT
DTSTART;TZID=America/New_York:20250816T110000
DTEND;TZID=America/New_York:20250816T140000
DTSTAMP:20260422T083821
CREATED:20250811T195838Z
LAST-MODIFIED:20250811T195838Z
UID:10002282-1755342000-1755352800@laseva.org
SUMMARY:Back To School Fair
DESCRIPTION:Come and see us at the Hope Church At Lee Hall annual Back to School Fair! \nWHAT TO EXPECT: \n\nClear backpacks filled with school supplies for the first 100 Students in grades K-12.\nConcessions\, games\, inflatables for the children\n Vendors for the adults.\n\n(Students must be present to receive school supplies.) \nLet’s get ready for the school year together!🏫✨ Register today at https://hclh.churchcenter.com/registrations/events/3086064
URL:https://laseva.org/event/back-to-school-fair/
LOCATION:Hope Church at Lee Hall\, 17531 Warwick Blvd\, Newport News\, VA\, 23603
CATEGORIES:Outreach
ATTACH;FMTTYPE=image/jpeg:https://laseva.org/wp-content/uploads/2025/08/530805518_1054669776871698_7650516685146113090_n.jpg
END:VEVENT
BEGIN:VEVENT
DTSTART;TZID=America/New_York:20250816T110000
DTEND;TZID=America/New_York:20250816T130000
DTSTAMP:20260422T083821
CREATED:20250728T205903Z
LAST-MODIFIED:20250728T205903Z
UID:10001919-1755342000-1755349200@laseva.org
SUMMARY:Myrtle Landing Mobile Food Pantry
DESCRIPTION:LASEV will be available for intake and to give information about upcoming events.
URL:https://laseva.org/event/myrtle-landing-mobile-food-pantry/
LOCATION:Myrtle Landing Mobile Food Pantry\, 815 Randolph Avenue\, Cape Charles\, VA\, 23310
CATEGORIES:Outreach
END:VEVENT
BEGIN:VEVENT
DTSTART;TZID=America/New_York:20250815T130000
DTEND;TZID=America/New_York:20250815T150000
DTSTAMP:20260422T083821
CREATED:20250630T135729Z
LAST-MODIFIED:20250801T200918Z
UID:10002222-1755262800-1755270000@laseva.org
SUMMARY:The Community Feed at Jordan-Newby
DESCRIPTION:LASEV will be available to take applications for service and share information about upcoming events.
URL:https://laseva.org/event/the-community-feed-at-jordan-newby-2/2025-08-15/
LOCATION:The Community Feed at Jordan Newby\, 961 Park Ave\, Norfolk\, VA\, 23504
CATEGORIES:Outreach
ATTACH;FMTTYPE=image/png:https://laseva.org/wp-content/uploads/2025/06/The-community-feed-at-Jordan-newby.png
END:VEVENT
BEGIN:VEVENT
DTSTART;TZID=America/New_York:20250814T190000
DTEND;TZID=America/New_York:20250814T200000
DTSTAMP:20260422T083821
CREATED:20250630T134258Z
LAST-MODIFIED:20250630T134258Z
UID:10000995-1755198000-1755201600@laseva.org
SUMMARY:StandUp for Kids
DESCRIPTION:A DRU/HOP attorney will be available to take applications for service as well as provide consultation and advice to qualifying low-income individuals.
URL:https://laseva.org/event/standup-for-kids/2025-08-14/
LOCATION:StandUp For Kids\, 1709 Pacific Ave\, Virginia Beach\, VA\, 23451
CATEGORIES:Attorney Available,Outreach
END:VEVENT
BEGIN:VEVENT
DTSTART;TZID=America/New_York:20250813T150000
DTEND;TZID=America/New_York:20250813T170000
DTSTAMP:20260422T083821
CREATED:20250630T134537Z
LAST-MODIFIED:20250630T134537Z
UID:10001124-1755097200-1755104400@laseva.org
SUMMARY:Hampton Public Library
DESCRIPTION:A Peninsula office staff attorney will be available to provide free consultation\, advice\, and intake for services.
URL:https://laseva.org/event/hampton-public-library/2025-08-13/
LOCATION:Hampton Public Library\, 4207 Victoria Blvd\, Hampton\, VA\, 23669
CATEGORIES:Attorney Available,Outreach
END:VEVENT
BEGIN:VEVENT
DTSTART;TZID=America/New_York:20250813T093000
DTEND;TZID=America/New_York:20250813T113000
DTSTAMP:20260422T083822
CREATED:20250630T133152Z
LAST-MODIFIED:20250630T133152Z
UID:10000154-1755077400-1755084600@laseva.org
SUMMARY:Star of the Sea
DESCRIPTION:A Disability Rights Unit/ Homeless Outreach Project department staff attorney will be available to provide free legal consultation\, advice\, and intake for services.
URL:https://laseva.org/event/star-of-the-sea/2025-08-13/
LOCATION:Star of the Sea\, 1404 Pacific Ave\, Virginia Beach\, VA\, 23451
CATEGORIES:Attorney Available,Outreach
END:VEVENT
BEGIN:VEVENT
DTSTART;TZID=America/New_York:20250813T093000
DTEND;TZID=America/New_York:20250813T110000
DTSTAMP:20260422T083822
CREATED:20250714T185452Z
LAST-MODIFIED:20250714T185453Z
UID:10000412-1755077400-1755082800@laseva.org
SUMMARY:Basilica of St. Mary of the Immaculate Conception Pantry
DESCRIPTION:LASEV will be available to take applications for service and share information about upcoming events.
URL:https://laseva.org/event/basilica-of-st-mary-of-the-immaculate-conception-pantry-3/2025-08-13/
LOCATION:Basilica of St. Mary of the Immaculate Conception\, 232 Chapel Street\, Norfolk\, VA\, 23504
CATEGORIES:Outreach
ATTACH;FMTTYPE=image/png:https://laseva.org/wp-content/uploads/2025/06/Bascilica-of-St-Marys-Pantry.png
END:VEVENT
BEGIN:VEVENT
DTSTART;TZID=America/New_York:20250813T090000
DTEND;TZID=America/New_York:20250813T110000
DTSTAMP:20260422T083822
CREATED:20250701T191539Z
LAST-MODIFIED:20250701T191539Z
UID:10001854-1755075600-1755082800@laseva.org
SUMMARY:Portsmouth Volunteers for the Homeless (Current PVH Clients only)
DESCRIPTION:A Disability Rights Unit/ Homeless Outreach Project department staff member will be available to provide information and intake for services. This event is only for current Portsmouth Volunteers for the Homeless (PVH) clients.
URL:https://laseva.org/event/portsmouth-volunteers-for-the-homeless-current-pvh-clients-only/2025-08-13/
LOCATION:Portsmouth Volunteers for the Homeless\, 800 Williamsburg Ave B\, Portsmouth\, VA\, 23704
CATEGORIES:Outreach
END:VEVENT
BEGIN:VEVENT
DTSTART;TZID=America/New_York:20250811T143000
DTEND;TZID=America/New_York:20250811T163000
DTSTAMP:20260422T083822
CREATED:20250630T142325Z
LAST-MODIFIED:20250630T170134Z
UID:10001604-1754922600-1754929800@laseva.org
SUMMARY:South Norfolk Memorial Library
DESCRIPTION:LASEV will be available to take applications for service and share information about upcoming events.
URL:https://laseva.org/event/south-norfolk-memorial-library/2025-08-11/
LOCATION:South Norfolk Memorial Library\, 801 Poindexter Street\, Chesapeake\, VA\, 23324
CATEGORIES:Outreach
ATTACH;FMTTYPE=image/png:https://laseva.org/wp-content/uploads/2025/06/South-Norfolk-Memorial-Library.png
END:VEVENT
BEGIN:VEVENT
DTSTART;TZID=America/New_York:20250809T110000
DTEND;TZID=America/New_York:20250809T130000
DTSTAMP:20260422T083822
CREATED:20250728T204738Z
LAST-MODIFIED:20250728T204738Z
UID:10001917-1754737200-1754744400@laseva.org
SUMMARY:Back to School Community Resource Fair
DESCRIPTION:Join us for a day of support\, celebration\, and community! Over 20 local organizations will be on site offering free school supplies\, lunch\, and valuable resources for kids and adults alike.
URL:https://laseva.org/event/back-to-school-community-resource-fair/
LOCATION:Ebenezer AME Church\, 27054 Cheapside Road\, Capeville\, VA\, 23310
CATEGORIES:Outreach
ATTACH;FMTTYPE=image/jpeg:https://laseva.org/wp-content/uploads/2025/07/520830620_1180630227439970_3320998201042865527_n.jpg
END:VEVENT
BEGIN:VEVENT
DTSTART;TZID=America/New_York:20250809T100000
DTEND;TZID=America/New_York:20250809T140000
DTSTAMP:20260422T083822
CREATED:20250801T192323Z
LAST-MODIFIED:20250801T192323Z
UID:10002162-1754733600-1754748000@laseva.org
SUMMARY:Unity in the Community: Back to School Celebration
DESCRIPTION:Come and see us at the Unity in the Community: Back to School Celebration! This event is open to Norfolk pre-school\, elementary\, middle\, and high school students. \nWhat to expect:  \n\nBackpack and school supply distribution.\nImmunizations and health screenings.\nCity of Norfolk and community resources.\nRaffle prizes and more!\n\nTo register\, visit: https://survey.k12insight.com/survey/form?k=SsXQVRPsQTQsPsPsP&lang=0
URL:https://laseva.org/event/unity-in-the-community-back-to-school-celebration/
LOCATION:Norfolk Scope\, 201 E Brambleton Ave\, Norfolk\, VA\, 23510
CATEGORIES:Outreach
ATTACH;FMTTYPE=image/jpeg:https://laseva.org/wp-content/uploads/2025/08/514413559_1180316790795937_5870947478571731980_n.jpg
END:VEVENT
BEGIN:VEVENT
DTSTART;TZID=America/New_York:20250808T100000
DTEND;TZID=America/New_York:20250808T113000
DTSTAMP:20260422T083822
CREATED:20250630T140508Z
LAST-MODIFIED:20250630T140508Z
UID:10001544-1754647200-1754652600@laseva.org
SUMMARY:Four Oaks Day Service Center
DESCRIPTION:LASEV will be available to take applications for service and share information about upcoming events.
URL:https://laseva.org/event/four-oaks-day-service-center/2025-08-08/
LOCATION:Four Oaks Day Center\, 7401 Warwick Blvd\, Newport News\, VA\, 23607
CATEGORIES:Outreach
END:VEVENT
END:VCALENDAR