BEGIN:VCALENDAR
VERSION:2.0
PRODID:-// - ECPv6.15.20//NONSGML v1.0//EN
CALSCALE:GREGORIAN
METHOD:PUBLISH
X-ORIGINAL-URL:https://laseva.org
X-WR-CALDESC:Events for 
REFRESH-INTERVAL;VALUE=DURATION:PT1H
X-Robots-Tag:noindex
X-PUBLISHED-TTL:PT1H
BEGIN:VTIMEZONE
TZID:America/New_York
BEGIN:DAYLIGHT
TZOFFSETFROM:-0500
TZOFFSETTO:-0400
TZNAME:EDT
DTSTART:20250309T070000
END:DAYLIGHT
BEGIN:STANDARD
TZOFFSETFROM:-0400
TZOFFSETTO:-0500
TZNAME:EST
DTSTART:20251102T060000
END:STANDARD
BEGIN:DAYLIGHT
TZOFFSETFROM:-0500
TZOFFSETTO:-0400
TZNAME:EDT
DTSTART:20260308T070000
END:DAYLIGHT
BEGIN:STANDARD
TZOFFSETFROM:-0400
TZOFFSETTO:-0500
TZNAME:EST
DTSTART:20261101T060000
END:STANDARD
BEGIN:DAYLIGHT
TZOFFSETFROM:-0500
TZOFFSETTO:-0400
TZNAME:EDT
DTSTART:20270314T070000
END:DAYLIGHT
BEGIN:STANDARD
TZOFFSETFROM:-0400
TZOFFSETTO:-0500
TZNAME:EST
DTSTART:20271107T060000
END:STANDARD
END:VTIMEZONE
BEGIN:VEVENT
DTSTART;TZID=America/New_York:20261103T093000
DTEND;TZID=America/New_York:20261103T120000
DTSTAMP:20260424T111018
CREATED:20250630T132525Z
LAST-MODIFIED:20250630T132525Z
UID:10000044-1793698200-1793707200@laseva.org
SUMMARY:Potter's House
DESCRIPTION:A DRU/HOP attorney will be available to give free legal consultation\, advice and intake for services
URL:https://laseva.org/event/potters-house/2026-11-03/
LOCATION:Potters House\, 1709 Pacific Ave\, Virginia Beach\, VA\, 23451\, United States
CATEGORIES:Attorney Available,Outreach
END:VEVENT
BEGIN:VEVENT
DTSTART;TZID=America/New_York:20261103T123000
DTEND;TZID=America/New_York:20261103T153000
DTSTAMP:20260424T111018
CREATED:20250630T132829Z
LAST-MODIFIED:20250701T191730Z
UID:10000104-1793709000-1793719800@laseva.org
SUMMARY:The Community Feed at Jordan Newby
DESCRIPTION:The community support team will be available to provide free legal consultation\, advice\, and intake for services.
URL:https://laseva.org/event/the-community-feed-at-jordan-newby/2026-11-03/
LOCATION:The Community Feed at Jordan Newby\, 961 Park Ave\, Norfolk\, VA\, 23504
CATEGORIES:Outreach
ATTACH;FMTTYPE=image/png:https://laseva.org/wp-content/uploads/2025/06/The-community-feed-at-Jordan-newby.png
END:VEVENT
BEGIN:VEVENT
DTSTART;TZID=America/New_York:20261104T093000
DTEND;TZID=America/New_York:20261104T110000
DTSTAMP:20260424T111018
CREATED:20260203T121728Z
LAST-MODIFIED:20260203T121729Z
UID:10002320-1793784600-1793790000@laseva.org
SUMMARY:Basilica of St. Mary of the Immaculate Conception Pantry
DESCRIPTION:A member of our Community Support Team will be available to take applications for services.
URL:https://laseva.org/event/basilica-of-st-mary-of-the-immaculate-conception-pantry-4-3/2026-11-04/
LOCATION:Basilica of St. Mary of the Immaculate Conception\, 232 Chapel Street\, Norfolk\, VA\, 23504
CATEGORIES:Attorney Available,Outreach
ATTACH;FMTTYPE=image/png:https://laseva.org/wp-content/uploads/2025/06/Bascilica-of-St-Marys-Pantry.png
END:VEVENT
BEGIN:VEVENT
DTSTART;TZID=America/New_York:20261104T093000
DTEND;TZID=America/New_York:20261104T113000
DTSTAMP:20260424T111018
CREATED:20250630T133152Z
LAST-MODIFIED:20250630T133152Z
UID:10000218-1793784600-1793791800@laseva.org
SUMMARY:Star of the Sea
DESCRIPTION:A Disability Rights Unit/ Homeless Outreach Project department staff attorney will be available to provide free legal consultation\, advice\, and intake for services.
URL:https://laseva.org/event/star-of-the-sea/2026-11-04/
LOCATION:Star of the Sea\, 1404 Pacific Ave\, Virginia Beach\, VA\, 23451
CATEGORIES:Attorney Available,Outreach
END:VEVENT
BEGIN:VEVENT
DTSTART;TZID=America/New_York:20261104T150000
DTEND;TZID=America/New_York:20261104T170000
DTSTAMP:20260424T111018
CREATED:20251105T211056Z
LAST-MODIFIED:20251105T211057Z
UID:10002858-1793804400-1793811600@laseva.org
SUMMARY:Pearl Bailey Public Library
DESCRIPTION:A Peninsula office staff attorney will be available to provide free consultation\, advice\, and intake for services.
URL:https://laseva.org/event/pearl-bailey-public-library-2/2026-11-04/
LOCATION:Pearl Bailey Library\, 2510 Wickham Ave\, Newport News\, VA\, 23607
CATEGORIES:Attorney Available,Outreach
END:VEVENT
BEGIN:VEVENT
DTSTART;TZID=America/New_York:20261105T190000
DTEND;TZID=America/New_York:20261105T200000
DTSTAMP:20260424T111018
CREATED:20250630T134258Z
LAST-MODIFIED:20250630T134258Z
UID:10001027-1793905200-1793908800@laseva.org
SUMMARY:StandUp for Kids
DESCRIPTION:A DRU/HOP attorney will be available to take applications for service as well as provide consultation and advice to qualifying low-income individuals.
URL:https://laseva.org/event/standup-for-kids/2026-11-05/
LOCATION:StandUp For Kids\, 1709 Pacific Ave\, Virginia Beach\, VA\, 23451
CATEGORIES:Attorney Available,Outreach
END:VEVENT
BEGIN:VEVENT
DTSTART;TZID=America/New_York:20261106T140000
DTEND;TZID=America/New_York:20261106T160000
DTSTAMP:20260424T111018
CREATED:20250701T153826Z
LAST-MODIFIED:20250701T162348Z
UID:10001746-1793973600-1793980800@laseva.org
SUMMARY:Portsmouth Main Library
DESCRIPTION:LASEV Director\, Raymond Hartz\, Esq. or Deputy Director\, Melissa Bonfiglio\, Esq. will be available to provide free legal consult\, advice\, and intake for services.
URL:https://laseva.org/event/portsmouth-main-library-2/2026-11-06/
LOCATION:Portsmouth Main Library\, 601 Court St\, Portsmouth\, VA\, 23704
CATEGORIES:Attorney Available,Outreach
ATTACH;FMTTYPE=image/png:https://laseva.org/wp-content/uploads/2025/07/Portsmouth-Main-library.png
END:VEVENT
BEGIN:VEVENT
DTSTART;TZID=America/New_York:20261109T143000
DTEND;TZID=America/New_York:20261109T163000
DTSTAMP:20260424T111018
CREATED:20250630T142325Z
LAST-MODIFIED:20250630T170134Z
UID:10001619-1794234600-1794241800@laseva.org
SUMMARY:South Norfolk Memorial Library
DESCRIPTION:LASEV will be available to take applications for service and share information about upcoming events.
URL:https://laseva.org/event/south-norfolk-memorial-library/2026-11-09/
LOCATION:South Norfolk Memorial Library\, 801 Poindexter Street\, Chesapeake\, VA\, 23324
CATEGORIES:Outreach
ATTACH;FMTTYPE=image/png:https://laseva.org/wp-content/uploads/2025/06/South-Norfolk-Memorial-Library.png
END:VEVENT
BEGIN:VEVENT
DTSTART;TZID=America/New_York:20261111T090000
DTEND;TZID=America/New_York:20261111T110000
DTSTAMP:20260424T111018
CREATED:20250701T191539Z
LAST-MODIFIED:20250701T191539Z
UID:10001869-1794387600-1794394800@laseva.org
SUMMARY:Portsmouth Volunteers for the Homeless (Current PVH Clients only)
DESCRIPTION:A Disability Rights Unit/ Homeless Outreach Project department staff member will be available to provide information and intake for services. This event is only for current Portsmouth Volunteers for the Homeless (PVH) clients.
URL:https://laseva.org/event/portsmouth-volunteers-for-the-homeless-current-pvh-clients-only/2026-11-11/
LOCATION:Portsmouth Volunteers for the Homeless\, 800 Williamsburg Ave B\, Portsmouth\, VA\, 23704
CATEGORIES:Outreach
END:VEVENT
BEGIN:VEVENT
DTSTART;TZID=America/New_York:20261111T093000
DTEND;TZID=America/New_York:20261111T110000
DTSTAMP:20260424T111018
CREATED:20250815T184411Z
LAST-MODIFIED:20250815T184411Z
UID:10002451-1794389400-1794394800@laseva.org
SUMMARY:Basilica of St. Mary of the Immaculate Conception Pantry
DESCRIPTION:LASEV will be available to take applications for service and share information about upcoming events.
URL:https://laseva.org/event/basilica-of-st-mary-of-the-immaculate-conception-pantry-5/2026-11-11/
LOCATION:Basilica of St. Mary of the Immaculate Conception\, 232 Chapel Street\, Norfolk\, VA\, 23504
CATEGORIES:Outreach
ATTACH;FMTTYPE=image/png:https://laseva.org/wp-content/uploads/2025/06/Bascilica-of-St-Marys-Pantry.png
END:VEVENT
BEGIN:VEVENT
DTSTART;TZID=America/New_York:20261111T093000
DTEND;TZID=America/New_York:20261111T113000
DTSTAMP:20260424T111018
CREATED:20250630T133152Z
LAST-MODIFIED:20250630T133152Z
UID:10000219-1794389400-1794396600@laseva.org
SUMMARY:Star of the Sea
DESCRIPTION:A Disability Rights Unit/ Homeless Outreach Project department staff attorney will be available to provide free legal consultation\, advice\, and intake for services.
URL:https://laseva.org/event/star-of-the-sea/2026-11-11/
LOCATION:Star of the Sea\, 1404 Pacific Ave\, Virginia Beach\, VA\, 23451
CATEGORIES:Attorney Available,Outreach
END:VEVENT
BEGIN:VEVENT
DTSTART;TZID=America/New_York:20261111T100000
DTEND;TZID=America/New_York:20261111T130000
DTSTAMP:20260424T111018
CREATED:20251104T200759Z
LAST-MODIFIED:20251104T200759Z
UID:10002678-1794391200-1794402000@laseva.org
SUMMARY:Hampton Roads Veteran Employment Center - Newport News
DESCRIPTION:A LASEV attorney will be available to answer questions and take applications for services.
URL:https://laseva.org/event/hampton-roads-veteran-employment-center-newport-news/2026-11-11/
LOCATION:HRVEC Newport News\, 600 Thimble Shoals Boulevard.\, VA\, United States
END:VEVENT
BEGIN:VEVENT
DTSTART;TZID=America/New_York:20261111T143000
DTEND;TZID=America/New_York:20261111T153000
DTSTAMP:20260424T111018
CREATED:20251105T150554Z
LAST-MODIFIED:20251105T150554Z
UID:10002799-1794407400-1794411000@laseva.org
SUMMARY:National Alliance on Mental Illness
DESCRIPTION:A LASEV attorney will be present to answer questions and take applications for services.
URL:https://laseva.org/event/national-alliance-on-mental-illness/2026-11-11/
LOCATION:National Alliance on Mental Illness\, 291 Independence Blvd #225\, Virginia Beach\, VA\, United States
END:VEVENT
BEGIN:VEVENT
DTSTART;TZID=America/New_York:20261111T150000
DTEND;TZID=America/New_York:20261111T170000
DTSTAMP:20260424T111018
CREATED:20250630T134537Z
LAST-MODIFIED:20250630T134537Z
UID:10001139-1794409200-1794416400@laseva.org
SUMMARY:Hampton Public Library
DESCRIPTION:A Peninsula office staff attorney will be available to provide free consultation\, advice\, and intake for services.
URL:https://laseva.org/event/hampton-public-library/2026-11-11/
LOCATION:Hampton Public Library\, 4207 Victoria Blvd\, Hampton\, VA\, 23669
CATEGORIES:Attorney Available,Outreach
END:VEVENT
BEGIN:VEVENT
DTSTART;TZID=America/New_York:20261113T090000
DTEND;TZID=America/New_York:20261113T120000
DTSTAMP:20260424T111018
CREATED:20250630T134727Z
LAST-MODIFIED:20250701T191000Z
UID:10001199-1794560400-1794571200@laseva.org
SUMMARY:Hampton VA Medical Center
DESCRIPTION:A Disability Rights Unit/ Homeless Outreach Project office Veterans’ staff attorney will be available to provide free legal consultation\, advice\, and intake for services in the Homeless Veterans Unit Conference Room.
URL:https://laseva.org/event/hampton-va/2026-11-13/
LOCATION:Hampton VA\, 100 Emancipation Drive\, Hampton\, VA\, 23667
CATEGORIES:Attorney Available,Outreach
END:VEVENT
BEGIN:VEVENT
DTSTART;TZID=America/New_York:20261113T100000
DTEND;TZID=America/New_York:20261113T113000
DTSTAMP:20260424T111018
CREATED:20250630T140508Z
LAST-MODIFIED:20250630T140508Z
UID:10001559-1794564000-1794569400@laseva.org
SUMMARY:Four Oaks Day Service Center
DESCRIPTION:LASEV will be available to take applications for service and share information about upcoming events.
URL:https://laseva.org/event/four-oaks-day-service-center/2026-11-13/
LOCATION:Four Oaks Day Center\, 7401 Warwick Blvd\, Newport News\, VA\, 23607
CATEGORIES:Outreach
END:VEVENT
BEGIN:VEVENT
DTSTART;TZID=America/New_York:20261117T090000
DTEND;TZID=America/New_York:20261117T110000
DTSTAMP:20260424T111018
CREATED:20250630T134933Z
LAST-MODIFIED:20250630T134933Z
UID:10001259-1794906000-1794913200@laseva.org
SUMMARY:Virginia Beach Housing Resource Center
DESCRIPTION:A LASEV attorney will be available to take applications for service as well as provide consultation and advice to qualifying low-income individuals.
URL:https://laseva.org/event/virginia-beach-housing-resource-center/2026-11-17/
LOCATION:Virginia Beach Housing Resource Center\, 104 N Witchduck Rd\, Virginia Beach\, VA\, 23462
CATEGORIES:Attorney Available,Outreach
END:VEVENT
BEGIN:VEVENT
DTSTART;TZID=America/New_York:20261117T090000
DTEND;TZID=America/New_York:20261117T110000
DTSTAMP:20260424T111018
CREATED:20250630T135135Z
LAST-MODIFIED:20250630T135135Z
UID:10001319-1794906000-1794913200@laseva.org
SUMMARY:Salvation Army
DESCRIPTION:A Disability Rights Unit/ Homeless Outreach Project office social worker will be available for services.
URL:https://laseva.org/event/salvation-army/2026-11-17/
LOCATION:Salvation Army\, 5525 Raby Rd\, Norfolk\, VA\, 23502
CATEGORIES:Outreach
END:VEVENT
BEGIN:VEVENT
DTSTART;TZID=America/New_York:20261117T093000
DTEND;TZID=America/New_York:20261117T120000
DTSTAMP:20260424T111018
CREATED:20251219T140232Z
LAST-MODIFIED:20251219T140232Z
UID:10002947-1794907800-1794916800@laseva.org
SUMMARY:LINK of Hampton Roads - VB Location
DESCRIPTION:A member of our Veteran Justice Team will be available to answer questions and take applications for services.
URL:https://laseva.org/event/link-of-hampton-roads-vb-location/2026-11-17/
LOCATION:LINK – Virginia Beach\, 6477 College Park Square\, Suite 216\, Virginia Beach\, VA\, United States
END:VEVENT
BEGIN:VEVENT
DTSTART;TZID=America/New_York:20261117T123000
DTEND;TZID=America/New_York:20261117T153000
DTSTAMP:20260424T111018
CREATED:20250714T162132Z
LAST-MODIFIED:20250801T190958Z
UID:10001935-1794918600-1794929400@laseva.org
SUMMARY:The Community Feed at Jordan-Newby
DESCRIPTION:LASEV will be available to take applications for service and share information about upcoming events.
URL:https://laseva.org/event/the-community-feed-at-jordan-newby-3/2026-11-17/
LOCATION:The Community Feed at Jordan Newby\, 961 Park Ave\, Norfolk\, VA\, 23504
CATEGORIES:Outreach
ATTACH;FMTTYPE=image/png:https://laseva.org/wp-content/uploads/2025/06/The-community-feed-at-Jordan-newby.png
END:VEVENT
BEGIN:VEVENT
DTSTART;TZID=America/New_York:20261118T093000
DTEND;TZID=America/New_York:20261118T110000
DTSTAMP:20260424T111018
CREATED:20260203T121728Z
LAST-MODIFIED:20260203T121729Z
UID:10002321-1794994200-1794999600@laseva.org
SUMMARY:Basilica of St. Mary of the Immaculate Conception Pantry
DESCRIPTION:A member of our Community Support Team will be available to take applications for services.
URL:https://laseva.org/event/basilica-of-st-mary-of-the-immaculate-conception-pantry-4-3/2026-11-18/
LOCATION:Basilica of St. Mary of the Immaculate Conception\, 232 Chapel Street\, Norfolk\, VA\, 23504
CATEGORIES:Attorney Available,Outreach
ATTACH;FMTTYPE=image/png:https://laseva.org/wp-content/uploads/2025/06/Bascilica-of-St-Marys-Pantry.png
END:VEVENT
BEGIN:VEVENT
DTSTART;TZID=America/New_York:20261118T093000
DTEND;TZID=America/New_York:20261118T113000
DTSTAMP:20260424T111018
CREATED:20250630T133152Z
LAST-MODIFIED:20250630T133152Z
UID:10000220-1794994200-1795001400@laseva.org
SUMMARY:Star of the Sea
DESCRIPTION:A Disability Rights Unit/ Homeless Outreach Project department staff attorney will be available to provide free legal consultation\, advice\, and intake for services.
URL:https://laseva.org/event/star-of-the-sea/2026-11-18/
LOCATION:Star of the Sea\, 1404 Pacific Ave\, Virginia Beach\, VA\, 23451
CATEGORIES:Attorney Available,Outreach
END:VEVENT
BEGIN:VEVENT
DTSTART;TZID=America/New_York:20261119T093000
DTEND;TZID=America/New_York:20261119T120000
DTSTAMP:20260424T111018
CREATED:20250701T190915Z
LAST-MODIFIED:20250701T191109Z
UID:10001809-1795080600-1795089600@laseva.org
SUMMARY:LINK of Hampton Roads
DESCRIPTION:A Disability Rights Unit/ Homeless Outreach Project department staff attorney will be available to provide free legal consultation\, advice\, and intake for services.
URL:https://laseva.org/event/link-of-hampton-roads/2026-11-19/
LOCATION:LINK of Hampton Roads\, 10413 Warwick Blvd\, Newport News\, VA\, 23601
CATEGORIES:Attorney Available,Outreach
END:VEVENT
BEGIN:VEVENT
DTSTART;TZID=America/New_York:20261119T133000
DTEND;TZID=America/New_York:20261119T153000
DTSTAMP:20260424T111018
CREATED:20250630T145631Z
LAST-MODIFIED:20250630T145631Z
UID:10001685-1795095000-1795102200@laseva.org
SUMMARY:Williamsburg House of Mercy
DESCRIPTION:A Peninsula office staff attorney will be available to provide free consultation\, advice\, and intake for services.
URL:https://laseva.org/event/williamsburg-house-of-mercy/2026-11-19/
LOCATION:Williamsburg House of Mercy\, 10 Harrison Ave\, Williamsburg\, VA\, 23185
CATEGORIES:Attorney Available,Outreach
END:VEVENT
BEGIN:VEVENT
DTSTART;TZID=America/New_York:20261119T133000
DTEND;TZID=America/New_York:20261119T153000
DTSTAMP:20260424T111018
CREATED:20250801T191406Z
LAST-MODIFIED:20250801T191406Z
UID:10002117-1795095000-1795102200@laseva.org
SUMMARY:Young Terrace Community Center
DESCRIPTION:A member of the LASEV Community Support Team will be available to take applications for service and share information about upcoming events.
URL:https://laseva.org/event/young-terrace-community-center-2/2026-11-19/
LOCATION:Young Terrace Community Center\, 804 Whitaker Ln\, Norfolk\, VA\, 23510
CATEGORIES:Outreach
END:VEVENT
BEGIN:VEVENT
DTSTART;TZID=America/New_York:20261119T190000
DTEND;TZID=America/New_York:20261119T200000
DTSTAMP:20260424T111018
CREATED:20250630T134258Z
LAST-MODIFIED:20250630T134258Z
UID:10001028-1795114800-1795118400@laseva.org
SUMMARY:StandUp for Kids
DESCRIPTION:A DRU/HOP attorney will be available to take applications for service as well as provide consultation and advice to qualifying low-income individuals.
URL:https://laseva.org/event/standup-for-kids/2026-11-19/
LOCATION:StandUp For Kids\, 1709 Pacific Ave\, Virginia Beach\, VA\, 23451
CATEGORIES:Attorney Available,Outreach
END:VEVENT
BEGIN:VEVENT
DTSTART;TZID=America/New_York:20261120T130000
DTEND;TZID=America/New_York:20261120T150000
DTSTAMP:20260424T111018
CREATED:20250630T135729Z
LAST-MODIFIED:20250801T200918Z
UID:10002237-1795179600-1795186800@laseva.org
SUMMARY:The Community Feed at Jordan-Newby
DESCRIPTION:LASEV will be available to take applications for service and share information about upcoming events.
URL:https://laseva.org/event/the-community-feed-at-jordan-newby-2/2026-11-20/
LOCATION:The Community Feed at Jordan Newby\, 961 Park Ave\, Norfolk\, VA\, 23504
CATEGORIES:Outreach
ATTACH;FMTTYPE=image/png:https://laseva.org/wp-content/uploads/2025/06/The-community-feed-at-Jordan-newby.png
END:VEVENT
BEGIN:VEVENT
DTSTART;TZID=America/New_York:20261125T093000
DTEND;TZID=America/New_York:20261125T110000
DTSTAMP:20260424T111018
CREATED:20250815T184411Z
LAST-MODIFIED:20250815T184411Z
UID:10002452-1795599000-1795604400@laseva.org
SUMMARY:Basilica of St. Mary of the Immaculate Conception Pantry
DESCRIPTION:LASEV will be available to take applications for service and share information about upcoming events.
URL:https://laseva.org/event/basilica-of-st-mary-of-the-immaculate-conception-pantry-5/2026-11-25/
LOCATION:Basilica of St. Mary of the Immaculate Conception\, 232 Chapel Street\, Norfolk\, VA\, 23504
CATEGORIES:Outreach
ATTACH;FMTTYPE=image/png:https://laseva.org/wp-content/uploads/2025/06/Bascilica-of-St-Marys-Pantry.png
END:VEVENT
BEGIN:VEVENT
DTSTART;TZID=America/New_York:20261125T093000
DTEND;TZID=America/New_York:20261125T113000
DTSTAMP:20260424T111018
CREATED:20250630T133152Z
LAST-MODIFIED:20250630T133152Z
UID:10000221-1795599000-1795606200@laseva.org
SUMMARY:Star of the Sea
DESCRIPTION:A Disability Rights Unit/ Homeless Outreach Project department staff attorney will be available to provide free legal consultation\, advice\, and intake for services.
URL:https://laseva.org/event/star-of-the-sea/2026-11-25/
LOCATION:Star of the Sea\, 1404 Pacific Ave\, Virginia Beach\, VA\, 23451
CATEGORIES:Attorney Available,Outreach
END:VEVENT
BEGIN:VEVENT
DTSTART;TZID=America/New_York:20261125T100000
DTEND;TZID=America/New_York:20261125T130000
DTSTAMP:20260424T111018
CREATED:20251104T201247Z
LAST-MODIFIED:20251104T201247Z
UID:10002737-1795600800-1795611600@laseva.org
SUMMARY:Hampton Roads Veteran Employment Center - Norfolk
DESCRIPTION:A LASEV attorney will be available to answer questions and take applications for services.
URL:https://laseva.org/event/hampton-roads-veteran-employment-center-norfolk-2/2026-11-25/
LOCATION:HRVEC Norfolk\, 861 Glenrock Road\, Norfolk\, VA\, United States
END:VEVENT
END:VCALENDAR