BEGIN:VCALENDAR
VERSION:2.0
PRODID:-// - ECPv6.15.20//NONSGML v1.0//EN
CALSCALE:GREGORIAN
METHOD:PUBLISH
X-ORIGINAL-URL:https://laseva.org
X-WR-CALDESC:Events for 
REFRESH-INTERVAL;VALUE=DURATION:PT1H
X-Robots-Tag:noindex
X-PUBLISHED-TTL:PT1H
BEGIN:VTIMEZONE
TZID:America/New_York
BEGIN:DAYLIGHT
TZOFFSETFROM:-0500
TZOFFSETTO:-0400
TZNAME:EDT
DTSTART:20250309T070000
END:DAYLIGHT
BEGIN:STANDARD
TZOFFSETFROM:-0400
TZOFFSETTO:-0500
TZNAME:EST
DTSTART:20251102T060000
END:STANDARD
BEGIN:DAYLIGHT
TZOFFSETFROM:-0500
TZOFFSETTO:-0400
TZNAME:EDT
DTSTART:20260308T070000
END:DAYLIGHT
BEGIN:STANDARD
TZOFFSETFROM:-0400
TZOFFSETTO:-0500
TZNAME:EST
DTSTART:20261101T060000
END:STANDARD
BEGIN:DAYLIGHT
TZOFFSETFROM:-0500
TZOFFSETTO:-0400
TZNAME:EDT
DTSTART:20270314T070000
END:DAYLIGHT
BEGIN:STANDARD
TZOFFSETFROM:-0400
TZOFFSETTO:-0500
TZNAME:EST
DTSTART:20271107T060000
END:STANDARD
END:VTIMEZONE
BEGIN:VEVENT
DTSTART;TZID=America/New_York:20260930T093000
DTEND;TZID=America/New_York:20260930T110000
DTSTAMP:20260423T050729
CREATED:20250815T184411Z
LAST-MODIFIED:20250815T184411Z
UID:10002448-1790760600-1790766000@laseva.org
SUMMARY:Basilica of St. Mary of the Immaculate Conception Pantry
DESCRIPTION:LASEV will be available to take applications for service and share information about upcoming events.
URL:https://laseva.org/event/basilica-of-st-mary-of-the-immaculate-conception-pantry-5/2026-09-30/
LOCATION:Basilica of St. Mary of the Immaculate Conception\, 232 Chapel Street\, Norfolk\, VA\, 23504
CATEGORIES:Outreach
ATTACH;FMTTYPE=image/png:https://laseva.org/wp-content/uploads/2025/06/Bascilica-of-St-Marys-Pantry.png
END:VEVENT
BEGIN:VEVENT
DTSTART;TZID=America/New_York:20260930T093000
DTEND;TZID=America/New_York:20260930T113000
DTSTAMP:20260423T050729
CREATED:20250630T133152Z
LAST-MODIFIED:20250630T133152Z
UID:10000213-1790760600-1790767800@laseva.org
SUMMARY:Star of the Sea
DESCRIPTION:A Disability Rights Unit/ Homeless Outreach Project department staff attorney will be available to provide free legal consultation\, advice\, and intake for services.
URL:https://laseva.org/event/star-of-the-sea/2026-09-30/
LOCATION:Star of the Sea\, 1404 Pacific Ave\, Virginia Beach\, VA\, 23451
CATEGORIES:Attorney Available,Outreach
END:VEVENT
BEGIN:VEVENT
DTSTART;TZID=America/New_York:20261002T140000
DTEND;TZID=America/New_York:20261002T160000
DTSTAMP:20260423T050729
CREATED:20250701T153826Z
LAST-MODIFIED:20250701T162348Z
UID:10001745-1790949600-1790956800@laseva.org
SUMMARY:Portsmouth Main Library
DESCRIPTION:LASEV Director\, Raymond Hartz\, Esq. or Deputy Director\, Melissa Bonfiglio\, Esq. will be available to provide free legal consult\, advice\, and intake for services.
URL:https://laseva.org/event/portsmouth-main-library-2/2026-10-02/
LOCATION:Portsmouth Main Library\, 601 Court St\, Portsmouth\, VA\, 23704
CATEGORIES:Attorney Available,Outreach
ATTACH;FMTTYPE=image/png:https://laseva.org/wp-content/uploads/2025/07/Portsmouth-Main-library.png
END:VEVENT
BEGIN:VEVENT
DTSTART;TZID=America/New_York:20261006T093000
DTEND;TZID=America/New_York:20261006T120000
DTSTAMP:20260423T050729
CREATED:20250630T132525Z
LAST-MODIFIED:20250630T132525Z
UID:10000043-1791279000-1791288000@laseva.org
SUMMARY:Potter's House
DESCRIPTION:A DRU/HOP attorney will be available to give free legal consultation\, advice and intake for services
URL:https://laseva.org/event/potters-house/2026-10-06/
LOCATION:Potters House\, 1709 Pacific Ave\, Virginia Beach\, VA\, 23451\, United States
CATEGORIES:Attorney Available,Outreach
END:VEVENT
BEGIN:VEVENT
DTSTART;TZID=America/New_York:20261006T123000
DTEND;TZID=America/New_York:20261006T153000
DTSTAMP:20260423T050729
CREATED:20250630T132829Z
LAST-MODIFIED:20250701T191730Z
UID:10000103-1791289800-1791300600@laseva.org
SUMMARY:The Community Feed at Jordan Newby
DESCRIPTION:The community support team will be available to provide free legal consultation\, advice\, and intake for services.
URL:https://laseva.org/event/the-community-feed-at-jordan-newby/2026-10-06/
LOCATION:The Community Feed at Jordan Newby\, 961 Park Ave\, Norfolk\, VA\, 23504
CATEGORIES:Outreach
ATTACH;FMTTYPE=image/png:https://laseva.org/wp-content/uploads/2025/06/The-community-feed-at-Jordan-newby.png
END:VEVENT
BEGIN:VEVENT
DTSTART;TZID=America/New_York:20261007T093000
DTEND;TZID=America/New_York:20261007T110000
DTSTAMP:20260423T050729
CREATED:20260203T121728Z
LAST-MODIFIED:20260203T121729Z
UID:10002318-1791365400-1791370800@laseva.org
SUMMARY:Basilica of St. Mary of the Immaculate Conception Pantry
DESCRIPTION:A member of our Community Support Team will be available to take applications for services.
URL:https://laseva.org/event/basilica-of-st-mary-of-the-immaculate-conception-pantry-4-3/2026-10-07/
LOCATION:Basilica of St. Mary of the Immaculate Conception\, 232 Chapel Street\, Norfolk\, VA\, 23504
CATEGORIES:Attorney Available,Outreach
ATTACH;FMTTYPE=image/png:https://laseva.org/wp-content/uploads/2025/06/Bascilica-of-St-Marys-Pantry.png
END:VEVENT
BEGIN:VEVENT
DTSTART;TZID=America/New_York:20261007T093000
DTEND;TZID=America/New_York:20261007T113000
DTSTAMP:20260423T050729
CREATED:20250630T133152Z
LAST-MODIFIED:20250630T133152Z
UID:10000214-1791365400-1791372600@laseva.org
SUMMARY:Star of the Sea
DESCRIPTION:A Disability Rights Unit/ Homeless Outreach Project department staff attorney will be available to provide free legal consultation\, advice\, and intake for services.
URL:https://laseva.org/event/star-of-the-sea/2026-10-07/
LOCATION:Star of the Sea\, 1404 Pacific Ave\, Virginia Beach\, VA\, 23451
CATEGORIES:Attorney Available,Outreach
END:VEVENT
BEGIN:VEVENT
DTSTART;TZID=America/New_York:20261007T150000
DTEND;TZID=America/New_York:20261007T170000
DTSTAMP:20260423T050729
CREATED:20251105T211056Z
LAST-MODIFIED:20251105T211057Z
UID:10002857-1791385200-1791392400@laseva.org
SUMMARY:Pearl Bailey Public Library
DESCRIPTION:A Peninsula office staff attorney will be available to provide free consultation\, advice\, and intake for services.
URL:https://laseva.org/event/pearl-bailey-public-library-2/2026-10-07/
LOCATION:Pearl Bailey Library\, 2510 Wickham Ave\, Newport News\, VA\, 23607
CATEGORIES:Attorney Available,Outreach
END:VEVENT
BEGIN:VEVENT
DTSTART;TZID=America/New_York:20261008T190000
DTEND;TZID=America/New_York:20261008T200000
DTSTAMP:20260423T050729
CREATED:20250630T134258Z
LAST-MODIFIED:20250630T134258Z
UID:10001025-1791486000-1791489600@laseva.org
SUMMARY:StandUp for Kids
DESCRIPTION:A DRU/HOP attorney will be available to take applications for service as well as provide consultation and advice to qualifying low-income individuals.
URL:https://laseva.org/event/standup-for-kids/2026-10-08/
LOCATION:StandUp For Kids\, 1709 Pacific Ave\, Virginia Beach\, VA\, 23451
CATEGORIES:Attorney Available,Outreach
END:VEVENT
BEGIN:VEVENT
DTSTART;TZID=America/New_York:20261009T090000
DTEND;TZID=America/New_York:20261009T120000
DTSTAMP:20260423T050729
CREATED:20250630T134727Z
LAST-MODIFIED:20250701T191000Z
UID:10001198-1791536400-1791547200@laseva.org
SUMMARY:Hampton VA Medical Center
DESCRIPTION:A Disability Rights Unit/ Homeless Outreach Project office Veterans’ staff attorney will be available to provide free legal consultation\, advice\, and intake for services in the Homeless Veterans Unit Conference Room.
URL:https://laseva.org/event/hampton-va/2026-10-09/
LOCATION:Hampton VA\, 100 Emancipation Drive\, Hampton\, VA\, 23667
CATEGORIES:Attorney Available,Outreach
END:VEVENT
BEGIN:VEVENT
DTSTART;TZID=America/New_York:20261009T100000
DTEND;TZID=America/New_York:20261009T113000
DTSTAMP:20260423T050729
CREATED:20250630T140508Z
LAST-MODIFIED:20250630T140508Z
UID:10001558-1791540000-1791545400@laseva.org
SUMMARY:Four Oaks Day Service Center
DESCRIPTION:LASEV will be available to take applications for service and share information about upcoming events.
URL:https://laseva.org/event/four-oaks-day-service-center/2026-10-09/
LOCATION:Four Oaks Day Center\, 7401 Warwick Blvd\, Newport News\, VA\, 23607
CATEGORIES:Outreach
END:VEVENT
BEGIN:VEVENT
DTSTART;TZID=America/New_York:20261012T143000
DTEND;TZID=America/New_York:20261012T163000
DTSTAMP:20260423T050729
CREATED:20250630T142325Z
LAST-MODIFIED:20250630T170134Z
UID:10001618-1791815400-1791822600@laseva.org
SUMMARY:South Norfolk Memorial Library
DESCRIPTION:LASEV will be available to take applications for service and share information about upcoming events.
URL:https://laseva.org/event/south-norfolk-memorial-library/2026-10-12/
LOCATION:South Norfolk Memorial Library\, 801 Poindexter Street\, Chesapeake\, VA\, 23324
CATEGORIES:Outreach
ATTACH;FMTTYPE=image/png:https://laseva.org/wp-content/uploads/2025/06/South-Norfolk-Memorial-Library.png
END:VEVENT
BEGIN:VEVENT
DTSTART;TZID=America/New_York:20261014T090000
DTEND;TZID=America/New_York:20261014T110000
DTSTAMP:20260423T050729
CREATED:20250701T191539Z
LAST-MODIFIED:20250701T191539Z
UID:10001868-1791968400-1791975600@laseva.org
SUMMARY:Portsmouth Volunteers for the Homeless (Current PVH Clients only)
DESCRIPTION:A Disability Rights Unit/ Homeless Outreach Project department staff member will be available to provide information and intake for services. This event is only for current Portsmouth Volunteers for the Homeless (PVH) clients.
URL:https://laseva.org/event/portsmouth-volunteers-for-the-homeless-current-pvh-clients-only/2026-10-14/
LOCATION:Portsmouth Volunteers for the Homeless\, 800 Williamsburg Ave B\, Portsmouth\, VA\, 23704
CATEGORIES:Outreach
END:VEVENT
BEGIN:VEVENT
DTSTART;TZID=America/New_York:20261014T093000
DTEND;TZID=America/New_York:20261014T110000
DTSTAMP:20260423T050729
CREATED:20250815T184411Z
LAST-MODIFIED:20250815T184411Z
UID:10002449-1791970200-1791975600@laseva.org
SUMMARY:Basilica of St. Mary of the Immaculate Conception Pantry
DESCRIPTION:LASEV will be available to take applications for service and share information about upcoming events.
URL:https://laseva.org/event/basilica-of-st-mary-of-the-immaculate-conception-pantry-5/2026-10-14/
LOCATION:Basilica of St. Mary of the Immaculate Conception\, 232 Chapel Street\, Norfolk\, VA\, 23504
CATEGORIES:Outreach
ATTACH;FMTTYPE=image/png:https://laseva.org/wp-content/uploads/2025/06/Bascilica-of-St-Marys-Pantry.png
END:VEVENT
BEGIN:VEVENT
DTSTART;TZID=America/New_York:20261014T093000
DTEND;TZID=America/New_York:20261014T113000
DTSTAMP:20260423T050729
CREATED:20250630T133152Z
LAST-MODIFIED:20250630T133152Z
UID:10000215-1791970200-1791977400@laseva.org
SUMMARY:Star of the Sea
DESCRIPTION:A Disability Rights Unit/ Homeless Outreach Project department staff attorney will be available to provide free legal consultation\, advice\, and intake for services.
URL:https://laseva.org/event/star-of-the-sea/2026-10-14/
LOCATION:Star of the Sea\, 1404 Pacific Ave\, Virginia Beach\, VA\, 23451
CATEGORIES:Attorney Available,Outreach
END:VEVENT
BEGIN:VEVENT
DTSTART;TZID=America/New_York:20261014T100000
DTEND;TZID=America/New_York:20261014T130000
DTSTAMP:20260423T050729
CREATED:20251104T200759Z
LAST-MODIFIED:20251104T200759Z
UID:10002677-1791972000-1791982800@laseva.org
SUMMARY:Hampton Roads Veteran Employment Center - Newport News
DESCRIPTION:A LASEV attorney will be available to answer questions and take applications for services.
URL:https://laseva.org/event/hampton-roads-veteran-employment-center-newport-news/2026-10-14/
LOCATION:HRVEC Newport News\, 600 Thimble Shoals Boulevard.\, VA\, United States
END:VEVENT
BEGIN:VEVENT
DTSTART;TZID=America/New_York:20261014T143000
DTEND;TZID=America/New_York:20261014T153000
DTSTAMP:20260423T050729
CREATED:20251105T150554Z
LAST-MODIFIED:20251105T150554Z
UID:10002798-1791988200-1791991800@laseva.org
SUMMARY:National Alliance on Mental Illness
DESCRIPTION:A LASEV attorney will be present to answer questions and take applications for services.
URL:https://laseva.org/event/national-alliance-on-mental-illness/2026-10-14/
LOCATION:National Alliance on Mental Illness\, 291 Independence Blvd #225\, Virginia Beach\, VA\, United States
END:VEVENT
BEGIN:VEVENT
DTSTART;TZID=America/New_York:20261014T150000
DTEND;TZID=America/New_York:20261014T170000
DTSTAMP:20260423T050729
CREATED:20250630T134537Z
LAST-MODIFIED:20250630T134537Z
UID:10001138-1791990000-1791997200@laseva.org
SUMMARY:Hampton Public Library
DESCRIPTION:A Peninsula office staff attorney will be available to provide free consultation\, advice\, and intake for services.
URL:https://laseva.org/event/hampton-public-library/2026-10-14/
LOCATION:Hampton Public Library\, 4207 Victoria Blvd\, Hampton\, VA\, 23669
CATEGORIES:Attorney Available,Outreach
END:VEVENT
BEGIN:VEVENT
DTSTART;TZID=America/New_York:20261015T093000
DTEND;TZID=America/New_York:20261015T120000
DTSTAMP:20260423T050729
CREATED:20250701T190915Z
LAST-MODIFIED:20250701T191109Z
UID:10001808-1792056600-1792065600@laseva.org
SUMMARY:LINK of Hampton Roads
DESCRIPTION:A Disability Rights Unit/ Homeless Outreach Project department staff attorney will be available to provide free legal consultation\, advice\, and intake for services.
URL:https://laseva.org/event/link-of-hampton-roads/2026-10-15/
LOCATION:LINK of Hampton Roads\, 10413 Warwick Blvd\, Newport News\, VA\, 23601
CATEGORIES:Attorney Available,Outreach
END:VEVENT
BEGIN:VEVENT
DTSTART;TZID=America/New_York:20261015T133000
DTEND;TZID=America/New_York:20261015T153000
DTSTAMP:20260423T050729
CREATED:20250630T145631Z
LAST-MODIFIED:20250630T145631Z
UID:10001684-1792071000-1792078200@laseva.org
SUMMARY:Williamsburg House of Mercy
DESCRIPTION:A Peninsula office staff attorney will be available to provide free consultation\, advice\, and intake for services.
URL:https://laseva.org/event/williamsburg-house-of-mercy/2026-10-15/
LOCATION:Williamsburg House of Mercy\, 10 Harrison Ave\, Williamsburg\, VA\, 23185
CATEGORIES:Attorney Available,Outreach
END:VEVENT
BEGIN:VEVENT
DTSTART;TZID=America/New_York:20261015T133000
DTEND;TZID=America/New_York:20261015T153000
DTSTAMP:20260423T050729
CREATED:20250801T191406Z
LAST-MODIFIED:20250801T191406Z
UID:10002116-1792071000-1792078200@laseva.org
SUMMARY:Young Terrace Community Center
DESCRIPTION:A member of the LASEV Community Support Team will be available to take applications for service and share information about upcoming events.
URL:https://laseva.org/event/young-terrace-community-center-2/2026-10-15/
LOCATION:Young Terrace Community Center\, 804 Whitaker Ln\, Norfolk\, VA\, 23510
CATEGORIES:Outreach
END:VEVENT
BEGIN:VEVENT
DTSTART;TZID=America/New_York:20261016T130000
DTEND;TZID=America/New_York:20261016T150000
DTSTAMP:20260423T050729
CREATED:20250630T135729Z
LAST-MODIFIED:20250801T200918Z
UID:10002236-1792155600-1792162800@laseva.org
SUMMARY:The Community Feed at Jordan-Newby
DESCRIPTION:LASEV will be available to take applications for service and share information about upcoming events.
URL:https://laseva.org/event/the-community-feed-at-jordan-newby-2/2026-10-16/
LOCATION:The Community Feed at Jordan Newby\, 961 Park Ave\, Norfolk\, VA\, 23504
CATEGORIES:Outreach
ATTACH;FMTTYPE=image/png:https://laseva.org/wp-content/uploads/2025/06/The-community-feed-at-Jordan-newby.png
END:VEVENT
BEGIN:VEVENT
DTSTART;TZID=America/New_York:20261020T090000
DTEND;TZID=America/New_York:20261020T110000
DTSTAMP:20260423T050729
CREATED:20250630T134933Z
LAST-MODIFIED:20250630T134933Z
UID:10001258-1792486800-1792494000@laseva.org
SUMMARY:Virginia Beach Housing Resource Center
DESCRIPTION:A LASEV attorney will be available to take applications for service as well as provide consultation and advice to qualifying low-income individuals.
URL:https://laseva.org/event/virginia-beach-housing-resource-center/2026-10-20/
LOCATION:Virginia Beach Housing Resource Center\, 104 N Witchduck Rd\, Virginia Beach\, VA\, 23462
CATEGORIES:Attorney Available,Outreach
END:VEVENT
BEGIN:VEVENT
DTSTART;TZID=America/New_York:20261020T090000
DTEND;TZID=America/New_York:20261020T110000
DTSTAMP:20260423T050729
CREATED:20250630T135135Z
LAST-MODIFIED:20250630T135135Z
UID:10001318-1792486800-1792494000@laseva.org
SUMMARY:Salvation Army
DESCRIPTION:A Disability Rights Unit/ Homeless Outreach Project office social worker will be available for services.
URL:https://laseva.org/event/salvation-army/2026-10-20/
LOCATION:Salvation Army\, 5525 Raby Rd\, Norfolk\, VA\, 23502
CATEGORIES:Outreach
END:VEVENT
BEGIN:VEVENT
DTSTART;TZID=America/New_York:20261020T093000
DTEND;TZID=America/New_York:20261020T120000
DTSTAMP:20260423T050729
CREATED:20251219T140232Z
LAST-MODIFIED:20251219T140232Z
UID:10002946-1792488600-1792497600@laseva.org
SUMMARY:LINK of Hampton Roads - VB Location
DESCRIPTION:A member of our Veteran Justice Team will be available to answer questions and take applications for services.
URL:https://laseva.org/event/link-of-hampton-roads-vb-location/2026-10-20/
LOCATION:LINK – Virginia Beach\, 6477 College Park Square\, Suite 216\, Virginia Beach\, VA\, United States
END:VEVENT
BEGIN:VEVENT
DTSTART;TZID=America/New_York:20261020T123000
DTEND;TZID=America/New_York:20261020T153000
DTSTAMP:20260423T050729
CREATED:20250714T162132Z
LAST-MODIFIED:20250801T190958Z
UID:10001934-1792499400-1792510200@laseva.org
SUMMARY:The Community Feed at Jordan-Newby
DESCRIPTION:LASEV will be available to take applications for service and share information about upcoming events.
URL:https://laseva.org/event/the-community-feed-at-jordan-newby-3/2026-10-20/
LOCATION:The Community Feed at Jordan Newby\, 961 Park Ave\, Norfolk\, VA\, 23504
CATEGORIES:Outreach
ATTACH;FMTTYPE=image/png:https://laseva.org/wp-content/uploads/2025/06/The-community-feed-at-Jordan-newby.png
END:VEVENT
BEGIN:VEVENT
DTSTART;TZID=America/New_York:20261021T093000
DTEND;TZID=America/New_York:20261021T110000
DTSTAMP:20260423T050729
CREATED:20260203T121728Z
LAST-MODIFIED:20260203T121729Z
UID:10002319-1792575000-1792580400@laseva.org
SUMMARY:Basilica of St. Mary of the Immaculate Conception Pantry
DESCRIPTION:A member of our Community Support Team will be available to take applications for services.
URL:https://laseva.org/event/basilica-of-st-mary-of-the-immaculate-conception-pantry-4-3/2026-10-21/
LOCATION:Basilica of St. Mary of the Immaculate Conception\, 232 Chapel Street\, Norfolk\, VA\, 23504
CATEGORIES:Attorney Available,Outreach
ATTACH;FMTTYPE=image/png:https://laseva.org/wp-content/uploads/2025/06/Bascilica-of-St-Marys-Pantry.png
END:VEVENT
BEGIN:VEVENT
DTSTART;TZID=America/New_York:20261021T093000
DTEND;TZID=America/New_York:20261021T113000
DTSTAMP:20260423T050729
CREATED:20250630T133152Z
LAST-MODIFIED:20250630T133152Z
UID:10000216-1792575000-1792582200@laseva.org
SUMMARY:Star of the Sea
DESCRIPTION:A Disability Rights Unit/ Homeless Outreach Project department staff attorney will be available to provide free legal consultation\, advice\, and intake for services.
URL:https://laseva.org/event/star-of-the-sea/2026-10-21/
LOCATION:Star of the Sea\, 1404 Pacific Ave\, Virginia Beach\, VA\, 23451
CATEGORIES:Attorney Available,Outreach
END:VEVENT
BEGIN:VEVENT
DTSTART;TZID=America/New_York:20261022T090000
DTEND;TZID=America/New_York:20261022T110000
DTSTAMP:20260423T050729
CREATED:20250630T135925Z
LAST-MODIFIED:20250630T135925Z
UID:10001438-1792659600-1792666800@laseva.org
SUMMARY:Union Mission
DESCRIPTION:A Disability Rights Unit/ Homeless Outreach Project office social worker will be available for services.
URL:https://laseva.org/event/union-mission/2026-10-22/
LOCATION:Union Mission\, 5100 E Virginia Beach Blvd\, Norfolk\, VA\, 23502
CATEGORIES:Outreach
END:VEVENT
BEGIN:VEVENT
DTSTART;TZID=America/New_York:20261022T133000
DTEND;TZID=America/New_York:20261022T153000
DTSTAMP:20260423T050729
CREATED:20250630T142635Z
LAST-MODIFIED:20250801T191259Z
UID:10001994-1792675800-1792683000@laseva.org
SUMMARY:Young Terrace Community Center
DESCRIPTION:A member of the LASEV Community Support Team will be available to take applications for service and share information about upcoming events.
URL:https://laseva.org/event/young-terrace-community-center/2026-10-22/
LOCATION:Young Terrace Community Center\, 804 Whitaker Ln\, Norfolk\, VA\, 23510
CATEGORIES:Outreach
END:VEVENT
END:VCALENDAR