BEGIN:VCALENDAR
VERSION:2.0
PRODID:-// - ECPv6.15.20//NONSGML v1.0//EN
CALSCALE:GREGORIAN
METHOD:PUBLISH
X-ORIGINAL-URL:https://laseva.org
X-WR-CALDESC:Events for 
REFRESH-INTERVAL;VALUE=DURATION:PT1H
X-Robots-Tag:noindex
X-PUBLISHED-TTL:PT1H
BEGIN:VTIMEZONE
TZID:America/New_York
BEGIN:DAYLIGHT
TZOFFSETFROM:-0500
TZOFFSETTO:-0400
TZNAME:EDT
DTSTART:20250309T070000
END:DAYLIGHT
BEGIN:STANDARD
TZOFFSETFROM:-0400
TZOFFSETTO:-0500
TZNAME:EST
DTSTART:20251102T060000
END:STANDARD
BEGIN:DAYLIGHT
TZOFFSETFROM:-0500
TZOFFSETTO:-0400
TZNAME:EDT
DTSTART:20260308T070000
END:DAYLIGHT
BEGIN:STANDARD
TZOFFSETFROM:-0400
TZOFFSETTO:-0500
TZNAME:EST
DTSTART:20261101T060000
END:STANDARD
BEGIN:DAYLIGHT
TZOFFSETFROM:-0500
TZOFFSETTO:-0400
TZNAME:EDT
DTSTART:20270314T070000
END:DAYLIGHT
BEGIN:STANDARD
TZOFFSETFROM:-0400
TZOFFSETTO:-0500
TZNAME:EST
DTSTART:20271107T060000
END:STANDARD
END:VTIMEZONE
BEGIN:VEVENT
DTSTART;TZID=America/New_York:20260120T090000
DTEND;TZID=America/New_York:20260120T110000
DTSTAMP:20260422T083145
CREATED:20250630T134933Z
LAST-MODIFIED:20250630T134933Z
UID:10001249-1768899600-1768906800@laseva.org
SUMMARY:Virginia Beach Housing Resource Center
DESCRIPTION:A LASEV attorney will be available to take applications for service as well as provide consultation and advice to qualifying low-income individuals.
URL:https://laseva.org/event/virginia-beach-housing-resource-center/2026-01-20/
LOCATION:Virginia Beach Housing Resource Center\, 104 N Witchduck Rd\, Virginia Beach\, VA\, 23462
CATEGORIES:Attorney Available,Outreach
END:VEVENT
BEGIN:VEVENT
DTSTART;TZID=America/New_York:20260120T090000
DTEND;TZID=America/New_York:20260120T110000
DTSTAMP:20260422T083145
CREATED:20250630T135135Z
LAST-MODIFIED:20250630T135135Z
UID:10001309-1768899600-1768906800@laseva.org
SUMMARY:Salvation Army
DESCRIPTION:A Disability Rights Unit/ Homeless Outreach Project office social worker will be available for services.
URL:https://laseva.org/event/salvation-army/2026-01-20/
LOCATION:Salvation Army\, 5525 Raby Rd\, Norfolk\, VA\, 23502
CATEGORIES:Outreach
END:VEVENT
BEGIN:VEVENT
DTSTART;TZID=America/New_York:20260120T123000
DTEND;TZID=America/New_York:20260120T153000
DTSTAMP:20260422T083145
CREATED:20250714T162132Z
LAST-MODIFIED:20250801T190958Z
UID:10001925-1768912200-1768923000@laseva.org
SUMMARY:The Community Feed at Jordan-Newby
DESCRIPTION:LASEV will be available to take applications for service and share information about upcoming events.
URL:https://laseva.org/event/the-community-feed-at-jordan-newby-3/2026-01-20/
LOCATION:The Community Feed at Jordan Newby\, 961 Park Ave\, Norfolk\, VA\, 23504
CATEGORIES:Outreach
ATTACH;FMTTYPE=image/png:https://laseva.org/wp-content/uploads/2025/06/The-community-feed-at-Jordan-newby.png
END:VEVENT
BEGIN:VEVENT
DTSTART;TZID=America/New_York:20260121T093000
DTEND;TZID=America/New_York:20260121T110000
DTSTAMP:20260422T083145
CREATED:20250815T184411Z
LAST-MODIFIED:20250815T184411Z
UID:10002430-1768987800-1768993200@laseva.org
SUMMARY:Basilica of St. Mary of the Immaculate Conception Pantry
DESCRIPTION:LASEV will be available to take applications for service and share information about upcoming events.
URL:https://laseva.org/event/basilica-of-st-mary-of-the-immaculate-conception-pantry-5/2026-01-21/
LOCATION:Basilica of St. Mary of the Immaculate Conception\, 232 Chapel Street\, Norfolk\, VA\, 23504
CATEGORIES:Outreach
ATTACH;FMTTYPE=image/png:https://laseva.org/wp-content/uploads/2025/06/Bascilica-of-St-Marys-Pantry.png
END:VEVENT
BEGIN:VEVENT
DTSTART;TZID=America/New_York:20260121T093000
DTEND;TZID=America/New_York:20260121T113000
DTSTAMP:20260422T083145
CREATED:20250630T133152Z
LAST-MODIFIED:20250630T133152Z
UID:10000177-1768987800-1768995000@laseva.org
SUMMARY:Star of the Sea
DESCRIPTION:A Disability Rights Unit/ Homeless Outreach Project department staff attorney will be available to provide free legal consultation\, advice\, and intake for services.
URL:https://laseva.org/event/star-of-the-sea/2026-01-21/
LOCATION:Star of the Sea\, 1404 Pacific Ave\, Virginia Beach\, VA\, 23451
CATEGORIES:Attorney Available,Outreach
END:VEVENT
BEGIN:VEVENT
DTSTART;TZID=America/New_York:20260122T090000
DTEND;TZID=America/New_York:20260122T110000
DTSTAMP:20260422T083145
CREATED:20250630T135925Z
LAST-MODIFIED:20250630T135925Z
UID:10001429-1769072400-1769079600@laseva.org
SUMMARY:Union Mission
DESCRIPTION:A Disability Rights Unit/ Homeless Outreach Project office social worker will be available for services.
URL:https://laseva.org/event/union-mission/2026-01-22/
LOCATION:Union Mission\, 5100 E Virginia Beach Blvd\, Norfolk\, VA\, 23502
CATEGORIES:Outreach
END:VEVENT
BEGIN:VEVENT
DTSTART;TZID=America/New_York:20260122T133000
DTEND;TZID=America/New_York:20260122T153000
DTSTAMP:20260422T083145
CREATED:20250630T142635Z
LAST-MODIFIED:20250801T191259Z
UID:10001985-1769088600-1769095800@laseva.org
SUMMARY:Young Terrace Community Center
DESCRIPTION:A member of the LASEV Community Support Team will be available to take applications for service and share information about upcoming events.
URL:https://laseva.org/event/young-terrace-community-center/2026-01-22/
LOCATION:Young Terrace Community Center\, 804 Whitaker Ln\, Norfolk\, VA\, 23510
CATEGORIES:Outreach
END:VEVENT
BEGIN:VEVENT
DTSTART;TZID=America/New_York:20260122T153000
DTEND;TZID=America/New_York:20260122T170000
DTSTAMP:20260422T083145
CREATED:20250630T140223Z
LAST-MODIFIED:20250630T170618Z
UID:10001489-1769095800-1769101200@laseva.org
SUMMARY:The Community Feed at Berkley
DESCRIPTION:LASEV will be available to take applications for service and share information about upcoming events.
URL:https://laseva.org/event/the-community-feed-at-berkley/2026-01-22/
LOCATION:The Community Feed at Berkley\, 701 South Main Street\, Norfolk\, VA\, 23523
CATEGORIES:Outreach
ATTACH;FMTTYPE=image/png:https://laseva.org/wp-content/uploads/2025/06/5.png
END:VEVENT
END:VCALENDAR