BEGIN:VCALENDAR
VERSION:2.0
PRODID:-// - ECPv6.15.20//NONSGML v1.0//EN
CALSCALE:GREGORIAN
METHOD:PUBLISH
X-ORIGINAL-URL:https://laseva.org
X-WR-CALDESC:Events for 
REFRESH-INTERVAL;VALUE=DURATION:PT1H
X-Robots-Tag:noindex
X-PUBLISHED-TTL:PT1H
BEGIN:VTIMEZONE
TZID:America/New_York
BEGIN:DAYLIGHT
TZOFFSETFROM:-0500
TZOFFSETTO:-0400
TZNAME:EDT
DTSTART:20250309T070000
END:DAYLIGHT
BEGIN:STANDARD
TZOFFSETFROM:-0400
TZOFFSETTO:-0500
TZNAME:EST
DTSTART:20251102T060000
END:STANDARD
BEGIN:DAYLIGHT
TZOFFSETFROM:-0500
TZOFFSETTO:-0400
TZNAME:EDT
DTSTART:20260308T070000
END:DAYLIGHT
BEGIN:STANDARD
TZOFFSETFROM:-0400
TZOFFSETTO:-0500
TZNAME:EST
DTSTART:20261101T060000
END:STANDARD
BEGIN:DAYLIGHT
TZOFFSETFROM:-0500
TZOFFSETTO:-0400
TZNAME:EDT
DTSTART:20270314T070000
END:DAYLIGHT
BEGIN:STANDARD
TZOFFSETFROM:-0400
TZOFFSETTO:-0500
TZNAME:EST
DTSTART:20271107T060000
END:STANDARD
END:VTIMEZONE
BEGIN:VEVENT
DTSTART;TZID=America/New_York:20260225T093000
DTEND;TZID=America/New_York:20260225T113000
DTSTAMP:20260421T005707
CREATED:20250630T133152Z
LAST-MODIFIED:20250630T133152Z
UID:10000182-1772011800-1772019000@laseva.org
SUMMARY:Star of the Sea
DESCRIPTION:A Disability Rights Unit/ Homeless Outreach Project department staff attorney will be available to provide free legal consultation\, advice\, and intake for services.
URL:https://laseva.org/event/star-of-the-sea/2026-02-25/
LOCATION:Star of the Sea\, 1404 Pacific Ave\, Virginia Beach\, VA\, 23451
CATEGORIES:Attorney Available,Outreach
END:VEVENT
BEGIN:VEVENT
DTSTART;TZID=America/New_York:20260226T090000
DTEND;TZID=America/New_York:20260226T110000
DTSTAMP:20260421T005707
CREATED:20250630T135925Z
LAST-MODIFIED:20250630T135925Z
UID:10001430-1772096400-1772103600@laseva.org
SUMMARY:Union Mission
DESCRIPTION:A Disability Rights Unit/ Homeless Outreach Project office social worker will be available for services.
URL:https://laseva.org/event/union-mission/2026-02-26/
LOCATION:Union Mission\, 5100 E Virginia Beach Blvd\, Norfolk\, VA\, 23502
CATEGORIES:Outreach
END:VEVENT
BEGIN:VEVENT
DTSTART;TZID=America/New_York:20260226T133000
DTEND;TZID=America/New_York:20260226T153000
DTSTAMP:20260421T005707
CREATED:20250630T142635Z
LAST-MODIFIED:20250801T191259Z
UID:10001986-1772112600-1772119800@laseva.org
SUMMARY:Young Terrace Community Center
DESCRIPTION:A member of the LASEV Community Support Team will be available to take applications for service and share information about upcoming events.
URL:https://laseva.org/event/young-terrace-community-center/2026-02-26/
LOCATION:Young Terrace Community Center\, 804 Whitaker Ln\, Norfolk\, VA\, 23510
CATEGORIES:Outreach
END:VEVENT
BEGIN:VEVENT
DTSTART;TZID=America/New_York:20260226T153000
DTEND;TZID=America/New_York:20260226T170000
DTSTAMP:20260421T005707
CREATED:20250630T140223Z
LAST-MODIFIED:20250630T170618Z
UID:10001490-1772119800-1772125200@laseva.org
SUMMARY:The Community Feed at Berkley
DESCRIPTION:LASEV will be available to take applications for service and share information about upcoming events.
URL:https://laseva.org/event/the-community-feed-at-berkley/2026-02-26/
LOCATION:The Community Feed at Berkley\, 701 South Main Street\, Norfolk\, VA\, 23523
CATEGORIES:Outreach
ATTACH;FMTTYPE=image/png:https://laseva.org/wp-content/uploads/2025/06/5.png
END:VEVENT
BEGIN:VEVENT
DTSTART;TZID=America/New_York:20260226T190000
DTEND;TZID=America/New_York:20260226T200000
DTSTAMP:20260421T005707
CREATED:20250630T134258Z
LAST-MODIFIED:20250630T134258Z
UID:10001009-1772132400-1772136000@laseva.org
SUMMARY:StandUp for Kids
DESCRIPTION:A DRU/HOP attorney will be available to take applications for service as well as provide consultation and advice to qualifying low-income individuals.
URL:https://laseva.org/event/standup-for-kids/2026-02-26/
LOCATION:StandUp For Kids\, 1709 Pacific Ave\, Virginia Beach\, VA\, 23451
CATEGORIES:Attorney Available,Outreach
END:VEVENT
BEGIN:VEVENT
DTSTART;TZID=America/New_York:20260303T093000
DTEND;TZID=America/New_York:20260303T120000
DTSTAMP:20260421T005707
CREATED:20250630T132525Z
LAST-MODIFIED:20250630T132525Z
UID:10000036-1772530200-1772539200@laseva.org
SUMMARY:Potter's House
DESCRIPTION:A DRU/HOP attorney will be available to give free legal consultation\, advice and intake for services
URL:https://laseva.org/event/potters-house/2026-03-03/
LOCATION:Potters House\, 1709 Pacific Ave\, Virginia Beach\, VA\, 23451\, United States
CATEGORIES:Attorney Available,Outreach
END:VEVENT
BEGIN:VEVENT
DTSTART;TZID=America/New_York:20260303T123000
DTEND;TZID=America/New_York:20260303T153000
DTSTAMP:20260421T005707
CREATED:20250630T132829Z
LAST-MODIFIED:20250701T191730Z
UID:10000096-1772541000-1772551800@laseva.org
SUMMARY:The Community Feed at Jordan Newby
DESCRIPTION:The community support team will be available to provide free legal consultation\, advice\, and intake for services.
URL:https://laseva.org/event/the-community-feed-at-jordan-newby/2026-03-03/
LOCATION:The Community Feed at Jordan Newby\, 961 Park Ave\, Norfolk\, VA\, 23504
CATEGORIES:Outreach
ATTACH;FMTTYPE=image/png:https://laseva.org/wp-content/uploads/2025/06/The-community-feed-at-Jordan-newby.png
END:VEVENT
BEGIN:VEVENT
DTSTART;TZID=America/New_York:20260304T093000
DTEND;TZID=America/New_York:20260304T110000
DTSTAMP:20260421T005707
CREATED:20250815T184411Z
LAST-MODIFIED:20250815T184411Z
UID:10002433-1772616600-1772622000@laseva.org
SUMMARY:Basilica of St. Mary of the Immaculate Conception Pantry
DESCRIPTION:LASEV will be available to take applications for service and share information about upcoming events.
URL:https://laseva.org/event/basilica-of-st-mary-of-the-immaculate-conception-pantry-5/2026-03-04/
LOCATION:Basilica of St. Mary of the Immaculate Conception\, 232 Chapel Street\, Norfolk\, VA\, 23504
CATEGORIES:Outreach
ATTACH;FMTTYPE=image/png:https://laseva.org/wp-content/uploads/2025/06/Bascilica-of-St-Marys-Pantry.png
END:VEVENT
BEGIN:VEVENT
DTSTART;TZID=America/New_York:20260304T093000
DTEND;TZID=America/New_York:20260304T113000
DTSTAMP:20260421T005707
CREATED:20250630T133152Z
LAST-MODIFIED:20250630T133152Z
UID:10000183-1772616600-1772623800@laseva.org
SUMMARY:Star of the Sea
DESCRIPTION:A Disability Rights Unit/ Homeless Outreach Project department staff attorney will be available to provide free legal consultation\, advice\, and intake for services.
URL:https://laseva.org/event/star-of-the-sea/2026-03-04/
LOCATION:Star of the Sea\, 1404 Pacific Ave\, Virginia Beach\, VA\, 23451
CATEGORIES:Attorney Available,Outreach
END:VEVENT
BEGIN:VEVENT
DTSTART;TZID=America/New_York:20260304T150000
DTEND;TZID=America/New_York:20260304T170000
DTSTAMP:20260421T005707
CREATED:20251105T211056Z
LAST-MODIFIED:20251105T211057Z
UID:10002850-1772636400-1772643600@laseva.org
SUMMARY:Pearl Bailey Public Library
DESCRIPTION:A Peninsula office staff attorney will be available to provide free consultation\, advice\, and intake for services.
URL:https://laseva.org/event/pearl-bailey-public-library-2/2026-03-04/
LOCATION:Pearl Bailey Library\, 2510 Wickham Ave\, Newport News\, VA\, 23607
CATEGORIES:Attorney Available,Outreach
END:VEVENT
BEGIN:VEVENT
DTSTART;TZID=America/New_York:20260306T140000
DTEND;TZID=America/New_York:20260306T160000
DTSTAMP:20260421T005707
CREATED:20250701T153826Z
LAST-MODIFIED:20250701T162348Z
UID:10001738-1772805600-1772812800@laseva.org
SUMMARY:Portsmouth Main Library
DESCRIPTION:LASEV Director\, Raymond Hartz\, Esq. or Deputy Director\, Melissa Bonfiglio\, Esq. will be available to provide free legal consult\, advice\, and intake for services.
URL:https://laseva.org/event/portsmouth-main-library-2/2026-03-06/
LOCATION:Portsmouth Main Library\, 601 Court St\, Portsmouth\, VA\, 23704
CATEGORIES:Attorney Available,Outreach
ATTACH;FMTTYPE=image/png:https://laseva.org/wp-content/uploads/2025/07/Portsmouth-Main-library.png
END:VEVENT
BEGIN:VEVENT
DTSTART;TZID=America/New_York:20260309T143000
DTEND;TZID=America/New_York:20260309T163000
DTSTAMP:20260421T005707
CREATED:20250630T142325Z
LAST-MODIFIED:20250630T170134Z
UID:10001611-1773066600-1773073800@laseva.org
SUMMARY:South Norfolk Memorial Library
DESCRIPTION:LASEV will be available to take applications for service and share information about upcoming events.
URL:https://laseva.org/event/south-norfolk-memorial-library/2026-03-09/
LOCATION:South Norfolk Memorial Library\, 801 Poindexter Street\, Chesapeake\, VA\, 23324
CATEGORIES:Outreach
ATTACH;FMTTYPE=image/png:https://laseva.org/wp-content/uploads/2025/06/South-Norfolk-Memorial-Library.png
END:VEVENT
BEGIN:VEVENT
DTSTART;TZID=America/New_York:20260311T090000
DTEND;TZID=America/New_York:20260311T110000
DTSTAMP:20260421T005707
CREATED:20250701T191539Z
LAST-MODIFIED:20250701T191539Z
UID:10001861-1773219600-1773226800@laseva.org
SUMMARY:Portsmouth Volunteers for the Homeless (Current PVH Clients only)
DESCRIPTION:A Disability Rights Unit/ Homeless Outreach Project department staff member will be available to provide information and intake for services. This event is only for current Portsmouth Volunteers for the Homeless (PVH) clients.
URL:https://laseva.org/event/portsmouth-volunteers-for-the-homeless-current-pvh-clients-only/2026-03-11/
LOCATION:Portsmouth Volunteers for the Homeless\, 800 Williamsburg Ave B\, Portsmouth\, VA\, 23704
CATEGORIES:Outreach
END:VEVENT
BEGIN:VEVENT
DTSTART;TZID=America/New_York:20260311T093000
DTEND;TZID=America/New_York:20260311T110000
DTSTAMP:20260421T005707
CREATED:20260203T121728Z
LAST-MODIFIED:20260203T121729Z
UID:10002303-1773221400-1773226800@laseva.org
SUMMARY:Basilica of St. Mary of the Immaculate Conception Pantry
DESCRIPTION:A member of our Community Support Team will be available to take applications for services.
URL:https://laseva.org/event/basilica-of-st-mary-of-the-immaculate-conception-pantry-4-3/2026-03-11/
LOCATION:Basilica of St. Mary of the Immaculate Conception\, 232 Chapel Street\, Norfolk\, VA\, 23504
CATEGORIES:Attorney Available,Outreach
ATTACH;FMTTYPE=image/png:https://laseva.org/wp-content/uploads/2025/06/Bascilica-of-St-Marys-Pantry.png
END:VEVENT
BEGIN:VEVENT
DTSTART;TZID=America/New_York:20260311T093000
DTEND;TZID=America/New_York:20260311T113000
DTSTAMP:20260421T005707
CREATED:20250630T133152Z
LAST-MODIFIED:20250630T133152Z
UID:10000184-1773221400-1773228600@laseva.org
SUMMARY:Star of the Sea
DESCRIPTION:A Disability Rights Unit/ Homeless Outreach Project department staff attorney will be available to provide free legal consultation\, advice\, and intake for services.
URL:https://laseva.org/event/star-of-the-sea/2026-03-11/
LOCATION:Star of the Sea\, 1404 Pacific Ave\, Virginia Beach\, VA\, 23451
CATEGORIES:Attorney Available,Outreach
END:VEVENT
BEGIN:VEVENT
DTSTART;TZID=America/New_York:20260311T150000
DTEND;TZID=America/New_York:20260311T170000
DTSTAMP:20260421T005707
CREATED:20250630T134537Z
LAST-MODIFIED:20250630T134537Z
UID:10001131-1773241200-1773248400@laseva.org
SUMMARY:Hampton Public Library
DESCRIPTION:A Peninsula office staff attorney will be available to provide free consultation\, advice\, and intake for services.
URL:https://laseva.org/event/hampton-public-library/2026-03-11/
LOCATION:Hampton Public Library\, 4207 Victoria Blvd\, Hampton\, VA\, 23669
CATEGORIES:Attorney Available,Outreach
END:VEVENT
BEGIN:VEVENT
DTSTART;TZID=America/New_York:20260312T190000
DTEND;TZID=America/New_York:20260312T200000
DTSTAMP:20260421T005707
CREATED:20250630T134258Z
LAST-MODIFIED:20250630T134258Z
UID:10001010-1773342000-1773345600@laseva.org
SUMMARY:StandUp for Kids
DESCRIPTION:A DRU/HOP attorney will be available to take applications for service as well as provide consultation and advice to qualifying low-income individuals.
URL:https://laseva.org/event/standup-for-kids/2026-03-12/
LOCATION:StandUp For Kids\, 1709 Pacific Ave\, Virginia Beach\, VA\, 23451
CATEGORIES:Attorney Available,Outreach
END:VEVENT
BEGIN:VEVENT
DTSTART;TZID=America/New_York:20260313T090000
DTEND;TZID=America/New_York:20260313T120000
DTSTAMP:20260421T005707
CREATED:20250630T134727Z
LAST-MODIFIED:20250701T191000Z
UID:10001191-1773392400-1773403200@laseva.org
SUMMARY:Hampton VA Medical Center
DESCRIPTION:A Disability Rights Unit/ Homeless Outreach Project office Veterans’ staff attorney will be available to provide free legal consultation\, advice\, and intake for services in the Homeless Veterans Unit Conference Room.
URL:https://laseva.org/event/hampton-va/2026-03-13/
LOCATION:Hampton VA\, 100 Emancipation Drive\, Hampton\, VA\, 23667
CATEGORIES:Attorney Available,Outreach
END:VEVENT
BEGIN:VEVENT
DTSTART;TZID=America/New_York:20260313T100000
DTEND;TZID=America/New_York:20260313T113000
DTSTAMP:20260421T005707
CREATED:20250630T140508Z
LAST-MODIFIED:20250630T140508Z
UID:10001551-1773396000-1773401400@laseva.org
SUMMARY:Four Oaks Day Service Center
DESCRIPTION:LASEV will be available to take applications for service and share information about upcoming events.
URL:https://laseva.org/event/four-oaks-day-service-center/2026-03-13/
LOCATION:Four Oaks Day Center\, 7401 Warwick Blvd\, Newport News\, VA\, 23607
CATEGORIES:Outreach
END:VEVENT
BEGIN:VEVENT
DTSTART;TZID=America/New_York:20260317T090000
DTEND;TZID=America/New_York:20260317T110000
DTSTAMP:20260421T005707
CREATED:20250630T134933Z
LAST-MODIFIED:20250630T134933Z
UID:10001251-1773738000-1773745200@laseva.org
SUMMARY:Virginia Beach Housing Resource Center
DESCRIPTION:A LASEV attorney will be available to take applications for service as well as provide consultation and advice to qualifying low-income individuals.
URL:https://laseva.org/event/virginia-beach-housing-resource-center/2026-03-17/
LOCATION:Virginia Beach Housing Resource Center\, 104 N Witchduck Rd\, Virginia Beach\, VA\, 23462
CATEGORIES:Attorney Available,Outreach
END:VEVENT
BEGIN:VEVENT
DTSTART;TZID=America/New_York:20260317T090000
DTEND;TZID=America/New_York:20260317T110000
DTSTAMP:20260421T005707
CREATED:20250630T135135Z
LAST-MODIFIED:20250630T135135Z
UID:10001311-1773738000-1773745200@laseva.org
SUMMARY:Salvation Army
DESCRIPTION:A Disability Rights Unit/ Homeless Outreach Project office social worker will be available for services.
URL:https://laseva.org/event/salvation-army/2026-03-17/
LOCATION:Salvation Army\, 5525 Raby Rd\, Norfolk\, VA\, 23502
CATEGORIES:Outreach
END:VEVENT
BEGIN:VEVENT
DTSTART;TZID=America/New_York:20260317T123000
DTEND;TZID=America/New_York:20260317T153000
DTSTAMP:20260421T005707
CREATED:20250714T162132Z
LAST-MODIFIED:20250801T190958Z
UID:10001927-1773750600-1773761400@laseva.org
SUMMARY:The Community Feed at Jordan-Newby
DESCRIPTION:LASEV will be available to take applications for service and share information about upcoming events.
URL:https://laseva.org/event/the-community-feed-at-jordan-newby-3/2026-03-17/
LOCATION:The Community Feed at Jordan Newby\, 961 Park Ave\, Norfolk\, VA\, 23504
CATEGORIES:Outreach
ATTACH;FMTTYPE=image/png:https://laseva.org/wp-content/uploads/2025/06/The-community-feed-at-Jordan-newby.png
END:VEVENT
BEGIN:VEVENT
DTSTART;TZID=America/New_York:20260318T093000
DTEND;TZID=America/New_York:20260318T110000
DTSTAMP:20260421T005707
CREATED:20250815T184411Z
LAST-MODIFIED:20250815T184411Z
UID:10002434-1773826200-1773831600@laseva.org
SUMMARY:Basilica of St. Mary of the Immaculate Conception Pantry
DESCRIPTION:LASEV will be available to take applications for service and share information about upcoming events.
URL:https://laseva.org/event/basilica-of-st-mary-of-the-immaculate-conception-pantry-5/2026-03-18/
LOCATION:Basilica of St. Mary of the Immaculate Conception\, 232 Chapel Street\, Norfolk\, VA\, 23504
CATEGORIES:Outreach
ATTACH;FMTTYPE=image/png:https://laseva.org/wp-content/uploads/2025/06/Bascilica-of-St-Marys-Pantry.png
END:VEVENT
BEGIN:VEVENT
DTSTART;TZID=America/New_York:20260318T093000
DTEND;TZID=America/New_York:20260318T113000
DTSTAMP:20260421T005707
CREATED:20250630T133152Z
LAST-MODIFIED:20250630T133152Z
UID:10000185-1773826200-1773833400@laseva.org
SUMMARY:Star of the Sea
DESCRIPTION:A Disability Rights Unit/ Homeless Outreach Project department staff attorney will be available to provide free legal consultation\, advice\, and intake for services.
URL:https://laseva.org/event/star-of-the-sea/2026-03-18/
LOCATION:Star of the Sea\, 1404 Pacific Ave\, Virginia Beach\, VA\, 23451
CATEGORIES:Attorney Available,Outreach
END:VEVENT
BEGIN:VEVENT
DTSTART;TZID=America/New_York:20260319T093000
DTEND;TZID=America/New_York:20260319T120000
DTSTAMP:20260421T005707
CREATED:20250701T190915Z
LAST-MODIFIED:20250701T191109Z
UID:10001801-1773912600-1773921600@laseva.org
SUMMARY:LINK of Hampton Roads
DESCRIPTION:A Disability Rights Unit/ Homeless Outreach Project department staff attorney will be available to provide free legal consultation\, advice\, and intake for services.
URL:https://laseva.org/event/link-of-hampton-roads/2026-03-19/
LOCATION:LINK of Hampton Roads\, 10413 Warwick Blvd\, Newport News\, VA\, 23601
CATEGORIES:Attorney Available,Outreach
END:VEVENT
BEGIN:VEVENT
DTSTART;TZID=America/New_York:20260319T133000
DTEND;TZID=America/New_York:20260319T153000
DTSTAMP:20260421T005707
CREATED:20250630T145631Z
LAST-MODIFIED:20250630T145631Z
UID:10001677-1773927000-1773934200@laseva.org
SUMMARY:Williamsburg House of Mercy
DESCRIPTION:A Peninsula office staff attorney will be available to provide free consultation\, advice\, and intake for services.
URL:https://laseva.org/event/williamsburg-house-of-mercy/2026-03-19/
LOCATION:Williamsburg House of Mercy\, 10 Harrison Ave\, Williamsburg\, VA\, 23185
CATEGORIES:Attorney Available,Outreach
END:VEVENT
BEGIN:VEVENT
DTSTART;TZID=America/New_York:20260319T133000
DTEND;TZID=America/New_York:20260319T153000
DTSTAMP:20260421T005707
CREATED:20250801T191406Z
LAST-MODIFIED:20250801T191406Z
UID:10002109-1773927000-1773934200@laseva.org
SUMMARY:Young Terrace Community Center
DESCRIPTION:A member of the LASEV Community Support Team will be available to take applications for service and share information about upcoming events.
URL:https://laseva.org/event/young-terrace-community-center-2/2026-03-19/
LOCATION:Young Terrace Community Center\, 804 Whitaker Ln\, Norfolk\, VA\, 23510
CATEGORIES:Outreach
END:VEVENT
BEGIN:VEVENT
DTSTART;TZID=America/New_York:20260320T130000
DTEND;TZID=America/New_York:20260320T150000
DTSTAMP:20260421T005707
CREATED:20250630T135729Z
LAST-MODIFIED:20250801T200918Z
UID:10002229-1774011600-1774018800@laseva.org
SUMMARY:The Community Feed at Jordan-Newby
DESCRIPTION:LASEV will be available to take applications for service and share information about upcoming events.
URL:https://laseva.org/event/the-community-feed-at-jordan-newby-2/2026-03-20/
LOCATION:The Community Feed at Jordan Newby\, 961 Park Ave\, Norfolk\, VA\, 23504
CATEGORIES:Outreach
ATTACH;FMTTYPE=image/png:https://laseva.org/wp-content/uploads/2025/06/The-community-feed-at-Jordan-newby.png
END:VEVENT
BEGIN:VEVENT
DTSTART;TZID=America/New_York:20260325T093000
DTEND;TZID=America/New_York:20260325T110000
DTSTAMP:20260421T005707
CREATED:20260203T121728Z
LAST-MODIFIED:20260203T121729Z
UID:10002304-1774431000-1774436400@laseva.org
SUMMARY:Basilica of St. Mary of the Immaculate Conception Pantry
DESCRIPTION:A member of our Community Support Team will be available to take applications for services.
URL:https://laseva.org/event/basilica-of-st-mary-of-the-immaculate-conception-pantry-4-3/2026-03-25/
LOCATION:Basilica of St. Mary of the Immaculate Conception\, 232 Chapel Street\, Norfolk\, VA\, 23504
CATEGORIES:Attorney Available,Outreach
ATTACH;FMTTYPE=image/png:https://laseva.org/wp-content/uploads/2025/06/Bascilica-of-St-Marys-Pantry.png
END:VEVENT
BEGIN:VEVENT
DTSTART;TZID=America/New_York:20260325T093000
DTEND;TZID=America/New_York:20260325T113000
DTSTAMP:20260421T005707
CREATED:20250630T133152Z
LAST-MODIFIED:20250630T133152Z
UID:10000186-1774431000-1774438200@laseva.org
SUMMARY:Star of the Sea
DESCRIPTION:A Disability Rights Unit/ Homeless Outreach Project department staff attorney will be available to provide free legal consultation\, advice\, and intake for services.
URL:https://laseva.org/event/star-of-the-sea/2026-03-25/
LOCATION:Star of the Sea\, 1404 Pacific Ave\, Virginia Beach\, VA\, 23451
CATEGORIES:Attorney Available,Outreach
END:VEVENT
END:VCALENDAR