BEGIN:VCALENDAR
VERSION:2.0
PRODID:-// - ECPv6.15.20//NONSGML v1.0//EN
CALSCALE:GREGORIAN
METHOD:PUBLISH
X-ORIGINAL-URL:https://laseva.org
X-WR-CALDESC:Events for 
REFRESH-INTERVAL;VALUE=DURATION:PT1H
X-Robots-Tag:noindex
X-PUBLISHED-TTL:PT1H
BEGIN:VTIMEZONE
TZID:America/New_York
BEGIN:DAYLIGHT
TZOFFSETFROM:-0500
TZOFFSETTO:-0400
TZNAME:EDT
DTSTART:20250309T070000
END:DAYLIGHT
BEGIN:STANDARD
TZOFFSETFROM:-0400
TZOFFSETTO:-0500
TZNAME:EST
DTSTART:20251102T060000
END:STANDARD
BEGIN:DAYLIGHT
TZOFFSETFROM:-0500
TZOFFSETTO:-0400
TZNAME:EDT
DTSTART:20260308T070000
END:DAYLIGHT
BEGIN:STANDARD
TZOFFSETFROM:-0400
TZOFFSETTO:-0500
TZNAME:EST
DTSTART:20261101T060000
END:STANDARD
BEGIN:DAYLIGHT
TZOFFSETFROM:-0500
TZOFFSETTO:-0400
TZNAME:EDT
DTSTART:20270314T070000
END:DAYLIGHT
BEGIN:STANDARD
TZOFFSETFROM:-0400
TZOFFSETTO:-0500
TZNAME:EST
DTSTART:20271107T060000
END:STANDARD
END:VTIMEZONE
BEGIN:VEVENT
DTSTART;TZID=America/New_York:20260403T130000
DTEND;TZID=America/New_York:20260403T150000
DTSTAMP:20260421T040930
CREATED:20260331T150433Z
LAST-MODIFIED:20260331T150433Z
UID:10003031-1775221200-1775228400@laseva.org
SUMMARY:Northampton DSS
DESCRIPTION:A member of the LASEV Eastern Shore office will be available to take applications for services.
URL:https://laseva.org/event/northampton-dss/
LOCATION:Northampton DSS\, 5265 The Hornes\, Eastville\, VA\, United States
END:VEVENT
BEGIN:VEVENT
DTSTART;TZID=America/New_York:20260403T140000
DTEND;TZID=America/New_York:20260403T160000
DTSTAMP:20260421T040930
CREATED:20250701T153826Z
LAST-MODIFIED:20250701T162348Z
UID:10001739-1775224800-1775232000@laseva.org
SUMMARY:Portsmouth Main Library
DESCRIPTION:LASEV Director\, Raymond Hartz\, Esq. or Deputy Director\, Melissa Bonfiglio\, Esq. will be available to provide free legal consult\, advice\, and intake for services.
URL:https://laseva.org/event/portsmouth-main-library-2/2026-04-03/
LOCATION:Portsmouth Main Library\, 601 Court St\, Portsmouth\, VA\, 23704
CATEGORIES:Attorney Available,Outreach
ATTACH;FMTTYPE=image/png:https://laseva.org/wp-content/uploads/2025/07/Portsmouth-Main-library.png
END:VEVENT
END:VCALENDAR